BEGIN:VCALENDAR
VERSION:2.0
PRODID:-//Find Upcoming Comedy Shows Near You | Comedy Calendar - ECPv6.15.20//NONSGML v1.0//EN
CALSCALE:GREGORIAN
METHOD:PUBLISH
X-WR-CALNAME:Find Upcoming Comedy Shows Near You | Comedy Calendar
X-ORIGINAL-URL:https://comedycalendar.com
X-WR-CALDESC:Events for Find Upcoming Comedy Shows Near You | Comedy Calendar
REFRESH-INTERVAL;VALUE=DURATION:PT1H
X-Robots-Tag:noindex
X-PUBLISHED-TTL:PT1H
BEGIN:VTIMEZONE
TZID:America/New_York
BEGIN:DAYLIGHT
TZOFFSETFROM:-0500
TZOFFSETTO:-0400
TZNAME:EDT
DTSTART:20250309T070000
END:DAYLIGHT
BEGIN:STANDARD
TZOFFSETFROM:-0400
TZOFFSETTO:-0500
TZNAME:EST
DTSTART:20251102T060000
END:STANDARD
BEGIN:DAYLIGHT
TZOFFSETFROM:-0500
TZOFFSETTO:-0400
TZNAME:EDT
DTSTART:20260308T070000
END:DAYLIGHT
BEGIN:STANDARD
TZOFFSETFROM:-0400
TZOFFSETTO:-0500
TZNAME:EST
DTSTART:20261101T060000
END:STANDARD
BEGIN:DAYLIGHT
TZOFFSETFROM:-0500
TZOFFSETTO:-0400
TZNAME:EDT
DTSTART:20270314T070000
END:DAYLIGHT
BEGIN:STANDARD
TZOFFSETFROM:-0400
TZOFFSETTO:-0500
TZNAME:EST
DTSTART:20271107T060000
END:STANDARD
END:VTIMEZONE
BEGIN:VEVENT
DTSTART;TZID=America/New_York:20260520T193000
DTEND;TZID=America/New_York:20260520T213000
DTSTAMP:20260420T112040
CREATED:20260302T050000Z
LAST-MODIFIED:20260302T050000Z
UID:10002502-1779305400-1779312600@comedycalendar.com
SUMMARY:Jim Breuer LIVE at Wells Hall at The Parker
DESCRIPTION:This post contains affiliate links. We earn a commission if you purchase tickets through our links at no extra cost to you. \nOfficial Tickets (Ticketmaster) \nJim Breuer LIVE at Wells Hall at The Parker\nExperience the hilarious comedy of Jim Breuer\, a beloved stand-up comedian known for his energetic performances and memorable characters. His “Find The Funny” tour brings high-energy comedy and infectious laughter to Wells Hall at The Parker. This is a must-see for fans of classic stand-up comedy. \nEvent Details\nDate: Wednesday\, May 20\, 2026\nTime: 7:30 PM\nVenue: Wells Hall at The Parker\nAddress: 707 NE 8th Street\, Ft Lauderdale\, FL 33304\nAge Requirement: 18+ \nAbout Jim Breuer\nJim Breuer is a legendary stand-up comedian\, actor\, and podcaster known for his energetic performances and memorable characters. With decades of experience in comedy\, Jim has built a devoted fanbase through his authentic humor and engaging stage presence. His “Find The Funny” tour showcases his ability to connect with audiences and deliver consistent laughs. \nWhat to Expect\n\nHigh-energy stand-up comedy performance\nMemorable characters and impressions\nInteractive audience engagement\nApproximately 90 minutes of comedy\nA night of authentic\, relatable humor\nProfessional sound and lighting at Wells Hall\n\nVenue Information\nWells Hall at The Parker is a premier performance venue in Fort Lauderdale featuring excellent acoustics\, comfortable seating\, and great sightlines. The venue is easily accessible with convenient parking options available nearby. \nTicket Information\nTickets for Jim Breuer’s “Find The Funny” tour at Wells Hall are available now. Pricing ranges from $40 to $85 depending on seat location. VIP packages may be available for premium seating and exclusive perks. \nOfficial Tickets (Ticketmaster) \nResale Tickets (VividSeats) \nThis post contains affiliate links. We earn a commission if you purchase tickets through our links at no extra cost to you. \nAll sales are final. Show times subject to change. Valid photo ID may be required for entry.
URL:https://comedycalendar.com/event/jim-breuer-live-at-wells-hall-at-the-parker/
LOCATION:Wells Hall at The Parker\, 707 NE 8th Street\, Ft Lauderdale\, Florida\, 33304\, United States
ATTACH;FMTTYPE=image/jpeg:https://comedycalendar.com/wp-content/uploads/2026/03/9d7ff4a2-2fb3-4b70-9ad6-b5b9a2518e0e_1392761_TABLET_LANDSCAPE_LARGE_16_9-4vSHzi.jpg
GEO:26.1343077;-80.1361914
X-APPLE-STRUCTURED-LOCATION;VALUE=URI;X-ADDRESS=Wells Hall at The Parker 707 NE 8th Street Ft Lauderdale Florida 33304 United States;X-APPLE-RADIUS=500;X-TITLE=707 NE 8th Street:geo:-80.1361914,26.1343077
END:VEVENT
BEGIN:VEVENT
DTSTART;TZID=America/New_York:20260725T190000
DTEND;TZID=America/New_York:20260725T220000
DTSTAMP:20260420T112040
CREATED:20260330T035257Z
LAST-MODIFIED:20260330T035257Z
UID:10004510-1785006000-1785016800@comedycalendar.com
SUMMARY:Adam Ray: WHO IS ME Tour LIVE at Wells Hall at The Parker
DESCRIPTION:This post contains affiliate links. We earn a commission if you purchase tickets through our links at no extra cost to you. \nOfficial Tickets\nResale Tickets \nAdam Ray: WHO IS ME Tour LIVE at Wells Hall at The Parker\nComedian and actor Adam Ray brings his hilarious WHO IS ME Tour to the intimate and acclaimed Wells Hall at The Parker in Fort Lauderdale on Saturday\, July 25\, 2026. Best known for his viral portrayal of Dr. Phil and his roles in major films and TV shows\, Adam Ray delivers a high-energy stand-up experience packed with crowd interaction\, surprise characters\, and non-stop laughs. This is an 18+ event. \nEvent Details\nDate: Saturday\, July 25\, 2026\nTime: 7:00 PM (Doors open at 6:00 PM)\nVenue: Wells Hall at The Parker (Lillian S. Wells Hall)\nAddress: 707 NE 8th Street\, Fort Lauderdale\, FL 33304\nAge Requirement: 18+ (Adult language and content)\nParking: Complimentary parking available; Valet $10–$15 \nAbout Adam Ray\nAdam Ray is a comedian\, actor\, and podcaster best known for his uncanny impression of Dr. Phil\, which has garnered over 10 million views online. He has appeared in The Barbie Movie\, Curb Your Enthusiasm\, MadTV\, Hacks\, Pam & Tommy\, and The Heat. His live show blends stand-up comedy with wild crowd interactions\, celebrity impressions\, and surprise guest appearances. \nWhat to Expect\n\nHilarious stand-up comedy from one of Hollywood’s most versatile comedians\nAdam Ray’s viral Dr. Phil impression performed live\nWild crowd interactions and audience participation\nSurprise characters and celebrity impressions\nLate-night talk show energy in a live comedy setting\nAdult language and mature content — 18+ only\n\nVenue Information\nWells Hall at The Parker (Lillian S. Wells Hall) is Fort Lauderdale’s premier performing arts venue\, located at 707 NE 8th Street. The Parker offers complimentary parking\, valet services\, premium club experiences (The Haller Club and The Place To Be)\, and excellent sightlines from every seat. \nTicket Information\nTickets start from $51 and are available now through Ticketmaster (official) and VividSeats (resale). This event is part of the Truist Comedy Series. Ticket limit of 8 per person. All-inclusive pricing applies. \nOfficial Tickets\nResale Tickets \nThis post contains affiliate links. We earn a commission if you purchase tickets through our links at no extra cost to you. \nAll sales are final. Show times subject to change. Valid photo ID may be required for entry.
URL:https://comedycalendar.com/event/adam-ray-who-is-me-tour-live-at-wells-hall-at-the-parker/
LOCATION:Wells Hall at The Parker\, 707 NE 8th Street\, Ft Lauderdale\, Florida\, 33304\, United States
ATTACH;FMTTYPE=image/jpeg:https://comedycalendar.com/wp-content/uploads/2026/03/a01d8edf-195c-4361-b3ce-7836d62f08d6_TABLET_LANDSCAPE_LARGE_16_9-LAJquy.jpg
GEO:26.1343077;-80.1361914
X-APPLE-STRUCTURED-LOCATION;VALUE=URI;X-ADDRESS=Wells Hall at The Parker 707 NE 8th Street Ft Lauderdale Florida 33304 United States;X-APPLE-RADIUS=500;X-TITLE=707 NE 8th Street:geo:-80.1361914,26.1343077
END:VEVENT
BEGIN:VEVENT
DTSTART;TZID=America/New_York:20261103T190000
DTEND;TZID=America/New_York:20261103T210000
DTSTAMP:20260420T112040
CREATED:20260303T221828Z
LAST-MODIFIED:20260303T221828Z
UID:10002506-1793732400-1793739600@comedycalendar.com
SUMMARY:Daniel Sloss LIVE at Wells Hall at The Parker
DESCRIPTION:This post contains affiliate links. We earn a commission if you purchase tickets through our links at no extra cost to you. \nOfficial TicketsResale Tickets \nDaniel Sloss LIVE at Wells Hall at The Parker\nScottish comedian Daniel Sloss brings his brand new tour “BITTER” to Fort Lauderdale. Known for his sharp wit and engaging storytelling\, Sloss delivers an unforgettable evening of stand-up comedy that resonates with audiences worldwide. \nEvent Details\nDate: Tuesday\, November 3\, 2026Time: 7:00 PMVenue: Wells Hall at The ParkerAddress: 707 NE 8th Street\, Fort Lauderdale\, FL 33304Age Requirement: General Admission \nAbout Daniel Sloss\nDaniel Sloss is an award-winning Scottish stand-up comedian and actor known for his critically acclaimed comedy specials and tours. His unique perspective and relatable humor have made him a favorite on the international comedy circuit. \nWhat to Expect\n\nSharp\, witty stand-up comedy\nEngaging storytelling and observations\nInteractive audience moments\nAn evening of laughter and entertainment\n\nVenue Information\nWells Hall at The Parker is a premier performance venue in Fort Lauderdale\, offering an intimate setting for comedy shows and theatrical performances. Located in the heart of downtown\, the venue provides excellent acoustics and comfortable seating. \nTicket Information\nTickets are available through Ticketmaster and VividSeats. Prices start at $58 for standard admission. Purchase your tickets early to secure the best seats. \nOfficial TicketsResale Tickets \nThis post contains affiliate links. We earn a commission if you purchase tickets through our links at no extra cost to you.All sales are final. Show times subject to change. Valid photo ID may be required for entry.
URL:https://comedycalendar.com/event/daniel-sloss-live-at-wells-hall-at-the-parker/
LOCATION:Wells Hall at The Parker\, 707 NE 8th Street\, Ft Lauderdale\, Florida\, 33304\, United States
ATTACH;FMTTYPE=image/jpeg:https://media.ticketmaster.com/en-us/dam/a/cfa/e476394e-b2ce-4a11-8230-879e15686cfa_CUSTOM.jpg
GEO:26.1343077;-80.1361914
X-APPLE-STRUCTURED-LOCATION;VALUE=URI;X-ADDRESS=Wells Hall at The Parker 707 NE 8th Street Ft Lauderdale Florida 33304 United States;X-APPLE-RADIUS=500;X-TITLE=707 NE 8th Street:geo:-80.1361914,26.1343077
END:VEVENT
BEGIN:VEVENT
DTSTART;TZID=America/New_York:20261119T190000
DTEND;TZID=America/New_York:20261119T210000
DTSTAMP:20260420T112040
CREATED:20260223T120000Z
LAST-MODIFIED:20260223T134438Z
UID:10002454-1795114800-1795122000@comedycalendar.com
SUMMARY:Dusty Slay The Neighborhood Guy LIVE at Wells Hall at The Parker
DESCRIPTION:This post contains affiliate links. We earn a commission if you purchase tickets through our links at no extra cost to you. \nOfficial Tickets (Ticketmaster) \nResale Tickets (VividSeats) \nDusty Slay The Neighborhood Guy LIVE at Wells Hall at The Parker\nDusty Slay is a celebrated stand-up comedian known for his Southern storytelling style and laid-back humor. He brings his hilarious Neighborhood Guy tour to Fort Lauderdale for an unforgettable evening of comedy and entertainment. \nEvent Details\nDate: November 19\, 2026\nTime: 7:00 PM\nVenue: Wells Hall at The Parker\nAddress: 707 NE 8th Street\, Ft Lauderdale\, FL 33304\nAge Requirement: All ages \nAbout Dusty Slay\nDusty Slay is an accomplished stand-up comedian known for his unique Southern perspective and relatable storytelling. His comedy explores everyday life with humor and authenticity\, building a loyal following through his distinctive comedic style and engaging performances. \nWhat to Expect\n\nHilarious stand-up comedy from a celebrated performer\nSouthern storytelling and laid-back humor\nRelatable observations about everyday life\nAn evening of laughter and entertainment\nComedy that resonates with audiences of all backgrounds\n\nVenue Information\nWells Hall at The Parker is a premier performance venue in Fort Lauderdale\, hosting world-class entertainment including comedy\, theater\, and music. The intimate setting provides an excellent experience for stand-up comedy performances. \nTicket Information\nTickets are available starting at $35 and range up to $65 depending on seating. Purchase your tickets through Ticketmaster for official sales or VividSeats for resale options. \nOfficial Tickets (Ticketmaster) \nResale Tickets (VividSeats) \nThis post contains affiliate links. We earn a commission if you purchase tickets through our links at no extra cost to you. \nAll sales are final. Show times subject to change. Valid photo ID may be required for entry.
URL:https://comedycalendar.com/event/dusty-slay-the-neighborhood-guy-live-at-wells-hall-at-the-parker/
LOCATION:Wells Hall at The Parker\, 707 NE 8th Street\, Ft Lauderdale\, Florida\, 33304\, United States
ATTACH;FMTTYPE=image/jpeg:https://s1.ticketm.net/dam/a/fb7/7676e48b-a052-44f1-b0de-88945057ffb7_RETINA_PORTRAIT_3_2.jpg
GEO:26.1343077;-80.1361914
X-APPLE-STRUCTURED-LOCATION;VALUE=URI;X-ADDRESS=Wells Hall at The Parker 707 NE 8th Street Ft Lauderdale Florida 33304 United States;X-APPLE-RADIUS=500;X-TITLE=707 NE 8th Street:geo:-80.1361914,26.1343077
END:VEVENT
END:VCALENDAR