BEGIN:VCALENDAR
VERSION:2.0
PRODID:-//Find Upcoming Comedy Shows Near You | Comedy Calendar - ECPv6.15.20//NONSGML v1.0//EN
CALSCALE:GREGORIAN
METHOD:PUBLISH
X-WR-CALNAME:Find Upcoming Comedy Shows Near You | Comedy Calendar
X-ORIGINAL-URL:https://comedycalendar.com
X-WR-CALDESC:Events for Find Upcoming Comedy Shows Near You | Comedy Calendar
REFRESH-INTERVAL;VALUE=DURATION:PT1H
X-Robots-Tag:noindex
X-PUBLISHED-TTL:PT1H
BEGIN:VTIMEZONE
TZID:America/New_York
BEGIN:DAYLIGHT
TZOFFSETFROM:-0500
TZOFFSETTO:-0400
TZNAME:EDT
DTSTART:20250309T070000
END:DAYLIGHT
BEGIN:STANDARD
TZOFFSETFROM:-0400
TZOFFSETTO:-0500
TZNAME:EST
DTSTART:20251102T060000
END:STANDARD
BEGIN:DAYLIGHT
TZOFFSETFROM:-0500
TZOFFSETTO:-0400
TZNAME:EDT
DTSTART:20260308T070000
END:DAYLIGHT
BEGIN:STANDARD
TZOFFSETFROM:-0400
TZOFFSETTO:-0500
TZNAME:EST
DTSTART:20261101T060000
END:STANDARD
BEGIN:DAYLIGHT
TZOFFSETFROM:-0500
TZOFFSETTO:-0400
TZNAME:EDT
DTSTART:20270314T070000
END:DAYLIGHT
BEGIN:STANDARD
TZOFFSETFROM:-0400
TZOFFSETTO:-0500
TZNAME:EST
DTSTART:20271107T060000
END:STANDARD
END:VTIMEZONE
BEGIN:VEVENT
DTSTART;TZID=America/New_York:20260509T200000
DTEND;TZID=America/New_York:20260509T230000
DTSTAMP:20260425T094609
CREATED:20260319T163401Z
LAST-MODIFIED:20260319T195553Z
UID:10003358-1778356800-1778367600@comedycalendar.com
SUMMARY:We Them Ones Comedy Tour LIVE at Toyota Center Houston
DESCRIPTION:This post contains affiliate links. We earn a commission if you purchase tickets through our links at no extra cost to you. \nOfficial Tickets\nResale Tickets \nWe Them Ones Comedy Tour LIVE at Toyota Center Houston\nThe biggest comedy tour of 2026 rolls into Houston! The We Them Ones Comedy Tour brings an all-star lineup to Toyota Center on May 9\, 2026\, featuring Mike Epps\, DC Young Fly\, Karlous Miller\, Chico Bean\, Mojo Brookzz\, Tony Roberts\, TK Kirkland\, and more for a massive night of laughs. \nEvent Details\nDate: Saturday\, May 9\, 2026\nTime: 8:00 PM CDT\nVenue: Toyota Center\nAddress: 1510 Polk St\, Houston\, TX 77002\nAge Requirement: All Ages \nAbout We Them Ones Comedy Tour\nThe We Them Ones Comedy Tour is one of the hottest comedy tours in the country\, bringing together the biggest names in urban comedy for one unforgettable night. Headlined by the legendary Mike Epps alongside fan favorites DC Young Fly\, Karlous Miller\, and Chico Bean\, this tour has been selling out arenas across the nation. Houston’s Toyota Center is set to be one of the most electric stops on the tour. \nWhat to Expect\n\nAll-star comedy lineup headlined by Mike Epps\nDC Young Fly\, Karlous Miller\, Chico Bean & more\nArena-scale comedy experience at Toyota Center\nHigh-energy performances from the biggest names in comedy\nAn unforgettable Saturday night in downtown Houston\nOne of the hottest comedy events of 2026\n\nVenue Information\nToyota Center is Houston’s premier sports and entertainment arena\, located in the heart of downtown at 1510 Polk Street. Home to the Houston Rockets\, the venue hosts world-class events and offers excellent sightlines from every seat. \nTicket Information\nTickets start from $113. All ages welcome. Doors open prior to show time. No refunds or exchanges unless the event is cancelled or postponed. \nOfficial Tickets\nResale Tickets \nThis post contains affiliate links. We earn a commission if you purchase tickets through our links at no extra cost to you. \nAll sales are final. Show times subject to change. Valid photo ID may be required for entry.
URL:https://comedycalendar.com/event/we-them-ones-comedy-tour-live-at-toyota-center-houston/
LOCATION:Toyota Center\, 1510 Polk St\, Houston\, TX\, 77002\, United States
CATEGORIES:Stand Up Comedy
ATTACH;FMTTYPE=image/jpeg:https://s1.ticketm.net/dam/a/05b/e9588798-f82a-4795-8aa6-123fa6c9305b_EVENT_DETAIL_PAGE_16_9.jpg
GEO:29.7509069;-95.3620611
X-APPLE-STRUCTURED-LOCATION;VALUE=URI;X-ADDRESS=Toyota Center 1510 Polk St Houston TX 77002 United States;X-APPLE-RADIUS=500;X-TITLE=1510 Polk St:geo:-95.3620611,29.7509069
END:VEVENT
END:VCALENDAR