BEGIN:VCALENDAR
VERSION:2.0
PRODID:-//Find Upcoming Comedy Shows Near You | Comedy Calendar - ECPv6.15.20//NONSGML v1.0//EN
CALSCALE:GREGORIAN
METHOD:PUBLISH
X-WR-CALNAME:Find Upcoming Comedy Shows Near You | Comedy Calendar
X-ORIGINAL-URL:https://comedycalendar.com
X-WR-CALDESC:Events for Find Upcoming Comedy Shows Near You | Comedy Calendar
REFRESH-INTERVAL;VALUE=DURATION:PT1H
X-Robots-Tag:noindex
X-PUBLISHED-TTL:PT1H
BEGIN:VTIMEZONE
TZID:America/New_York
BEGIN:DAYLIGHT
TZOFFSETFROM:-0500
TZOFFSETTO:-0400
TZNAME:EDT
DTSTART:20250309T070000
END:DAYLIGHT
BEGIN:STANDARD
TZOFFSETFROM:-0400
TZOFFSETTO:-0500
TZNAME:EST
DTSTART:20251102T060000
END:STANDARD
BEGIN:DAYLIGHT
TZOFFSETFROM:-0500
TZOFFSETTO:-0400
TZNAME:EDT
DTSTART:20260308T070000
END:DAYLIGHT
BEGIN:STANDARD
TZOFFSETFROM:-0400
TZOFFSETTO:-0500
TZNAME:EST
DTSTART:20261101T060000
END:STANDARD
BEGIN:DAYLIGHT
TZOFFSETFROM:-0500
TZOFFSETTO:-0400
TZNAME:EDT
DTSTART:20270314T070000
END:DAYLIGHT
BEGIN:STANDARD
TZOFFSETFROM:-0400
TZOFFSETTO:-0500
TZNAME:EST
DTSTART:20271107T060000
END:STANDARD
END:VTIMEZONE
BEGIN:VEVENT
DTSTART;TZID=America/New_York:20260620T203000
DTEND;TZID=America/New_York:20260620T230000
DTSTAMP:20260420T094452
CREATED:20260328T210000Z
LAST-MODIFIED:20260328T210000Z
UID:10004354-1781987400-1781996400@comedycalendar.com
SUMMARY:Josh Johnson's Comedy Band Camp LIVE at Steven Tanger Center
DESCRIPTION:Official TicketsResale Tickets \nThis post contains affiliate links. We may earn a commission at no extra cost to you. \nAbout the Performer\nJosh Johnson is a rising star in stand-up comedy\, best known for his sharp wit\, incisive social commentary\, and a delivery style that blends intellectual humor with genuine warmth. A regular on The Daily Show and a frequent presence on late-night television\, Josh has quickly established himself as one of the most exciting voices in comedy today. \nHis Comedy Band Camp tour is a one-of-a-kind live experience that fuses stand-up comedy with live music performance\, creating a show that feels like a community event — the energy of a concert combined with the laughs of a great comedy night. Josh brings together musicians and comedians in a format that is entirely his own. \nWhether you know Josh from TV or are discovering him for the first time\, Comedy Band Camp is a show that defies easy description and delivers something truly special. \nEvent Details\n\nDate: Saturday\, June 20\, 2026\nTime: 8:30 PM EDT\nVenue: Steven Tanger Center for the Performing Arts\nAddress: 300 North Elm Street\, Greensboro\, NC 27401\nAge Restrictions: All Ages (content may not be suitable for young children)\n\nAbout the Venue\nThe Steven Tanger Center for the Performing Arts is Greensboro’s crown jewel of live entertainment\, situated in the heart of downtown at 300 North Elm Street. Since opening in 2021\, this modern 3\,000-seat venue has become one of the most acclaimed mid-size performing arts centers in the Southeast. \nThe Tanger Center features exceptional acoustics\, multiple seating tiers including orchestra\, loge\, and grand tier levels\, and a beautifully designed interior that enhances every performance. Guests enjoy access to multiple bars\, concession areas\, and premium amenities throughout the venue. \nDowntown Greensboro offers plenty of dining and parking options nearby\, making the Tanger Center an ideal destination for a full evening out. The venue’s intimate scale ensures that even seats further from the stage feel close to the action. \nWhat to Expect\nJosh Johnson’s Comedy Band Camp is not your typical stand-up show. This unique format blends live stand-up comedy with live musical performance\, creating an immersive experience that feels like being part of one big\, hilarious band. \nExpect Josh to guide the audience through a night of laughs\, music\, and community — a show that celebrates the joy of being in a room full of people sharing something together. The format is fresh\, the energy is high\, and the laughs are guaranteed. \nDoors open approximately one hour before showtime. This is a late-night show starting at 8:30 PM\, so plan accordingly and arrive early to get settled before the fun begins. \nTicket Information\nPrice Range: $49 – $121 (before fees) \nTickets are available through Ticketmaster (official) and VividSeats (resale). Resale ticket prices may vary from face value. \nOfficial TicketsResale Tickets
URL:https://comedycalendar.com/event/josh-johnsons-comedy-band-camp-live-at-steven-tanger-center/
LOCATION:Steven Tanger Center for the Performing Arts\, 300 North Elm Street\, Greensboro\, North Carolina\, 27401\, United States
ATTACH;FMTTYPE=image/jpeg:https://media.ticketmaster.com/en-us/dam/a/a1f/6aec4b02-7063-4485-bcc9-242f0eef6a1f_CUSTOM.jpg
GEO:36.0751571;-79.7896113
X-APPLE-STRUCTURED-LOCATION;VALUE=URI;X-ADDRESS=Steven Tanger Center for the Performing Arts 300 North Elm Street Greensboro North Carolina 27401 United States;X-APPLE-RADIUS=500;X-TITLE=300 North Elm Street:geo:-79.7896113,36.0751571
END:VEVENT
BEGIN:VEVENT
DTSTART;TZID=America/New_York:20260620T203000
DTEND;TZID=America/New_York:20260620T230000
DTSTAMP:20260420T094452
CREATED:20260328T220000Z
LAST-MODIFIED:20260328T220000Z
UID:10004357-1781987400-1781996400@comedycalendar.com
SUMMARY:Josh Johnson's Comedy Band Camp LIVE at Steven Tanger Center for the Performing Arts
DESCRIPTION:Official TicketsResale Tickets \nThis post contains affiliate links. We may earn a commission at no extra cost to you. \nAbout the Performer\nJosh Johnson is a rising star in the world of stand-up comedy\, best known for his sharp wit\, musical sensibility\, and unique ability to blend comedy with live performance. A regular on The Daily Show and a celebrated touring comedian\, Johnson has built a devoted following with his intelligent\, boundary-pushing humor. \nJohnson’s Comedy Band Camp is a one-of-a-kind show that merges stand-up comedy with live music in a way that feels like a community event. The concept draws on the camaraderie of being in a band together\, creating an atmosphere that is both hilarious and musically vibrant. \nHis comedy style is cerebral\, observational\, and deeply original. Fans of smart comedy and live music will find this show to be a truly unforgettable experience unlike anything else on the touring circuit. \nEvent Details\n\nDate: Saturday\, June 20\, 2026\nShow Time: 8:30 PM (Doors open at 7:30 PM)\nVenue: Steven Tanger Center for the Performing Arts\, 300 North Elm Street\, Greensboro\, NC 27401\nTicket Price Range: $45 – $121\nAge Restrictions: All ages welcome\n\nAbout the Venue\nThe Steven Tanger Center for the Performing Arts is Greensboro’s crown jewel of live entertainment\, located at 300 North Elm Street in the heart of downtown Greensboro. Opened in 2021\, this state-of-the-art venue seats approximately 3\,000 guests and was designed with acoustics and sightlines as top priorities. \nThe Tanger Center features a stunning modern design with a warm\, intimate atmosphere that makes every seat feel close to the stage. Amenities include premium concessions\, full-service bars\, accessible seating\, and a beautiful lobby perfect for pre-show mingling. The venue is conveniently located in downtown Greensboro with nearby parking decks and street parking available. \nWhether you’re in the orchestra\, mezzanine\, or balcony\, the Tanger Center delivers an exceptional live performance experience. Its intimate scale compared to larger arenas means you’ll feel genuinely connected to the performer on stage. \nWhat to Expect\nJosh Johnson’s Comedy Band Camp is not your typical stand-up show. This unique production combines stand-up comedy with live musical performances\, creating an immersive experience that feels like being part of a big\, hilarious band rehearsal. \nExpect a high-energy evening filled with sharp jokes\, musical interludes\, and the kind of spontaneous moments that only happen when comedy and live music collide. The show runs approximately 90 minutes and is designed to feel like a communal celebration of creativity and laughter. \nThis is a perfect show for comedy fans\, music lovers\, and anyone looking for something fresh and different. Arrive early to soak in the downtown Greensboro atmosphere and grab a drink before the show begins. \nTicket Information\nPrice Range: $45 – $121 (plus applicable fees) \nTickets are available through Ticketmaster (official) and VividSeats (resale). Note: Primary tickets may be sold out — check VividSeats for resale availability. \nOfficial TicketsResale Tickets \nThis post contains affiliate links. We may earn a commission at no extra cost to you.
URL:https://comedycalendar.com/event/josh-johnsons-comedy-band-camp-live-at-steven-tanger-center-2/
LOCATION:Steven Tanger Center for the Performing Arts\, 300 North Elm Street\, Greensboro\, North Carolina\, 27401\, United States
ATTACH;FMTTYPE=image/jpeg:https://media.ticketmaster.com/en-us/dam/a/a1f/6aec4b02-7063-4485-bcc9-242f0eef6a1f_CUSTOM.jpg
GEO:36.0751571;-79.7896113
X-APPLE-STRUCTURED-LOCATION;VALUE=URI;X-ADDRESS=Steven Tanger Center for the Performing Arts 300 North Elm Street Greensboro North Carolina 27401 United States;X-APPLE-RADIUS=500;X-TITLE=300 North Elm Street:geo:-79.7896113,36.0751571
END:VEVENT
BEGIN:VEVENT
DTSTART;TZID=America/New_York:20261023T190000
DTEND;TZID=America/New_York:20261023T213000
DTSTAMP:20260420T094452
CREATED:20260328T220000Z
LAST-MODIFIED:20260328T220000Z
UID:10004368-1792782000-1792791000@comedycalendar.com
SUMMARY:Nikki Glaser: The Stunning Tour LIVE at Steven Tanger Center for the Performing Arts
DESCRIPTION:This post contains affiliate links. We earn a commission if you purchase tickets through our links at no extra cost to you. \nOfficial Tickets\nResale Tickets \nNikki Glaser: The Stunning Tour LIVE at Steven Tanger Center for the Performing Arts\nAward-winning comedian and TV host Nikki Glaser brings her highly anticipated Stunning Tour to Steven Tanger Center for the Performing Arts in Greensboro\, NC for one night of sharp\, fearless\, and brilliantly funny stand-up comedy. \nEvent Details\nDate: Friday\, October 23\, 2026\nTime: 7:00 PM ET\nVenue: Steven Tanger Center for the Performing Arts\nAddress: 300 North Elm Street\, Greensboro\, NC 27401\nAge Requirement: All Ages Welcome \nAbout Nikki Glaser\nNikki Glaser is one of the funniest and most fearless comedians working today\, known for her Netflix specials\, her acclaimed roast performances\, and her role as host of the Golden Globes. She has appeared on Comedy Central\, HBO\, and numerous late-night shows\, and her stand-up specials have earned her a devoted global fanbase. Her Stunning Tour is one of the most anticipated comedy tours of 2026. \nWhat to Expect\n\nNikki Glaser’s signature sharp\, self-deprecating\, and fearlessly honest comedy\nNew material from The Stunning Tour\nHilarious observations on dating\, relationships\, and modern life\nAn intimate evening of world-class stand-up comedy\nOne of the hottest tickets in comedy for 2026\n\nVenue Information\nSteven Tanger Center for the Performing Arts is Greensboro’s premier performing arts venue\, located in the heart of downtown at 300 North Elm Street\, offering exceptional acoustics and an intimate atmosphere for world-class performances. \nTicket Information\nTickets are available now through Ticketmaster (official) and VividSeats (resale). Resale prices start from $49. Secure your seats early as Nikki Glaser’s shows consistently sell out. \nOfficial Tickets\nResale Tickets \nThis post contains affiliate links. We earn a commission if you purchase tickets through our links at no extra cost to you.\nAll sales are final. Show times subject to change. Valid photo ID may be required for entry.
URL:https://comedycalendar.com/event/nikki-glaser-the-stunning-tour-live-at-steven-tanger-center-3/
LOCATION:Steven Tanger Center for the Performing Arts\, 300 North Elm Street\, Greensboro\, North Carolina\, 27401\, United States
ATTACH;FMTTYPE=image/jpeg:https://s1.ticketm.net/dam/a/562/9b4d6bc8-b9b8-4eae-9600-39045f190562_EVENT_DETAIL_PAGE_16_9.jpg
GEO:36.0751571;-79.7896113
X-APPLE-STRUCTURED-LOCATION;VALUE=URI;X-ADDRESS=Steven Tanger Center for the Performing Arts 300 North Elm Street Greensboro North Carolina 27401 United States;X-APPLE-RADIUS=500;X-TITLE=300 North Elm Street:geo:-79.7896113,36.0751571
END:VEVENT
BEGIN:VEVENT
DTSTART;TZID=America/New_York:20261023T190000
DTEND;TZID=America/New_York:20261023T213000
DTSTAMP:20260420T094452
CREATED:20260328T222100Z
LAST-MODIFIED:20260328T222100Z
UID:10004363-1792782000-1792791000@comedycalendar.com
SUMMARY:Nikki Glaser: The Stunning Tour LIVE at Steven Tanger Center for the Performing Arts
DESCRIPTION:This post contains affiliate links. We earn a commission if you purchase tickets through our links at no extra cost to you. \nOfficial Tickets\nResale Tickets \nNikki Glaser: The Stunning Tour LIVE at Steven Tanger Center for the Performing Arts\nComedy superstar Nikki Glaser is bringing her highly anticipated The Stunning Tour to Steven Tanger Center for the Performing Arts in Greensboro\, NC on Friday\, October 23\, 2026. Fresh off her record-breaking success and viral moments\, Nikki is one of the hottest comedians in the world right now. \nEvent Details\nDate: Friday\, October 23\, 2026\nTime: 7:00 PM ET\nVenue: Steven Tanger Center for the Performing Arts\nAddress: 300 North Elm Street\, Greensboro\, NC 27401\nAge Requirement: All ages welcome \nAbout Nikki Glaser\nNikki Glaser is one of the funniest and most in-demand stand-up comedians working today. Known for her sharp wit\, fearless honesty\, and hilarious takes on relationships and pop culture\, she has starred in multiple Netflix specials\, hosted the Golden Globes\, and become a fixture on late-night television. Her The Stunning Tour is her biggest headline tour to date. \nWhat to Expect\n\nSharp\, fearless stand-up comedy from one of the best in the business\nNew material from The Stunning Tour\nHilarious takes on relationships\, pop culture\, and modern life\nAn intimate\, high-energy performance at the beautiful Tanger Center\nOne of the most talked-about comedy tours of 2026\nA night you won’t stop laughing about for weeks\n\nVenue Information\nSteven Tanger Center for the Performing Arts is Greensboro’s premier performing arts venue\, located in the heart of downtown at 300 North Elm Street. The state-of-the-art facility offers exceptional acoustics\, comfortable seating\, and a world-class experience for every performance. \nTicket Information\nTickets start from $49. This show is expected to sell out — don’t wait to grab your seats! Official tickets available via Ticketmaster; resale tickets available via VividSeats. \nOfficial Tickets\nResale Tickets \nThis post contains affiliate links. We earn a commission if you purchase tickets through our links at no extra cost to you.\nAll sales are final. Show times subject to change. Valid photo ID may be required for entry.
URL:https://comedycalendar.com/event/nikki-glaser-the-stunning-tour-live-at-steven-tanger-center-2/
LOCATION:Steven Tanger Center for the Performing Arts\, 300 North Elm Street\, Greensboro\, North Carolina\, 27401\, United States
ATTACH;FMTTYPE=image/jpeg:https://comedycalendar.com/wp-content/uploads/2026/03/9b4d6bc8-b9b8-4eae-9600-39045f190562_EVENT_DETAIL_PAGE_16_9-5eGLVz.jpg
GEO:36.0751571;-79.7896113
X-APPLE-STRUCTURED-LOCATION;VALUE=URI;X-ADDRESS=Steven Tanger Center for the Performing Arts 300 North Elm Street Greensboro North Carolina 27401 United States;X-APPLE-RADIUS=500;X-TITLE=300 North Elm Street:geo:-79.7896113,36.0751571
END:VEVENT
BEGIN:VEVENT
DTSTART;TZID=America/New_York:20261023T190000
DTEND;TZID=America/New_York:20261023T213000
DTSTAMP:20260420T094452
CREATED:20260401T040000Z
LAST-MODIFIED:20260401T040000Z
UID:10004517-1792782000-1792791000@comedycalendar.com
SUMMARY:Nikki Glaser: The Stunning Tour LIVE at Steven Tanger Center for the Performing Arts
DESCRIPTION:Official TicketsResale Tickets \nThis post contains affiliate links. We may earn a commission at no extra cost to you. \nAbout the Performer\nNikki Glaser is one of the most exciting and fearlessly funny stand-up comedians working today. Known for her razor-sharp wit\, brutally honest self-deprecating humor\, and unapologetic take on relationships\, dating\, and modern life\, Glaser has become a household name in comedy. \nShe rose to national prominence through her Netflix specials\, her hit podcast The Nikki Glaser Podcast\, and her acclaimed roast appearances — most notably her legendary performance at the Tom Brady Netflix Roast\, which went viral and cemented her status as one of comedy’s elite performers. \nGlaser’s comedy is sharp\, personal\, and deeply relatable. Fans can expect a high-energy performance packed with clever observations\, candid storytelling\, and the kind of fearless humor that has made her one of the most talked-about comedians of her generation. \nEvent Details\nDate: Friday\, October 23\, 2026 \nTime: 7:00 PM (Doors open approximately 6:00 PM) \nVenue: Steven Tanger Center for the Performing Arts \nAddress: 300 North Elm Street\, Greensboro\, NC 27401 \nAge Restrictions: All Ages (content may be intended for mature audiences) \nAbout the Venue\nThe Steven Tanger Center for the Performing Arts is Greensboro’s premier entertainment destination\, located in the heart of downtown at 300 North Elm Street. Opened in 2021\, this state-of-the-art facility seats approximately 3\,000 guests and features world-class acoustics and sightlines designed to deliver an exceptional experience from every seat in the house. \nThe venue boasts a stunning modern design with multiple seating levels including Orchestra\, Loge\, and Grand Tier sections. Whether you’re in the front rows or the upper tiers\, every seat offers an intimate connection to the stage. The Tanger Center is known for its comfortable seating\, excellent sound system\, and welcoming atmosphere that makes every show feel special. \nAmenities include multiple concession stands\, full bar service\, and accessible seating options throughout the venue. Parking is available in nearby downtown Greensboro garages and surface lots\, with the Center Street Parking Deck being the most convenient option just steps from the venue entrance. The Lee Wrangler Lounge offers premium club access for an elevated pre-show experience. \nWhat to Expect\nNikki Glaser’s The Stunning Tour is a full-length solo stand-up comedy show featuring all-new material. This is not a greatest hits set — Glaser is bringing fresh\, current\, and deeply personal comedy that reflects her life and perspective right now. \nExpect a high-energy\, laugh-out-loud evening from start to finish. Glaser is known for her ability to connect with audiences on a personal level\, making even the most uncomfortable topics feel hilarious and relatable. The show typically runs approximately 90 minutes to 2 hours\, giving fans a full evening of premium comedy entertainment. \nThis is a must-see show for fans of smart\, edgy\, and genuinely funny stand-up comedy. Whether you’ve followed Nikki Glaser for years or are discovering her for the first time\, The Stunning Tour promises to be an unforgettable night out in Greensboro. \nTicket Information\nOfficial Ticket Price Range: $62 – $88+ (fees included) \nResale Ticket Price Range: $50 – $580+ (all-in pricing via VividSeats) \nTickets are available now through Ticketmaster (official) and VividSeats (resale marketplace). Secure your seats early — this show is selling fast! \nOfficial TicketsResale Tickets \nThis post contains affiliate links. We may earn a commission at no extra cost to you.
URL:https://comedycalendar.com/event/nikki-glaser-the-stunning-tour-live-at-steven-tanger-center-for-the-performing-arts/
LOCATION:Steven Tanger Center for the Performing Arts\, 300 North Elm Street\, Greensboro\, North Carolina\, 27401\, United States
ATTACH;FMTTYPE=image/jpeg:https://comedycalendar.com/wp-content/uploads/2026/03/9b4d6bc8-b9b8-4eae-9600-39045f190562_CUSTOM-YxSg20.jpg
GEO:36.0751571;-79.7896113
X-APPLE-STRUCTURED-LOCATION;VALUE=URI;X-ADDRESS=Steven Tanger Center for the Performing Arts 300 North Elm Street Greensboro North Carolina 27401 United States;X-APPLE-RADIUS=500;X-TITLE=300 North Elm Street:geo:-79.7896113,36.0751571
END:VEVENT
BEGIN:VEVENT
DTSTART;TZID=America/New_York:20261023T190000
DTEND;TZID=America/New_York:20261023T220000
DTSTAMP:20260420T094452
CREATED:20260328T210000Z
LAST-MODIFIED:20260328T210000Z
UID:10004355-1792782000-1792792800@comedycalendar.com
SUMMARY:Nikki Glaser: The Stunning Tour LIVE at Steven Tanger Center
DESCRIPTION:Official TicketsResale Tickets \nThis post contains affiliate links. We may earn a commission at no extra cost to you. \nAbout the Performer\nNikki Glaser is one of the most talked-about comedians in the world right now. Known for her razor-sharp wit\, fearless honesty\, and ability to make audiences laugh at the most uncomfortable truths\, Nikki has become a dominant force in stand-up comedy\, television\, and pop culture. \nShe rose to mainstream fame hosting the Golden Globes and roasting some of Hollywood’s biggest names\, but her stand-up is where she truly shines. Her Netflix specials — including Nikki Glaser: Someday You’ll Die — showcase a comedian at the absolute top of her game: confident\, hilarious\, and completely unfiltered. \nThe Stunning Tour is Nikki’s most ambitious stand-up outing yet\, bringing her signature brand of self-aware\, brutally funny comedy to audiences across the country. If you haven’t seen her live\, this is the moment to fix that. \nEvent Details\n\nDate: Friday\, October 23\, 2026\nTime: 7:00 PM EDT\nVenue: Steven Tanger Center for the Performing Arts\nAddress: 300 North Elm Street\, Greensboro\, NC 27401\nAge Restrictions: All Ages (mature content — not recommended for young children)\n\nAbout the Venue\nThe Steven Tanger Center for the Performing Arts is Greensboro’s premier live entertainment venue\, located in the vibrant downtown district at 300 North Elm Street. This stunning 3\,000-seat facility opened in 2021 and has quickly become one of the most celebrated performing arts centers in the Southeast. \nThe venue features multiple seating levels — orchestra\, loge\, and grand tier — with excellent sightlines and acoustics from every section. Guests enjoy access to full-service bars\, concession stands\, and premium amenities throughout the building. The modern design creates an atmosphere that feels both grand and intimate. \nDowntown Greensboro surrounds the Tanger Center with great dining\, parking garages\, and nightlife options\, making it easy to turn the show into a full evening out. VIP parking and lounge access are available for select events. \nWhat to Expect\nNikki Glaser’s The Stunning Tour is a full-length stand-up performance running approximately 90 minutes. Expect Nikki to deliver a masterclass in modern comedy — sharp\, personal\, and laugh-out-loud funny from start to finish. \nHer material covers relationships\, self-image\, pop culture\, and the absurdities of modern life\, all delivered with the kind of precision and confidence that comes from years of honing her craft. This is a show for fans of smart\, edgy comedy that doesn’t pull any punches. \nDoors open approximately one hour before showtime. Arrive early to grab a drink\, find your seats\, and get ready for one of the best comedy shows of the year. \nTicket Information\nPrice Range: $62 – $88 (before fees) \nTickets are available through Ticketmaster (official) and VividSeats (resale). Resale ticket prices may vary from face value. \nOfficial TicketsResale Tickets
URL:https://comedycalendar.com/event/nikki-glaser-the-stunning-tour-live-at-steven-tanger-center/
LOCATION:Steven Tanger Center for the Performing Arts\, 300 North Elm Street\, Greensboro\, North Carolina\, 27401\, United States
ATTACH;FMTTYPE=image/jpeg:https://comedycalendar.com/wp-content/uploads/2026/03/9b4d6bc8-b9b8-4eae-9600-39045f190562_CUSTOM-YxSg20.jpg
GEO:36.0751571;-79.7896113
X-APPLE-STRUCTURED-LOCATION;VALUE=URI;X-ADDRESS=Steven Tanger Center for the Performing Arts 300 North Elm Street Greensboro North Carolina 27401 United States;X-APPLE-RADIUS=500;X-TITLE=300 North Elm Street:geo:-79.7896113,36.0751571
END:VEVENT
BEGIN:VEVENT
DTSTART;TZID=America/New_York:20261023T190000
DTEND;TZID=America/New_York:20261023T220000
DTSTAMP:20260420T094452
CREATED:20260328T220000Z
LAST-MODIFIED:20260328T220000Z
UID:10004358-1792782000-1792792800@comedycalendar.com
SUMMARY:Nikki Glaser: The Stunning Tour LIVE at Steven Tanger Center for the Performing Arts
DESCRIPTION:Official TicketsResale Tickets \nThis post contains affiliate links. We may earn a commission at no extra cost to you. \nAbout the Performer\nNikki Glaser is one of the most talked-about comedians in the world right now. Known for her razor-sharp wit\, fearless honesty\, and ability to make audiences laugh at the most uncomfortable truths\, Glaser has become a household name through her stand-up specials\, podcast\, and television appearances. \nHer Netflix specials Someday You’ll Die and Good Clean Filth have earned critical acclaim and millions of views. Glaser’s comedy is bold\, confessional\, and brilliantly crafted — she tackles relationships\, self-image\, and modern life with a candor that is both hilarious and deeply relatable. \nThe Stunning Tour is her most ambitious stand-up tour to date\, following her massive success hosting the 2025 Golden Globes and her growing status as one of comedy’s most electrifying live performers. This is a must-see show for any comedy fan. \nEvent Details\n\nDate: Friday\, October 23\, 2026\nShow Time: 7:00 PM (Doors open at 6:00 PM)\nVenue: Steven Tanger Center for the Performing Arts\, 300 North Elm Street\, Greensboro\, NC 27401\nTicket Price Range: $49 – $150\nAge Restrictions: 18+ recommended (adult content)\n\nAbout the Venue\nThe Steven Tanger Center for the Performing Arts is Greensboro’s premier performing arts destination\, located at 300 North Elm Street in the vibrant downtown district. This world-class venue opened in 2021 and quickly became one of the Southeast’s most celebrated entertainment spaces\, with a seating capacity of approximately 3\,000. \nThe Tanger Center was purpose-built for live performance\, featuring exceptional acoustics\, intimate sightlines\, and a beautifully designed interior that creates a special atmosphere for every show. Guests enjoy premium concessions\, full-service bars\, accessible seating\, and a stunning lobby that sets the tone for a memorable evening. \nDowntown Greensboro surrounds the venue with excellent dining and nightlife options\, making it easy to turn the evening into a full night out. Parking is available in nearby decks and surface lots throughout the downtown area. \nWhat to Expect\nNikki Glaser’s The Stunning Tour is a full-length stand-up comedy show featuring her latest material. Expect approximately 90 minutes of sharp\, adult-oriented comedy that covers everything from relationships and dating to pop culture and personal revelations. \nGlaser is known for her incredible stage presence and ability to connect with audiences on a deeply personal level. Her shows feel simultaneously like a comedy performance and an intimate conversation — you’ll laugh\, cringe\, and relate in equal measure. \nThis show is recommended for adult audiences due to mature content. It’s perfect for a date night\, a girls’ night out\, or any comedy fan looking for a world-class live performance. Arrive early to enjoy the downtown Greensboro scene before the show. \nTicket Information\nPrice Range: $49 – $150 (plus applicable fees) \nTickets are available through Ticketmaster (official) and VividSeats (resale). Secure your seats early — Nikki Glaser shows sell out fast. \nOfficial TicketsResale Tickets \nThis post contains affiliate links. We may earn a commission at no extra cost to you.
URL:https://comedycalendar.com/event/nikki-glaser-the-stunning-tour-live-at-steven-tanger-center-greensboro/
LOCATION:Steven Tanger Center for the Performing Arts\, 300 North Elm Street\, Greensboro\, North Carolina\, 27401\, United States
ATTACH;FMTTYPE=image/jpeg:https://comedycalendar.com/wp-content/uploads/2026/03/9b4d6bc8-b9b8-4eae-9600-39045f190562_CUSTOM-YxSg20.jpg
GEO:36.0751571;-79.7896113
X-APPLE-STRUCTURED-LOCATION;VALUE=URI;X-ADDRESS=Steven Tanger Center for the Performing Arts 300 North Elm Street Greensboro North Carolina 27401 United States;X-APPLE-RADIUS=500;X-TITLE=300 North Elm Street:geo:-79.7896113,36.0751571
END:VEVENT
END:VCALENDAR