BEGIN:VCALENDAR
VERSION:2.0
PRODID:-//Find Upcoming Comedy Shows Near You | Comedy Calendar - ECPv6.15.20//NONSGML v1.0//EN
CALSCALE:GREGORIAN
METHOD:PUBLISH
X-ORIGINAL-URL:https://comedycalendar.com
X-WR-CALDESC:Events for Find Upcoming Comedy Shows Near You | Comedy Calendar
REFRESH-INTERVAL;VALUE=DURATION:PT1H
X-Robots-Tag:noindex
X-PUBLISHED-TTL:PT1H
BEGIN:VTIMEZONE
TZID:America/Chicago
BEGIN:DAYLIGHT
TZOFFSETFROM:-0600
TZOFFSETTO:-0500
TZNAME:CDT
DTSTART:20250309T080000
END:DAYLIGHT
BEGIN:STANDARD
TZOFFSETFROM:-0500
TZOFFSETTO:-0600
TZNAME:CST
DTSTART:20251102T070000
END:STANDARD
BEGIN:DAYLIGHT
TZOFFSETFROM:-0600
TZOFFSETTO:-0500
TZNAME:CDT
DTSTART:20260308T080000
END:DAYLIGHT
BEGIN:STANDARD
TZOFFSETFROM:-0500
TZOFFSETTO:-0600
TZNAME:CST
DTSTART:20261101T070000
END:STANDARD
BEGIN:DAYLIGHT
TZOFFSETFROM:-0600
TZOFFSETTO:-0500
TZNAME:CDT
DTSTART:20270314T080000
END:DAYLIGHT
BEGIN:STANDARD
TZOFFSETFROM:-0500
TZOFFSETTO:-0600
TZNAME:CST
DTSTART:20271107T070000
END:STANDARD
END:VTIMEZONE
BEGIN:VEVENT
DTSTART;TZID=America/Chicago:20260321T200000
DTEND;TZID=America/Chicago:20260321T220000
DTSTAMP:20260420T095414
CREATED:20260320T170000Z
LAST-MODIFIED:20260321T191416Z
UID:10003576-1774123200-1774130400@comedycalendar.com
SUMMARY:Jerry Seinfeld LIVE at Orpheum Theatre
DESCRIPTION:Official TicketsResale Tickets \nAbout Jerry Seinfeld\nJerry Seinfeld is one of the most celebrated stand-up comedians of all time. Best known as the co-creator and star of the iconic NBC sitcom Seinfeld — ranked by TV Guide as the greatest television program of all time — Jerry has spent over four decades perfecting the art of observational comedy. \nHis humor is clean\, sharp\, and brilliantly relatable. From the absurdities of everyday life to the quirks of human behavior\, Seinfeld finds comedy in the mundane and turns it into gold. He has been named one of Comedy Central’s “100 Greatest Stand-Ups of All Time” and continues to sell out theaters and arenas worldwide. \nIn 2026\, Jerry is back on the road with his newest stand-up material — fresh\, polished\, and guaranteed to leave audiences in stitches from start to finish. \nEvent Details\nDate: Saturday\, March 21\, 2026\nTime: 8:00 PM (Doors open at 7:00 PM)\nVenue: Orpheum Theatre\, 910 Hennepin Ave\, Minneapolis\, MN 55403\nAge Restriction: All Ages\nShow Duration: Approximately 90 minutes \nAbout the Orpheum Theatre\nThe Orpheum Theatre is one of Minneapolis’s most beloved and historic performance venues. Located in the heart of the Hennepin Theatre District in downtown Minneapolis\, this stunning 2\,600-seat theater opened in 1921 and has been meticulously restored to its original grandeur. \nThe Orpheum features ornate architecture\, plush seating\, excellent sightlines from virtually every seat\, and world-class acoustics. The venue is managed by Hennepin Theatre Trust and regularly hosts Broadway productions\, major concerts\, and top-tier comedy performances. \nParking is available in several nearby ramps and surface lots throughout downtown Minneapolis. The venue is also accessible via Metro Transit light rail with the Nicollet Mall Station just a short walk away. \nWhat to Expect\nJerry Seinfeld’s live show is a masterclass in stand-up comedy. Expect a tight\, polished 90-minute set filled with his signature observational humor — no filler\, no fluff\, just pure comedy gold. His 2026 material is fresh and features his trademark wit applied to modern life. \nThis is a solo stand-up performance. An opening comedian typically warms up the crowd before Jerry takes the stage. The show is family-friendly and appropriate for all ages\, making it a perfect night out for comedy fans of every generation. \nTicket Information\nPrice Range: $115 – $342\nTickets are available through Ticketmaster (official) and VividSeats (resale). \nOfficial TicketsResale Tickets \nThis post contains affiliate links. We may earn a commission at no extra cost to you.
URL:https://comedycalendar.com/event/jerry-seinfeld-live-at-orpheum-theatre/
LOCATION:Orpheum Theatre Minneapolis\, 910 Hennepin Avenue\, Minneapolis\, MN\, 55403
CATEGORIES:Headliner,Stand Up Comedy
ATTACH;FMTTYPE=image/jpeg:https://s1.ticketm.net/dam/a/9d2/5f0ebea2-3344-4065-8ea3-1a9f6412b9d2_RETINA_PORTRAIT_3_2.jpg
GEO:34.0425006;-118.2539055
X-APPLE-STRUCTURED-LOCATION;VALUE=URI;X-ADDRESS=Orpheum Theatre Minneapolis 910 Hennepin Avenue Minneapolis MN 55403;X-APPLE-RADIUS=500;X-TITLE=910 Hennepin Avenue:geo:-118.2539055,34.0425006
END:VEVENT
END:VCALENDAR