BEGIN:VCALENDAR
VERSION:2.0
PRODID:-//Find Upcoming Comedy Shows Near You | Comedy Calendar - ECPv6.15.20//NONSGML v1.0//EN
CALSCALE:GREGORIAN
METHOD:PUBLISH
X-WR-CALNAME:Find Upcoming Comedy Shows Near You | Comedy Calendar
X-ORIGINAL-URL:https://comedycalendar.com
X-WR-CALDESC:Events for Find Upcoming Comedy Shows Near You | Comedy Calendar
REFRESH-INTERVAL;VALUE=DURATION:PT1H
X-Robots-Tag:noindex
X-PUBLISHED-TTL:PT1H
BEGIN:VTIMEZONE
TZID:America/Chicago
BEGIN:DAYLIGHT
TZOFFSETFROM:-0600
TZOFFSETTO:-0500
TZNAME:CDT
DTSTART:20250309T080000
END:DAYLIGHT
BEGIN:STANDARD
TZOFFSETFROM:-0500
TZOFFSETTO:-0600
TZNAME:CST
DTSTART:20251102T070000
END:STANDARD
BEGIN:DAYLIGHT
TZOFFSETFROM:-0600
TZOFFSETTO:-0500
TZNAME:CDT
DTSTART:20260308T080000
END:DAYLIGHT
BEGIN:STANDARD
TZOFFSETFROM:-0500
TZOFFSETTO:-0600
TZNAME:CST
DTSTART:20261101T070000
END:STANDARD
BEGIN:DAYLIGHT
TZOFFSETFROM:-0600
TZOFFSETTO:-0500
TZNAME:CDT
DTSTART:20270314T080000
END:DAYLIGHT
BEGIN:STANDARD
TZOFFSETFROM:-0500
TZOFFSETTO:-0600
TZNAME:CST
DTSTART:20271107T070000
END:STANDARD
END:VTIMEZONE
BEGIN:VEVENT
DTSTART;TZID=America/Chicago:20260417T193000
DTEND;TZID=America/Chicago:20260417T213000
DTSTAMP:20260420T205449
CREATED:20260327T200000Z
LAST-MODIFIED:20260327T200000Z
UID:10004254-1776454200-1776461400@comedycalendar.com
SUMMARY:Michelle Buteau: The Surviving And Thriving Tour LIVE at Orpheum Theater
DESCRIPTION:Official TicketsResale Tickets \nAbout the Performer\nMichelle Buteau is one of the most exciting and versatile comedians in the entertainment industry today. Known for her bold\, unapologetic humor and magnetic stage presence\, Buteau has become a household name through her stand-up specials\, acting roles\, and hosting work. \nHer comedy is rooted in her experiences as a Black woman\, a wife\, and a mother of twins\, blending sharp cultural commentary with deeply personal storytelling. She is the host of Netflix’s “The Circle” and “Survival of the Thickest\,” and has appeared in numerous films and TV shows including “Always Be My Maybe” and “Tales of the City.” \nButeau’s stand-up special “Welcome to Buteaupia” on Netflix received widespread acclaim\, showcasing her ability to tackle everything from race and relationships to motherhood and self-acceptance with wit and warmth. The Surviving And Thriving Tour is her most ambitious live show yet. \nEvent Details\n\nDate: Friday\, April 17\, 2026\nTime: 7:30 PM CT (Doors open at 7:00 PM\, Show at 8:00 PM)\nVenue: Orpheum Theater\, 216 State Street\, Madison\, WI 53703\nAge Restriction: 18+ Event\nNote: Rescheduled from September 11\, 2025. Previously purchased tickets will be honored.\n\nAbout the Venue\nThe Orpheum Theater is a landmark venue in the heart of downtown Madison\, situated on the iconic State Street corridor. This beautifully restored 1926 theater is one of the most celebrated performance spaces in Wisconsin\, known for its stunning architecture and exceptional acoustics. \nThe Orpheum accommodates approximately 2\,000 guests across its main floor\, mezzanine\, and balcony levels. Reserved seating ensures every attendee has a great view of the stage. The venue is cashless — only credit and debit cards are accepted. \nParking is available in nearby State Street ramps and surface lots. The Orpheum is conveniently located near restaurants\, bars\, and shops\, making it easy to make a full evening of your visit to Madison. \nWhat to Expect\nMichelle Buteau’s live show is a celebration of resilience\, joy\, and laughter. The Surviving And Thriving Tour features brand-new material that reflects her journey through motherhood\, marriage\, and the entertainment industry\, delivered with her signature confidence and comedic flair. \nThis is a solo stand-up performance with reserved seating. Buteau’s shows are known for their energy\, audience connection\, and the feeling that you’ve just spent an evening with your funniest\, most honest friend. Come ready to laugh\, relate\, and leave feeling inspired. \nTicket Information\nTickets start from approximately $57. This is an 18+ event. Secure your seats today! \nOfficial TicketsResale Tickets \nThis post contains affiliate links. We may earn a commission at no extra cost to you.
URL:https://comedycalendar.com/event/michelle-buteau-the-surviving-and-thriving-tour-live-at-orpheum-theater-2/
LOCATION:Orpheum Theater Madison\, 216 State Street\, Madison\, WI\, 53703\, United States
ATTACH;FMTTYPE=image/jpeg:https://comedycalendar.com/wp-content/uploads/2026/03/f981ddc4-a193-4485-8334-f8fea14f3122_CUSTOM-omPdlG.jpg
GEO:43.074953;-89.38865
X-APPLE-STRUCTURED-LOCATION;VALUE=URI;X-ADDRESS=Orpheum Theater Madison 216 State Street Madison WI 53703 United States;X-APPLE-RADIUS=500;X-TITLE=216 State Street:geo:-89.38865,43.074953
END:VEVENT
BEGIN:VEVENT
DTSTART;TZID=America/Chicago:20260417T193000
DTEND;TZID=America/Chicago:20260417T213000
DTSTAMP:20260420T205449
CREATED:20260327T190000Z
LAST-MODIFIED:20260327T190000Z
UID:10004241-1776454200-1776461400@comedycalendar.com
SUMMARY:Michelle Buteau: The Surviving And Thriving Tour LIVE at Orpheum Theater
DESCRIPTION:Official TicketsResale Tickets \nAbout Michelle Buteau\nMichelle Buteau is a powerhouse comedian\, actress\, and television host who has taken the comedy world by storm. Known for her bold\, unapologetic humor and magnetic stage presence\, Michelle has become one of the most sought-after voices in stand-up comedy today. \nHer Netflix specials Welcome to Buteaupia and Survival of the Thickest (also a hit Netflix series) have earned her a devoted global fanbase. Michelle’s comedy blends sharp cultural commentary\, personal storytelling about marriage\, motherhood\, and identity\, with a warmth and authenticity that makes audiences feel like they’re hanging out with their funniest friend. \nThe Surviving And Thriving Tour is her latest live comedy experience — a celebration of resilience\, joy\, and the hilarious chaos of modern life. Don’t miss this rescheduled Madison date! \nEvent Details\n\nDate: Friday\, April 17\, 2026\nTime: 7:30 PM (Doors open at 6:30 PM)\nVenue: Orpheum Theater\, 216 State Street\, Madison\, WI 53703\nAge Restriction: 18+ Event\nTicket Price Range: $45 – $85\n\nAbout the Orpheum Theater\nThe Orpheum Theater is Madison’s premier downtown entertainment venue\, situated at 216 State Street in the heart of the city. With a capacity of approximately 2\,000 guests\, the Orpheum provides an intimate and electric atmosphere perfect for stand-up comedy. \nThe venue boasts excellent acoustics\, great sightlines from every section\, a full-service bar\, and a vibrant pre-show atmosphere. Located steps from the UW-Madison campus\, the Orpheum is easily accessible by foot\, bike\, or car\, with several parking garages nearby on State Street and Capitol Square. \nThe Orpheum has hosted some of the biggest names in comedy\, music\, and entertainment — making it the perfect stage for Michelle Buteau’s triumphant return to Madison. \nWhat to Expect\nMichelle Buteau delivers a solo stand-up performance packed with her signature high-energy storytelling\, sharp wit\, and laugh-out-loud observations about life\, love\, and everything in between. This is an 18+ event\, so expect adult-themed humor delivered with Michelle’s trademark charm and confidence. \nThe show runs approximately 90 minutes. Arrive early to enjoy the venue’s bar and settle into your seats before the show begins. This is a rescheduled date from September 2025 — all previously purchased tickets will be honored. \nTicket Information\nTickets range from $45 to $85 depending on seat location. Purchase official tickets through Ticketmaster or find resale tickets through VividSeats. \nOfficial TicketsResale Tickets \nThis post contains affiliate links. We may earn a commission at no extra cost to you.
URL:https://comedycalendar.com/event/michelle-buteau-the-surviving-and-thriving-tour-live-at-orpheum-theater/
LOCATION:Orpheum Theater Madison\, 216 State Street\, Madison\, WI\, 53703\, United States
ATTACH;FMTTYPE=image/jpeg:https://media.ticketmaster.com/en-us/dam/a/122/f981ddc4-a193-4485-8334-f8fea14f3122_CUSTOM.jpg
GEO:43.074953;-89.38865
X-APPLE-STRUCTURED-LOCATION;VALUE=URI;X-ADDRESS=Orpheum Theater Madison 216 State Street Madison WI 53703 United States;X-APPLE-RADIUS=500;X-TITLE=216 State Street:geo:-89.38865,43.074953
END:VEVENT
BEGIN:VEVENT
DTSTART;TZID=America/Chicago:20260412T190000
DTEND;TZID=America/Chicago:20260412T213000
DTSTAMP:20260420T205449
CREATED:20260327T200000Z
LAST-MODIFIED:20260327T200000Z
UID:10004253-1776020400-1776029400@comedycalendar.com
SUMMARY:Brad Williams: The Tall Tales Tour LIVE at Orpheum Theater
DESCRIPTION:Official TicketsResale Tickets \nAbout the Performer\nBrad Williams is one of the most energetic and crowd-pleasing stand-up comedians touring today. Known for his high-energy performances\, self-deprecating humor\, and ability to connect with audiences of all backgrounds\, Williams has built a massive following through relentless touring and viral comedy clips. \nStanding at 4 feet tall due to achondroplasia\, Williams has turned his unique perspective on life into comedy gold. He fearlessly tackles topics that others might shy away from\, delivering punchlines with perfect timing and genuine warmth. His comedy is inclusive\, joyful\, and consistently hilarious. \nWilliams has appeared on numerous television programs and released multiple stand-up specials. He is widely regarded as one of the hardest-working comedians on the road\, performing hundreds of shows per year to sold-out crowds across the country. \nEvent Details\n\nDate: Sunday\, April 12\, 2026\nTime: 7:00 PM CT (Doors open at 6:00 PM)\nVenue: Orpheum Theater\, 216 State Street\, Madison\, WI 53703\nOpener: J.B. Ball\nNote: There are no elevators in the Theater\n\nAbout the Venue\nThe Orpheum Theater is a stunning historic venue located in the heart of downtown Madison on State Street\, just steps from the Wisconsin State Capitol. Built in 1926\, the Orpheum has been beautifully restored and serves as one of the premier entertainment destinations in the region. \nWith a capacity of approximately 2\,000\, the Orpheum features a grand main floor\, a mezzanine level\, and a balcony\, offering excellent sightlines from every seat. The venue’s ornate architecture and warm acoustics make it an ideal setting for live comedy performances. \nThe Orpheum is a cashless venue — only credit and debit payments are accepted. Parking is available in nearby State Street area ramps and lots. The venue is easily accessible by bus and is a short walk from the UW-Madison campus. \nWhat to Expect\nBrad Williams delivers a high-energy\, laugh-out-loud performance from start to finish. His Tall Tales Tour features brand-new material alongside fan favorites\, with Williams commanding the stage with his signature charisma and comedic precision. \nOpening the show is comedian J.B. Ball\, who will warm up the crowd before Williams takes the stage. Expect an evening packed with big laughs\, personal stories\, and the kind of feel-good comedy that leaves audiences smiling long after the show ends. \nTicket Information\nTickets start from approximately $35. Grab yours before they’re gone! \nOfficial TicketsResale Tickets \nThis post contains affiliate links. We may earn a commission at no extra cost to you.
URL:https://comedycalendar.com/event/brad-williams-the-tall-tales-tour-live-at-orpheum-theater-2/
LOCATION:Orpheum Theater Madison\, 216 State Street\, Madison\, WI\, 53703\, United States
ATTACH;FMTTYPE=image/jpeg:https://media.ticketmaster.com/en-us/dam/a/685/0c876ac5-1fa5-43a2-9fd5-08187f9b7685_CUSTOM.jpg
GEO:43.074953;-89.38865
X-APPLE-STRUCTURED-LOCATION;VALUE=URI;X-ADDRESS=Orpheum Theater Madison 216 State Street Madison WI 53703 United States;X-APPLE-RADIUS=500;X-TITLE=216 State Street:geo:-89.38865,43.074953
END:VEVENT
BEGIN:VEVENT
DTSTART;TZID=America/Chicago:20260412T190000
DTEND;TZID=America/Chicago:20260412T210000
DTSTAMP:20260420T205449
CREATED:20260327T190000Z
LAST-MODIFIED:20260327T190000Z
UID:10004240-1776020400-1776027600@comedycalendar.com
SUMMARY:Brad Williams: The Tall Tales Tour LIVE at Orpheum Theater
DESCRIPTION:Official TicketsResale Tickets \nAbout Brad Williams\nBrad Williams is one of the most electrifying stand-up comedians working today. Known for his fearless\, self-deprecating humor and lightning-fast wit\, Brad has built a massive following through his Netflix specials\, sold-out tours\, and appearances on major comedy stages across the country. \nStanding at 4 feet tall\, Brad turns his life experiences into comedy gold — tackling everything from his dwarfism to relationships\, pop culture\, and the absurdities of everyday life. His ability to connect with audiences of all backgrounds makes every show an unforgettable experience. \nThe Tall Tales Tour promises an evening packed with brand-new material\, sharp observations\, and the kind of raw\, honest comedy that has made Brad Williams a household name in stand-up circles. \nEvent Details\n\nDate: Sunday\, April 12\, 2026\nTime: 7:00 PM (Doors open at 6:00 PM)\nVenue: Orpheum Theater\, 216 State Street\, Madison\, WI 53703\nAge Restriction: All Ages\nTicket Price Range: $35 – $75\n\nAbout the Orpheum Theater\nThe Orpheum Theater is one of Madison’s most beloved and historic entertainment venues\, located right in the heart of downtown at 216 State Street. With a capacity of approximately 2\,000 guests\, the Orpheum offers an intimate yet energetic atmosphere that makes every show feel special. \nThe venue features excellent sightlines from virtually every seat\, a full bar\, and a welcoming vibe that suits both longtime comedy fans and first-time visitors. The Orpheum is easily accessible from the UW-Madison campus and downtown Madison\, with multiple parking options nearby including the State Street Capitol Center Garage. \nWhether you’re in the orchestra section or the balcony\, the Orpheum delivers a top-tier live entertainment experience that keeps audiences coming back show after show. \nWhat to Expect\nBrad Williams performs a solo stand-up set filled with his signature blend of personal storytelling\, sharp social commentary\, and crowd-pleasing punchlines. Expect a high-energy performance from start to finish — Brad is known for his incredible stage presence and ability to improvise with the crowd. \nThe show runs approximately 90 minutes. Doors open at 6:00 PM\, so arrive early to grab a drink and find your seats. This is a must-see show for comedy fans in the Madison area. \nTicket Information\nTickets range from $35 to $75 depending on seat location. Purchase official tickets directly through Ticketmaster or find resale tickets through VividSeats. \nOfficial TicketsResale Tickets \nThis post contains affiliate links. We may earn a commission at no extra cost to you.
URL:https://comedycalendar.com/event/brad-williams-the-tall-tales-tour-live-at-orpheum-theater/
LOCATION:Orpheum Theater Madison\, 216 State Street\, Madison\, WI\, 53703\, United States
ATTACH;FMTTYPE=image/jpeg:https://media.ticketmaster.com/en-us/dam/a/685/0c876ac5-1fa5-43a2-9fd5-08187f9b7685_CUSTOM.jpg
GEO:43.074953;-89.38865
X-APPLE-STRUCTURED-LOCATION;VALUE=URI;X-ADDRESS=Orpheum Theater Madison 216 State Street Madison WI 53703 United States;X-APPLE-RADIUS=500;X-TITLE=216 State Street:geo:-89.38865,43.074953
END:VEVENT
END:VCALENDAR