BEGIN:VCALENDAR
VERSION:2.0
PRODID:-//Find Upcoming Comedy Shows Near You | Comedy Calendar - ECPv6.15.20//NONSGML v1.0//EN
CALSCALE:GREGORIAN
METHOD:PUBLISH
X-ORIGINAL-URL:https://comedycalendar.com
X-WR-CALDESC:Events for Find Upcoming Comedy Shows Near You | Comedy Calendar
REFRESH-INTERVAL;VALUE=DURATION:PT1H
X-Robots-Tag:noindex
X-PUBLISHED-TTL:PT1H
BEGIN:VTIMEZONE
TZID:America/Los_Angeles
BEGIN:DAYLIGHT
TZOFFSETFROM:-0800
TZOFFSETTO:-0700
TZNAME:PDT
DTSTART:20250309T100000
END:DAYLIGHT
BEGIN:STANDARD
TZOFFSETFROM:-0700
TZOFFSETTO:-0800
TZNAME:PST
DTSTART:20251102T090000
END:STANDARD
BEGIN:DAYLIGHT
TZOFFSETFROM:-0800
TZOFFSETTO:-0700
TZNAME:PDT
DTSTART:20260308T100000
END:DAYLIGHT
BEGIN:STANDARD
TZOFFSETFROM:-0700
TZOFFSETTO:-0800
TZNAME:PST
DTSTART:20261101T090000
END:STANDARD
BEGIN:DAYLIGHT
TZOFFSETFROM:-0800
TZOFFSETTO:-0700
TZNAME:PDT
DTSTART:20270314T100000
END:DAYLIGHT
BEGIN:STANDARD
TZOFFSETFROM:-0700
TZOFFSETTO:-0800
TZNAME:PST
DTSTART:20271107T090000
END:STANDARD
END:VTIMEZONE
BEGIN:VEVENT
DTSTART;TZID=America/Los_Angeles:20260611T193000
DTEND;TZID=America/Los_Angeles:20260611T213000
DTSTAMP:20260421T141536
CREATED:20260308T050000Z
LAST-MODIFIED:20260308T050000Z
UID:10002656-1781206200-1781213400@comedycalendar.com
SUMMARY:Mark Normand LIVE at Irvine Improv
DESCRIPTION:This post contains affiliate links. We earn a commission if you purchase tickets through our links at no extra cost to you. \nOfficial Tickets\nResale Tickets \nMark Normand LIVE at Irvine Improv\nOne of stand-up comedy’s most celebrated voices\, Mark Normand\, is bringing his razor-sharp wit to the Irvine Improv on June 11\, 2026. Dubbed by Jerry Seinfeld as the “best young up and coming comic\,” Normand delivers rapid-fire jokes and fearless observations that have made him a fan favorite across the country. \nEvent Details\nDate: Thursday\, June 11\, 2026\nTime: 7:30 PM PT\nVenue: Irvine Improv\nAddress: 527 Spectrum Center Dr.\, Irvine\, CA 92618\nAge Requirement: 21+ (Valid ID required)\nTwo-item minimum purchase required in showroom \nAbout Mark Normand\nMark Normand is a New York-based stand-up comedian known for his quick wit\, self-deprecating humor\, and fearless approach to taboo topics. He has appeared on The Tonight Show\, Conan\, and Late Night with Seth Meyers\, and has released multiple acclaimed comedy specials including Out to Lunch and Soup to Nuts on Netflix. Jerry Seinfeld has called him the best young up-and-coming comic working today. \nWhat to Expect\n\nHigh-energy stand-up from one of comedy’s sharpest minds\nRapid-fire jokes and fearless social commentary\nIntimate club setting at the legendary Irvine Improv\nSelf-deprecating humor mixed with bold observations\nA night of non-stop laughter you won’t forget\n\nVenue Information\nThe Irvine Improv is one of Southern California’s premier comedy clubs\, located at the Irvine Spectrum Center. With a full bar and dining menu\, it offers an intimate setting perfect for experiencing world-class stand-up comedy up close. \nTicket Information\nTickets range from $49 to $120. This show is expected to sell out — grab your seats now! \nOfficial Tickets\nResale Tickets \nThis post contains affiliate links. We earn a commission if you purchase tickets through our links at no extra cost to you. \nAll sales are final. Show times subject to change. Valid photo ID may be required for entry.
URL:https://comedycalendar.com/event/mark-normand-live-at-irvine-improv/
LOCATION:Irvine Improv\, 527 Spectrum Center Dr.\, Irvine\, CA\, 92618\, United States
ATTACH;FMTTYPE=image/jpeg:https://comedycalendar.com/wp-content/uploads/2026/03/7a8f11c3-7869-4fcf-8216-924cad5328c1_TABLET_LANDSCAPE_LARGE_16_9-IcyVKb.jpg
GEO:33.6523391;-117.7463398
X-APPLE-STRUCTURED-LOCATION;VALUE=URI;X-ADDRESS=Irvine Improv 527 Spectrum Center Dr. Irvine CA 92618 United States;X-APPLE-RADIUS=500;X-TITLE=527 Spectrum Center Dr.:geo:-117.7463398,33.6523391
END:VEVENT
END:VCALENDAR