BEGIN:VCALENDAR
VERSION:2.0
PRODID:-//Find Upcoming Comedy Shows Near You | Comedy Calendar - ECPv6.15.20//NONSGML v1.0//EN
CALSCALE:GREGORIAN
METHOD:PUBLISH
X-WR-CALNAME:Find Upcoming Comedy Shows Near You | Comedy Calendar
X-ORIGINAL-URL:https://comedycalendar.com
X-WR-CALDESC:Events for Find Upcoming Comedy Shows Near You | Comedy Calendar
REFRESH-INTERVAL;VALUE=DURATION:PT1H
X-Robots-Tag:noindex
X-PUBLISHED-TTL:PT1H
BEGIN:VTIMEZONE
TZID:America/Chicago
BEGIN:DAYLIGHT
TZOFFSETFROM:-0600
TZOFFSETTO:-0500
TZNAME:CDT
DTSTART:20250309T080000
END:DAYLIGHT
BEGIN:STANDARD
TZOFFSETFROM:-0500
TZOFFSETTO:-0600
TZNAME:CST
DTSTART:20251102T070000
END:STANDARD
BEGIN:DAYLIGHT
TZOFFSETFROM:-0600
TZOFFSETTO:-0500
TZNAME:CDT
DTSTART:20260308T080000
END:DAYLIGHT
BEGIN:STANDARD
TZOFFSETFROM:-0500
TZOFFSETTO:-0600
TZNAME:CST
DTSTART:20261101T070000
END:STANDARD
BEGIN:DAYLIGHT
TZOFFSETFROM:-0600
TZOFFSETTO:-0500
TZNAME:CDT
DTSTART:20270314T080000
END:DAYLIGHT
BEGIN:STANDARD
TZOFFSETFROM:-0500
TZOFFSETTO:-0600
TZNAME:CST
DTSTART:20271107T070000
END:STANDARD
END:VTIMEZONE
BEGIN:VEVENT
DTSTART;TZID=America/Chicago:20260424T193000
DTEND;TZID=America/Chicago:20260424T213000
DTSTAMP:20260424T095350
CREATED:20260326T060000Z
LAST-MODIFIED:20260326T060000Z
UID:10003970-1777059000-1777066200@comedycalendar.com
SUMMARY:Maria Bamford LIVE at Gem Theater
DESCRIPTION:Official TicketsResale Tickets \nAbout Maria Bamford\nMaria Bamford is one of the most original and critically acclaimed comedians of her generation. Known for her deeply personal\, surreal\, and fearlessly honest comedy\, Maria has built a devoted following through her Netflix series Lady Dynamite\, multiple stand-up specials\, and decades of touring. Her comedy explores mental health\, family dynamics\, and the absurdity of modern life with a warmth and vulnerability that is entirely her own. \nMaria’s performances are unlike anything else in stand-up comedy. She seamlessly blends character work\, impressions\, and confessional storytelling into a singular comedic experience. Fans of thoughtful\, boundary-pushing comedy will find Maria Bamford’s show to be a truly unforgettable evening. \nEvent Details\nDate: Friday\, April 24\, 2026\nShow: 7:30 PM\nOpening Act: Jackie Kashian\nVenue: Gem Theater\, 1601 E 18th St\, Kansas City\, MO 64108\nTicket Prices: $45 – $85 \nAbout the Venue\nThe Gem Theater is a historic and intimate venue located in the heart of Kansas City’s 18th & Vine Jazz District at 1601 E 18th St. Originally built in 1912\, the Gem Theater has been beautifully restored and is now operated by the American Jazz Museum. With a capacity of approximately 500 guests\, it offers one of the most intimate concert and comedy experiences in the city. \nThe Gem’s cozy\, art-filled interior creates a warm and welcoming atmosphere that makes every performance feel special. Reserved seating is available\, and the venue features a full bar. The 18th & Vine neighborhood is rich with history and culture — arrive early to explore the area before the show. Street parking and nearby lots are available. \nWhat to Expect\nThis evening features an opening set from comedian Jackie Kashian followed by a full headlining performance from Maria Bamford. Expect a show that is funny\, moving\, and unlike anything you’ve seen before. Maria’s comedy is deeply personal and often explores themes of mental health\, family\, and identity — but always with humor and heart. \nThe intimate setting of the Gem Theater makes this an especially unique opportunity to see Maria Bamford up close. With only around 500 seats\, every spot in the house feels like a front-row experience. This show is expected to sell out — secure your tickets early. \nTicket Information\nTicket Prices: $45 – $85 (plus fees)\nTickets are available through Ticketmaster (official) and VividSeats (resale). \nOfficial TicketsResale Tickets \nThis post contains affiliate links. We may earn a commission at no extra cost to you.
URL:https://comedycalendar.com/event/maria-bamford-live-at-gem-theater/
LOCATION:Gem Theater\, 1601 E 18th St\, Kansas City\, MO\, 64108\, USA
ATTACH;FMTTYPE=image/jpeg:https://media.ticketmaster.com/en-us/dam/a/1bb/27e1dbf1-1e21-42f3-b3c3-0ff8dddcd1bb_CUSTOM.jpg
GEO:39.0910158;-94.563116
X-APPLE-STRUCTURED-LOCATION;VALUE=URI;X-ADDRESS=Gem Theater 1601 E 18th St Kansas City MO 64108 USA;X-APPLE-RADIUS=500;X-TITLE=1601 E 18th St:geo:-94.563116,39.0910158
END:VEVENT
END:VCALENDAR