BEGIN:VCALENDAR
VERSION:2.0
PRODID:-//Find Upcoming Comedy Shows Near You | Comedy Calendar - ECPv6.15.20//NONSGML v1.0//EN
CALSCALE:GREGORIAN
METHOD:PUBLISH
X-WR-CALNAME:Find Upcoming Comedy Shows Near You | Comedy Calendar
X-ORIGINAL-URL:https://comedycalendar.com
X-WR-CALDESC:Events for Find Upcoming Comedy Shows Near You | Comedy Calendar
REFRESH-INTERVAL;VALUE=DURATION:PT1H
X-Robots-Tag:noindex
X-PUBLISHED-TTL:PT1H
BEGIN:VTIMEZONE
TZID:America/New_York
BEGIN:DAYLIGHT
TZOFFSETFROM:-0500
TZOFFSETTO:-0400
TZNAME:EDT
DTSTART:20250309T070000
END:DAYLIGHT
BEGIN:STANDARD
TZOFFSETFROM:-0400
TZOFFSETTO:-0500
TZNAME:EST
DTSTART:20251102T060000
END:STANDARD
BEGIN:DAYLIGHT
TZOFFSETFROM:-0500
TZOFFSETTO:-0400
TZNAME:EDT
DTSTART:20260308T070000
END:DAYLIGHT
BEGIN:STANDARD
TZOFFSETFROM:-0400
TZOFFSETTO:-0500
TZNAME:EST
DTSTART:20261101T060000
END:STANDARD
BEGIN:DAYLIGHT
TZOFFSETFROM:-0500
TZOFFSETTO:-0400
TZNAME:EDT
DTSTART:20270314T070000
END:DAYLIGHT
BEGIN:STANDARD
TZOFFSETFROM:-0400
TZOFFSETTO:-0500
TZNAME:EST
DTSTART:20271107T060000
END:STANDARD
END:VTIMEZONE
BEGIN:VTIMEZONE
TZID:America/Chicago
BEGIN:DAYLIGHT
TZOFFSETFROM:-0600
TZOFFSETTO:-0500
TZNAME:CDT
DTSTART:20250309T080000
END:DAYLIGHT
BEGIN:STANDARD
TZOFFSETFROM:-0500
TZOFFSETTO:-0600
TZNAME:CST
DTSTART:20251102T070000
END:STANDARD
BEGIN:DAYLIGHT
TZOFFSETFROM:-0600
TZOFFSETTO:-0500
TZNAME:CDT
DTSTART:20260308T080000
END:DAYLIGHT
BEGIN:STANDARD
TZOFFSETFROM:-0500
TZOFFSETTO:-0600
TZNAME:CST
DTSTART:20261101T070000
END:STANDARD
BEGIN:DAYLIGHT
TZOFFSETFROM:-0600
TZOFFSETTO:-0500
TZNAME:CDT
DTSTART:20270314T080000
END:DAYLIGHT
BEGIN:STANDARD
TZOFFSETFROM:-0500
TZOFFSETTO:-0600
TZNAME:CST
DTSTART:20271107T070000
END:STANDARD
END:VTIMEZONE
BEGIN:VEVENT
DTSTART;TZID=America/New_York:20260509T190000
DTEND;TZID=America/New_York:20260509T220000
DTSTAMP:20260421T075806
CREATED:20260315T190000Z
LAST-MODIFIED:20260315T190000Z
UID:10003039-1778353200-1778364000@comedycalendar.com
SUMMARY:Naomi Watanabe: From Tokyo LIVE at Buckhead Theatre
DESCRIPTION:Official TicketsResale Tickets \nAbout the Performer\nNaomi Watanabe is Japan’s most famous comedian and one of the biggest entertainment stars in Asia. Known as “Japan’s Beyoncé” for her iconic pop culture parodies and larger-than-life personality\, Naomi has amassed over 10 million Instagram followers and has become a global phenomenon. Her comedy blends physical humor\, sharp wit\, and fearless self-expression that transcends language barriers. \nThe From Tokyo tour marks Naomi’s most ambitious North American run yet\, bringing her English-language stand-up comedy to major cities across the United States. Her unique perspective as a Japanese comedian performing in English creates a one-of-a-kind experience that audiences across the country have been raving about. \nEvent Details\nDate: Saturday\, May 9\, 2026\nTime: 7:00 PM\nVenue: Buckhead Theatre\, 3110 Roswell Road NE\, Atlanta\, GA 30305\nTour: From Tokyo \nAbout the Venue\nThe Buckhead Theatre is one of Atlanta’s most beloved mid-size entertainment venues\, located at 3110 Roswell Road NE in the upscale Buckhead neighborhood. With a capacity of approximately 1\,000\, it offers an intimate yet energetic atmosphere perfect for comedy and live performances. \nThe venue features a full bar\, excellent sightlines from every angle\, and a sophisticated yet welcoming vibe. Street parking and nearby garages are available\, and the venue is easily accessible via rideshare. The Buckhead Theatre is known for hosting some of the most exciting comedy and music acts in the country. \nWhat to Expect\nNaomi Watanabe delivers a high-energy\, visually spectacular comedy performance unlike anything you’ve seen before. Her show combines stand-up\, physical comedy\, and her signature larger-than-life stage presence into an unforgettable evening of entertainment. \nWhether you’re a longtime fan or discovering Naomi for the first time\, this is a rare opportunity to see one of the world’s biggest comedy stars perform live in Atlanta. Don’t miss it. \nTicket Information\nPrice Range: From $74\nOfficial Tickets: Available via Ticketmaster\nResale Tickets: Available via VividSeats \nOfficial TicketsResale Tickets \nThis post contains affiliate links. We may earn a commission at no extra cost to you.
URL:https://comedycalendar.com/event/naomi-watanabe-from-tokyo-live-at-buckhead-theatre/
LOCATION:Buckhead Theatre\, 3110 Roswell Road\, Atlanta\, Georgia\, 30305\, United States
ATTACH;FMTTYPE=image/jpeg:https://comedycalendar.com/wp-content/uploads/2026/02/33783030-df68-4080-ae9b-3c2bb486079e_CUSTOM-U4WEhZ.jpg
GEO:33.8403458;-84.3798303
X-APPLE-STRUCTURED-LOCATION;VALUE=URI;X-ADDRESS=Buckhead Theatre 3110 Roswell Road Atlanta Georgia 30305 United States;X-APPLE-RADIUS=500;X-TITLE=3110 Roswell Road:geo:-84.3798303,33.8403458
END:VEVENT
BEGIN:VEVENT
DTSTART;TZID=America/New_York:20260512T190000
DTEND;TZID=America/New_York:20260512T220000
DTSTAMP:20260421T075806
CREATED:20260315T190000Z
LAST-MODIFIED:20260315T190000Z
UID:10003043-1778612400-1778623200@comedycalendar.com
SUMMARY:Ilana Glazer Live! LIVE at Buckhead Theatre
DESCRIPTION:Official TicketsResale Tickets \nAbout the Performer\nIlana Glazer is a comedian\, writer\, actress\, and producer best known as the co-creator and star of the critically acclaimed Comedy Central series Broad City. Her fearless\, boundary-pushing comedy tackles feminism\, identity\, and modern life with a sharp wit and infectious energy that has earned her a devoted following. \nBeyond Broad City\, Ilana has appeared in films including Rough Night and The Afterparty\, and has continued to develop her stand-up voice with a perspective that is uniquely her own. Her live shows are known for being raw\, funny\, and deeply personal. \nEvent Details\nDate: Tuesday\, May 12\, 2026\nTime: 7:00 PM\nVenue: Buckhead Theatre\, 3110 Roswell Road NE\, Atlanta\, GA 30305 \nAbout the Venue\nThe Buckhead Theatre is one of Atlanta’s most beloved mid-size entertainment venues\, located at 3110 Roswell Road NE in the upscale Buckhead neighborhood. With a capacity of approximately 1\,000\, it offers an intimate yet energetic atmosphere perfect for comedy and live performances. \nThe venue features a full bar\, excellent sightlines from every angle\, and a sophisticated yet welcoming vibe. Street parking and nearby garages are available\, and the venue is easily accessible via rideshare. \nWhat to Expect\nIlana Glazer delivers a sharp\, hilarious\, and deeply personal stand-up performance. Her shows are known for their energy\, authenticity\, and the feeling that you’re watching a truly original comedic voice at work. \nWhether you’re a longtime Broad City fan or discovering Ilana’s stand-up for the first time\, this is a night of comedy you won’t want to miss. \nTicket Information\nPrice Range: From $71\nOfficial Tickets: Available via Ticketmaster\nResale Tickets: Available via VividSeats \nOfficial TicketsResale Tickets \nThis post contains affiliate links. We may earn a commission at no extra cost to you.
URL:https://comedycalendar.com/event/ilana-glazer-live-at-buckhead-theatre/
LOCATION:Buckhead Theatre\, 3110 Roswell Road\, Atlanta\, Georgia\, 30305\, United States
ATTACH;FMTTYPE=image/jpeg:https://comedycalendar.com/wp-content/uploads/2026/03/86ff3f6c-5a81-4c89-a149-0da887652f77_CUSTOM-n7Yt5W.jpg
GEO:33.8403458;-84.3798303
X-APPLE-STRUCTURED-LOCATION;VALUE=URI;X-ADDRESS=Buckhead Theatre 3110 Roswell Road Atlanta Georgia 30305 United States;X-APPLE-RADIUS=500;X-TITLE=3110 Roswell Road:geo:-84.3798303,33.8403458
END:VEVENT
BEGIN:VEVENT
DTSTART;TZID=America/Chicago:20260516T190000
DTEND;TZID=America/Chicago:20260516T220000
DTSTAMP:20260421T075806
CREATED:20260314T200000Z
LAST-MODIFIED:20260315T233730Z
UID:10003050-1778958000-1778968800@comedycalendar.com
SUMMARY:Sherri Shepherd: Make It Make Sense Tour LIVE at Buckhead Theatre
DESCRIPTION:Official TicketsResale Tickets \nAbout the Performer\nSherri Shepherd is an Emmy Award-winning comedian\, actress\, and television personality best known as the longtime co-host of The View and host of her own daytime talk show Sherri. With a career spanning stand-up\, television\, and film\, Sherri brings her signature warmth\, honesty\, and laugh-out-loud humor to every performance. \nThe Make It Make Sense Tour is her headline stand-up run\, bringing her real-talk comedy about life\, love\, faith\, and everything in between to audiences across the country. Her Atlanta stop at the Buckhead Theatre is not to be missed. \nEvent Details\nDate: Saturday\, May 16\, 2026\nTime: 7:00 PM\nVenue: Buckhead Theatre\, 3110 Roswell Road NE\, Atlanta\, GA 30305\nTour: Make It Make Sense Tour \nAbout the Venue\nThe Buckhead Theatre is one of Atlanta’s most beloved mid-size entertainment venues\, located at 3110 Roswell Road NE in the upscale Buckhead neighborhood. With a capacity of approximately 1\,000\, it offers an intimate yet energetic atmosphere perfect for comedy and live performances. \nThe venue features a full bar\, excellent sightlines from every angle\, and a sophisticated yet welcoming vibe. Street parking and nearby garages are available\, and the venue is easily accessible via rideshare. \nWhat to Expect\nSherri Shepherd delivers a hilarious\, heartfelt stand-up performance that blends personal stories with sharp observations about modern life. Her shows are known for their warmth\, authenticity\, and the kind of comedy that makes you feel seen and heard. \nThis is a great show for fans of all ages and backgrounds. Come ready to laugh\, relate\, and leave feeling uplifted. \nTicket Information\nPrice Range: From $92\nOfficial Tickets: Available via Ticketmaster\nResale Tickets: Available via VividSeats \nOfficial TicketsResale Tickets \nThis post contains affiliate links. We may earn a commission at no extra cost to you.
URL:https://comedycalendar.com/event/sherri-shepherd-make-it-make-sense-tour-live-at-buckhead-theatre/
LOCATION:Buckhead Theatre\, 3110 Roswell Road\, Atlanta\, Georgia\, 30305\, United States
CATEGORIES:Stand Up Comedy
ATTACH;FMTTYPE=image/jpeg:https://comedycalendar.com/wp-content/uploads/2026/03/d2786dd5-8893-44fa-902a-c01d6007e2b7_CUSTOM-FAPLm4.jpg
GEO:33.8403458;-84.3798303
X-APPLE-STRUCTURED-LOCATION;VALUE=URI;X-ADDRESS=Buckhead Theatre 3110 Roswell Road Atlanta Georgia 30305 United States;X-APPLE-RADIUS=500;X-TITLE=3110 Roswell Road:geo:-84.3798303,33.8403458
END:VEVENT
BEGIN:VEVENT
DTSTART;TZID=America/Chicago:20260517T200000
DTEND;TZID=America/Chicago:20260517T220000
DTSTAMP:20260421T075806
CREATED:20260314T200000Z
LAST-MODIFIED:20260315T233737Z
UID:10003051-1779048000-1779055200@comedycalendar.com
SUMMARY:Jim Breuer: Find The Funny LIVE at Buckhead Theatre
DESCRIPTION:Official TicketsResale Tickets \nAbout the Performer\nJim Breuer is a stand-up comedian and actor best known for his iconic role as Goat Boy on Saturday Night Live and his memorable performance in the cult classic film Half Baked. With decades of experience in stand-up\, Jim has evolved into one of the most authentic and fearless voices in comedy — known for his high-energy performances\, hilarious impressions\, and deeply personal storytelling. \nHis Find The Funny tour is a celebration of laughter\, resilience\, and the power of comedy to get through life’s toughest moments. Jim’s Atlanta stop at the Buckhead Theatre features reserved seating and is open to all ages. \nEvent Details\nDate: Sunday\, May 17\, 2026\nDoors: 7:00 PM\nShow: 8:00 PM\nVenue: Buckhead Theatre\, 3110 Roswell Road NE\, Atlanta\, GA 30305\nTour: Find The Funny\nSeating: Reserved — All Ages Welcome \nAbout the Venue\nThe Buckhead Theatre is one of Atlanta’s most beloved mid-size entertainment venues\, located at 3110 Roswell Road NE in the upscale Buckhead neighborhood. With a capacity of approximately 1\,000\, it offers an intimate yet energetic atmosphere perfect for comedy and live performances. \nThe venue features a full bar\, excellent sightlines from every angle\, and a sophisticated yet welcoming vibe. Street parking and nearby garages are available\, and the venue is easily accessible via rideshare. \nWhat to Expect\nJim Breuer delivers a high-energy\, laugh-out-loud stand-up performance filled with hilarious impressions\, personal stories\, and the kind of raw\, honest comedy that only comes from decades of life experience. His shows are known for their infectious energy and the genuine connection he builds with his audience. \nThis is a great show for fans of all ages. Come early\, grab a drink\, and get ready for a night of pure\, unfiltered comedy. \nTicket Information\nPrice Range: From $35\nOfficial Tickets: Available via Ticketmaster\nResale Tickets: Available via VividSeats \nOfficial TicketsResale Tickets \nThis post contains affiliate links. We may earn a commission at no extra cost to you.
URL:https://comedycalendar.com/event/jim-breuer-find-the-funny-live-at-buckhead-theatre/
LOCATION:Buckhead Theatre\, 3110 Roswell Road\, Atlanta\, Georgia\, 30305\, United States
CATEGORIES:Stand Up Comedy
ATTACH;FMTTYPE=image/jpeg:https://comedycalendar.com/wp-content/uploads/2026/03/9d7ff4a2-2fb3-4b70-9ad6-b5b9a2518e0e_1392761_CUSTOM-jjRA5t.jpg
GEO:33.8403458;-84.3798303
X-APPLE-STRUCTURED-LOCATION;VALUE=URI;X-ADDRESS=Buckhead Theatre 3110 Roswell Road Atlanta Georgia 30305 United States;X-APPLE-RADIUS=500;X-TITLE=3110 Roswell Road:geo:-84.3798303,33.8403458
END:VEVENT
BEGIN:VEVENT
DTSTART;TZID=America/Chicago:20260620T190000
DTEND;TZID=America/Chicago:20260620T220000
DTSTAMP:20260421T075806
CREATED:20260314T200000Z
LAST-MODIFIED:20260315T233851Z
UID:10003055-1781982000-1781992800@comedycalendar.com
SUMMARY:The Kevin Langue Show LIVE at Buckhead Theatre
DESCRIPTION:Official TicketsResale Tickets \nAbout the Performer\nKevin Langue is a fast-rising stand-up comedian known for his sharp wit\, high-energy delivery\, and uniquely engaging stage presence. Building a devoted following through relentless touring and a strong social media presence\, Kevin has become one of the most buzzed-about names in live comedy today. \nThe Kevin Langue Show is a full-length headline stand-up experience that showcases Kevin’s best material — clever\, relatable\, and packed with laughs from start to finish. His Atlanta stop at the iconic Buckhead Theatre is one of the most anticipated comedy shows of the summer. \nEvent Details\nDate: Saturday\, June 20\, 2026\nTime: 7:00 PM\nVenue: Buckhead Theatre\, 3110 Roswell Road NE\, Atlanta\, GA 30305 \nAbout the Venue\nThe Buckhead Theatre is one of Atlanta’s most beloved mid-size entertainment venues\, located at 3110 Roswell Road NE in the upscale Buckhead neighborhood. With a capacity of approximately 1\,000\, it offers an intimate yet energetic atmosphere perfect for comedy and live performances. \nThe venue features a full bar\, excellent sightlines from every angle\, and a sophisticated yet welcoming vibe. Street parking and nearby garages are available\, and the venue is easily accessible via rideshare. A Lounge upgrade is also available for this show. \nWhat to Expect\nThe Kevin Langue Show is a high-energy\, laugh-out-loud stand-up performance that keeps audiences engaged from the first joke to the last. Kevin’s comedy is sharp\, observational\, and deeply relatable — the kind of show that leaves you quoting jokes on the way home. \nTickets are going fast — only 4% remain as of this posting. Grab yours now before this show sells out completely. \nTicket Information\nPrice Range: From $155\nOfficial Tickets: Available via Ticketmaster\nResale Tickets: Available via VividSeats \nOfficial TicketsResale Tickets \nThis post contains affiliate links. We may earn a commission at no extra cost to you.
URL:https://comedycalendar.com/event/the-kevin-langue-show-live-at-buckhead-theatre/
LOCATION:Buckhead Theatre\, 3110 Roswell Road\, Atlanta\, Georgia\, 30305\, United States
CATEGORIES:Showcase,Stand Up Comedy
ATTACH;FMTTYPE=image/jpeg:https://comedycalendar.com/wp-content/uploads/2026/03/42f6ee0a-7330-452f-a48d-3de43cc26b71_CUSTOM-bbAlek.jpg
GEO:33.8403458;-84.3798303
X-APPLE-STRUCTURED-LOCATION;VALUE=URI;X-ADDRESS=Buckhead Theatre 3110 Roswell Road Atlanta Georgia 30305 United States;X-APPLE-RADIUS=500;X-TITLE=3110 Roswell Road:geo:-84.3798303,33.8403458
END:VEVENT
BEGIN:VEVENT
DTSTART;TZID=America/New_York:20261204T193000
DTEND;TZID=America/New_York:20261204T220000
DTSTAMP:20260421T075806
CREATED:20260315T200000Z
LAST-MODIFIED:20260315T200000Z
UID:10003058-1796412600-1796421600@comedycalendar.com
SUMMARY:Maria Bamford LIVE at Buckhead Theatre
DESCRIPTION:Official TicketsResale Tickets \nThis post contains affiliate links. We may earn a commission at no extra cost to you. \nAbout the Performer\nMaria Bamford is one of the most original and fearless voices in American stand-up comedy. Known for her lightning-fast character voices\, deeply personal storytelling\, and willingness to tackle mental health\, family dysfunction\, and the absurdities of everyday life\, Bamford has built a devoted following over more than three decades in comedy. \nShe is perhaps best known for her semi-autobiographical Netflix series Lady Dynamite\, as well as her acclaimed stand-up specials including Old Baby\, Ask Me About My New God!\, and Weakness Is the Brand. Her comedy is simultaneously hilarious and cathartic\, offering audiences a rare combination of laughter and genuine emotional resonance. \nBamford has been praised by critics and fellow comedians alike as one of the most innovative performers working today. Her ability to inhabit multiple characters — including her own family members — within a single bit is unmatched\, and her honesty about her own struggles with mental illness has made her a beloved figure for fans who see themselves reflected in her work. \nEvent Details\nDate: Friday\, December 4\, 2026 \nTime: 7:30 PM (Doors open earlier) \nVenue: Buckhead Theatre\, 3110 Roswell Road NE\, Atlanta\, GA 30305 \nAge Restriction: 18+ (please verify with venue) \nContent Warning: Adult themes including mental health\, family dynamics\, and mature language. \nAbout the Venue\nThe Buckhead Theatre is one of Atlanta’s most beloved and intimate live entertainment venues\, located at 3110 Roswell Road NE in the upscale Buckhead neighborhood. Originally built in 1931 as a movie theater\, the venue has been beautifully restored and now serves as a premier destination for concerts\, comedy shows\, and special events. \nWith a capacity of approximately 1\,000\, the Buckhead Theatre offers an intimate atmosphere that makes every seat feel close to the stage. The venue features a main floor\, a mezzanine level\, and a VIP lounge area\, all with excellent sightlines. The historic architecture — including ornate details and a classic marquee — gives the venue a unique charm that sets it apart from modern entertainment spaces. \nAmenities include a full bar\, coat check\, and accessible seating. The Buckhead neighborhood surrounding the venue is packed with upscale dining and nightlife options\, making it easy to turn the evening into a full night out. Parking is available in nearby lots and garages throughout the Buckhead area. \nWhat to Expect\nA Maria Bamford show is unlike any other comedy experience. Her performances are dense with material — rapid-fire character voices\, unexpected tangents\, and deeply personal stories that somehow manage to be both heartbreaking and hilarious at the same time. \nAudiences can expect approximately 75–90 minutes of stand-up comedy that will challenge\, surprise\, and delight in equal measure. Bamford’s shows feel intimate even in larger venues — she has a gift for making every audience member feel like she’s speaking directly to them. \nThis is a seated show at the Buckhead Theatre. Whether you’re a longtime fan or discovering Maria Bamford for the first time\, this is a rare opportunity to see one of comedy’s true originals perform live in an intimate setting. Arrive early\, find your seat\, and prepare for an unforgettable evening. \nTicket Information\nPrice Range: $30 – $70 (plus fees) \nTickets are available through Ticketmaster (official) and VividSeats (resale). Prices may vary based on seat location and availability. \nOfficial TicketsResale Tickets \nThis post contains affiliate links. We may earn a commission at no extra cost to you.
URL:https://comedycalendar.com/event/maria-bamford-live-at-buckhead-theatre/
LOCATION:Buckhead Theatre\, 3110 Roswell Road\, Atlanta\, Georgia\, 30305\, United States
ATTACH;FMTTYPE=image/jpeg:https://comedycalendar.com/wp-content/uploads/2026/03/27e1dbf1-1e21-42f3-b3c3-0ff8dddcd1bb_CUSTOM-yvcrJb.jpg
GEO:33.8403458;-84.3798303
X-APPLE-STRUCTURED-LOCATION;VALUE=URI;X-ADDRESS=Buckhead Theatre 3110 Roswell Road Atlanta Georgia 30305 United States;X-APPLE-RADIUS=500;X-TITLE=3110 Roswell Road:geo:-84.3798303,33.8403458
END:VEVENT
END:VCALENDAR