BEGIN:VCALENDAR
VERSION:2.0
PRODID:-//Find Upcoming Comedy Shows Near You | Comedy Calendar - ECPv6.15.20//NONSGML v1.0//EN
CALSCALE:GREGORIAN
METHOD:PUBLISH
X-WR-CALNAME:Find Upcoming Comedy Shows Near You | Comedy Calendar
X-ORIGINAL-URL:https://comedycalendar.com
X-WR-CALDESC:Events for Find Upcoming Comedy Shows Near You | Comedy Calendar
REFRESH-INTERVAL;VALUE=DURATION:PT1H
X-Robots-Tag:noindex
X-PUBLISHED-TTL:PT1H
BEGIN:VTIMEZONE
TZID:America/New_York
BEGIN:DAYLIGHT
TZOFFSETFROM:-0500
TZOFFSETTO:-0400
TZNAME:EDT
DTSTART:20250309T070000
END:DAYLIGHT
BEGIN:STANDARD
TZOFFSETFROM:-0400
TZOFFSETTO:-0500
TZNAME:EST
DTSTART:20251102T060000
END:STANDARD
BEGIN:DAYLIGHT
TZOFFSETFROM:-0500
TZOFFSETTO:-0400
TZNAME:EDT
DTSTART:20260308T070000
END:DAYLIGHT
BEGIN:STANDARD
TZOFFSETFROM:-0400
TZOFFSETTO:-0500
TZNAME:EST
DTSTART:20261101T060000
END:STANDARD
BEGIN:DAYLIGHT
TZOFFSETFROM:-0500
TZOFFSETTO:-0400
TZNAME:EDT
DTSTART:20270314T070000
END:DAYLIGHT
BEGIN:STANDARD
TZOFFSETFROM:-0400
TZOFFSETTO:-0500
TZNAME:EST
DTSTART:20271107T060000
END:STANDARD
END:VTIMEZONE
BEGIN:VEVENT
DTSTART;TZID=America/New_York:20260402T200000
DTEND;TZID=America/New_York:20260402T223000
DTSTAMP:20260420T190018
CREATED:20260321T200000Z
LAST-MODIFIED:20260322T223710Z
UID:10003723-1775160000-1775169000@comedycalendar.com
SUMMARY:Gabriel Iglesias: The 1976 Tour LIVE at Bojangles Coliseum
DESCRIPTION:Official TicketsResale Tickets \nThis post contains affiliate links. We may earn a commission at no extra cost to you. \nAbout the Performer\nGabriel Iglesias — known worldwide as “Fluffy” — is one of the most beloved stand-up comedians of his generation. With a career spanning over two decades\, he has built a massive global fanbase through his signature storytelling style\, hilarious character voices\, and infectious energy. \nFluffy’s comedy blends personal anecdotes\, cultural observations\, and spot-on impressions that resonate with audiences of all backgrounds. He is known for his famous “levels of fatness” bit and his ability to turn everyday situations into laugh-out-loud moments. His Netflix specials and sold-out arena tours have cemented his status as one of comedy’s biggest stars. \nThe 1976 Tour — A Fluffy Celebration — marks a milestone year for Gabriel\, featuring all-new material packed with the warmth\, humor\, and heart that fans have come to love. \nEvent Details\n\nDate: Thursday\, April 2\, 2026\nShow Time: 8:00 PM (Doors open at 7:00 PM)\nVenue: Bojangles Coliseum\, 2700 East Independence Boulevard\, Charlotte\, NC 28205\nTicket Prices: From $51 (resale prices may vary)\nAge Restriction: All ages welcome\n\nAbout the Venue\nBojangles Coliseum is one of Charlotte’s most iconic entertainment venues\, with a rich history dating back to 1955. Located at 2700 East Independence Boulevard\, this beloved arena seats approximately 9\,600 fans and has hosted some of the biggest names in entertainment over the decades. \nThe venue offers a classic arena atmosphere with excellent sightlines from virtually every seat. Fans can enjoy a variety of concessions\, merchandise stands\, and ample parking in the surrounding lots. The Coliseum is easily accessible from major highways and is a Charlotte landmark that adds to the excitement of any live event. \nWhether you’re in the lower bowl or the upper deck\, Bojangles Coliseum delivers an intimate yet energetic atmosphere that makes every comedy show feel special. \nWhat to Expect\nExpect a high-energy\, laugh-filled evening from start to finish. Gabriel Iglesias is known for his marathon performances — shows often run 90 minutes to two hours — packed with new stories\, crowd interaction\, and his trademark impressions. \nThe 1976 Tour features all-new material celebrating a milestone year for Fluffy. Fans can expect personal stories\, cultural humor\, and the kind of feel-good comedy that leaves audiences smiling long after the show ends. This is a solo headlining performance — come ready to laugh until it hurts. \nTicket Information\nTickets start from approximately $51 and are available through Ticketmaster (official) and VividSeats (resale). Prices may vary based on seat location and demand. We recommend purchasing early as Fluffy’s shows sell out fast. \nOfficial TicketsResale Tickets
URL:https://comedycalendar.com/event/gabriel-iglesias-the-tour-live-at-bojangles-coliseum/
LOCATION:Bojangles Coliseum\, 2700 East Independence Boulevard\, Charlotte\, NC\, 28205\, United States
CATEGORIES:Stand Up Comedy
ATTACH;FMTTYPE=image/jpeg:https://comedycalendar.com/wp-content/uploads/2026/02/33a32096-d2fb-45cf-9d95-b71260f94f02_CUSTOM-uiJbzq.jpg
GEO:35.2045751;-80.7945183
X-APPLE-STRUCTURED-LOCATION;VALUE=URI;X-ADDRESS=Bojangles Coliseum 2700 East Independence Boulevard Charlotte NC 28205 United States;X-APPLE-RADIUS=500;X-TITLE=2700 East Independence Boulevard:geo:-80.7945183,35.2045751
END:VEVENT
END:VCALENDAR