BEGIN:VCALENDAR
VERSION:2.0
PRODID:-//Find Upcoming Comedy Shows Near You | Comedy Calendar - ECPv6.15.20//NONSGML v1.0//EN
CALSCALE:GREGORIAN
METHOD:PUBLISH
X-WR-CALNAME:Find Upcoming Comedy Shows Near You | Comedy Calendar
X-ORIGINAL-URL:https://comedycalendar.com
X-WR-CALDESC:Events for Find Upcoming Comedy Shows Near You | Comedy Calendar
REFRESH-INTERVAL;VALUE=DURATION:PT1H
X-Robots-Tag:noindex
X-PUBLISHED-TTL:PT1H
BEGIN:VTIMEZONE
TZID:America/New_York
BEGIN:DAYLIGHT
TZOFFSETFROM:-0500
TZOFFSETTO:-0400
TZNAME:EDT
DTSTART:20250309T070000
END:DAYLIGHT
BEGIN:STANDARD
TZOFFSETFROM:-0400
TZOFFSETTO:-0500
TZNAME:EST
DTSTART:20251102T060000
END:STANDARD
BEGIN:DAYLIGHT
TZOFFSETFROM:-0500
TZOFFSETTO:-0400
TZNAME:EDT
DTSTART:20260308T070000
END:DAYLIGHT
BEGIN:STANDARD
TZOFFSETFROM:-0400
TZOFFSETTO:-0500
TZNAME:EST
DTSTART:20261101T060000
END:STANDARD
BEGIN:DAYLIGHT
TZOFFSETFROM:-0500
TZOFFSETTO:-0400
TZNAME:EDT
DTSTART:20270314T070000
END:DAYLIGHT
BEGIN:STANDARD
TZOFFSETFROM:-0400
TZOFFSETTO:-0500
TZNAME:EST
DTSTART:20271107T060000
END:STANDARD
END:VTIMEZONE
BEGIN:VEVENT
DTSTART;TZID=America/New_York:20260425T200000
DTEND;TZID=America/New_York:20260425T220000
DTSTAMP:20260423T010923
CREATED:20260223T120000Z
LAST-MODIFIED:20260223T120000Z
UID:10002449-1777147200-1777154400@comedycalendar.com
SUMMARY:Jim Jefferies Son of a Carpenter LIVE at Au-Rene Theater at the Broward Center
DESCRIPTION:This post contains affiliate links. We earn a commission if you purchase tickets through our links at no extra cost to you. \nOfficial Tickets (Ticketmaster) \nResale Tickets (VividSeats) \nJim Jefferies Son of a Carpenter LIVE at Au-Rene Theater at the Broward Center\nJim Jefferies is a celebrated stand-up comedian known for his irreverent humor and fearless storytelling. He brings his hilarious Son of a Carpenter Tour to Fort Lauderdale for an unforgettable evening of comedy and entertainment. \nEvent Details\nDate: April 25\, 2026\nTime: 7:00 PM\nVenue: Au-Rene Theater at the Broward Center\nAddress: 201 SW 5th Avenue\, Ft Lauderdale\, FL 33312\nAge Requirement: 18+ \nAbout Jim Jefferies\nJim Jefferies is an accomplished comedian and actor known for his bold\, irreverent humor and fearless approach to comedy. He has appeared on numerous television shows and comedy specials\, building a loyal following with his unique comedic style. \nWhat to Expect\n\nHilarious stand-up comedy from a celebrated performer\nIrreverent humor and fearless storytelling\nEngaging performance and audience interaction\nAn evening of laughter and entertainment\nComedy that challenges and entertains audiences\n\nVenue Information\nAu-Rene Theater at the Broward Center is a premier performance venue in Fort Lauderdale\, hosting world-class entertainment including comedy\, theater\, and music. The intimate setting provides an excellent experience for stand-up comedy performances. \nTicket Information\nTickets are available starting at $50 and range up to $85 depending on seating. Purchase your tickets through Ticketmaster for official sales or VividSeats for resale options. \nOfficial Tickets (Ticketmaster) \nResale Tickets (VividSeats) \nThis post contains affiliate links. We earn a commission if you purchase tickets through our links at no extra cost to you. \nAll sales are final. Show times subject to change. Valid photo ID may be required for entry.
URL:https://comedycalendar.com/event/jim-jefferies-son-of-a-carpenter-live-at-au-rene-theater-at-the-broward-center/
LOCATION:Au-Rene Theater at the Broward Center\, 201 SW 5th Avenue\, Ft Lauderdale\, Florida\, 33312\, United States
ATTACH;FMTTYPE=image/jpeg:https://comedycalendar.com/wp-content/uploads/2026/02/dbbb9048-32c3-4c40-a5e8-7ab1548f7f37_EVENT_DETAIL_PAGE_16_9-Ch2QFb.jpg
GEO:26.1192712;-80.1488015
X-APPLE-STRUCTURED-LOCATION;VALUE=URI;X-ADDRESS=Au-Rene Theater at the Broward Center 201 SW 5th Avenue Ft Lauderdale Florida 33312 United States;X-APPLE-RADIUS=500;X-TITLE=201 SW 5th Avenue:geo:-80.1488015,26.1192712
END:VEVENT
BEGIN:VEVENT
DTSTART;TZID=America/New_York:20260516T200000
DTEND;TZID=America/New_York:20260516T220000
DTSTAMP:20260423T010923
CREATED:20260223T120000Z
LAST-MODIFIED:20260223T120000Z
UID:10002451-1778961600-1778968800@comedycalendar.com
SUMMARY:Sal Vulcano LIVE at Au-Rene Theater at the Broward Center
DESCRIPTION:This post contains affiliate links. We earn a commission if you purchase tickets through our links at no extra cost to you. \nOfficial Tickets (Ticketmaster) \nResale Tickets (VividSeats) \nSal Vulcano LIVE at Au-Rene Theater at the Broward Center\nSal Vulcano is a celebrated comedian best known as a star of the hit television show “Impractical Jokers.” He brings his hilarious stand-up comedy to Fort Lauderdale for an unforgettable evening of laughter and entertainment. \nEvent Details\nDate: May 16\, 2026\nTime: 7:00 PM\nVenue: Au-Rene Theater at the Broward Center\nAddress: 201 SW 5th Avenue\, Ft Lauderdale\, FL 33312\nAge Requirement: All ages \nAbout Sal Vulcano\nSal Vulcano is an accomplished comedian and television personality best known for his role on the hit show “Impractical Jokers.” His stand-up comedy is known for its humor\, relatability\, and engaging storytelling. He has built a loyal following through his television work and live performances. \nWhat to Expect\n\nHilarious stand-up comedy from a television star\nHumor and stories from his Impractical Jokers experience\nEngaging performance and audience interaction\nAn evening of laughter and entertainment\nComedy that appeals to fans of all ages\n\nVenue Information\nAu-Rene Theater at the Broward Center is a premier performance venue in Fort Lauderdale\, hosting world-class entertainment including comedy\, theater\, and music. The intimate setting provides an excellent experience for stand-up comedy performances. \nTicket Information\nTickets are available starting at $45 and range up to $75 depending on seating. Purchase your tickets through Ticketmaster for official sales or VividSeats for resale options. \nOfficial Tickets (Ticketmaster) \nResale Tickets (VividSeats) \nThis post contains affiliate links. We earn a commission if you purchase tickets through our links at no extra cost to you. \nAll sales are final. Show times subject to change. Valid photo ID may be required for entry.
URL:https://comedycalendar.com/event/sal-vulcano-live-at-au-rene-theater-at-the-broward-center/
LOCATION:Au-Rene Theater at the Broward Center\, 201 SW 5th Avenue\, Ft Lauderdale\, Florida\, 33312\, United States
ATTACH;FMTTYPE=image/jpeg:https://comedycalendar.com/wp-content/uploads/2026/02/beb119f7-a463-46c3-92ca-84060badd4a0_EVENT_DETAIL_PAGE_16_9-R8Iyz7.jpg
GEO:26.1192712;-80.1488015
X-APPLE-STRUCTURED-LOCATION;VALUE=URI;X-ADDRESS=Au-Rene Theater at the Broward Center 201 SW 5th Avenue Ft Lauderdale Florida 33312 United States;X-APPLE-RADIUS=500;X-TITLE=201 SW 5th Avenue:geo:-80.1488015,26.1192712
END:VEVENT
END:VCALENDAR