BEGIN:VCALENDAR
VERSION:2.0
PRODID:-//Find Upcoming Comedy Shows Near You | Comedy Calendar - ECPv6.15.20//NONSGML v1.0//EN
CALSCALE:GREGORIAN
METHOD:PUBLISH
X-WR-CALNAME:Find Upcoming Comedy Shows Near You | Comedy Calendar
X-ORIGINAL-URL:https://comedycalendar.com
X-WR-CALDESC:Events for Find Upcoming Comedy Shows Near You | Comedy Calendar
REFRESH-INTERVAL;VALUE=DURATION:PT1H
X-Robots-Tag:noindex
X-PUBLISHED-TTL:PT1H
BEGIN:VTIMEZONE
TZID:America/New_York
BEGIN:DAYLIGHT
TZOFFSETFROM:-0500
TZOFFSETTO:-0400
TZNAME:EDT
DTSTART:20250309T070000
END:DAYLIGHT
BEGIN:STANDARD
TZOFFSETFROM:-0400
TZOFFSETTO:-0500
TZNAME:EST
DTSTART:20251102T060000
END:STANDARD
BEGIN:DAYLIGHT
TZOFFSETFROM:-0500
TZOFFSETTO:-0400
TZNAME:EDT
DTSTART:20260308T070000
END:DAYLIGHT
BEGIN:STANDARD
TZOFFSETFROM:-0400
TZOFFSETTO:-0500
TZNAME:EST
DTSTART:20261101T060000
END:STANDARD
BEGIN:DAYLIGHT
TZOFFSETFROM:-0500
TZOFFSETTO:-0400
TZNAME:EDT
DTSTART:20270314T070000
END:DAYLIGHT
BEGIN:STANDARD
TZOFFSETFROM:-0400
TZOFFSETTO:-0500
TZNAME:EST
DTSTART:20271107T060000
END:STANDARD
END:VTIMEZONE
BEGIN:VEVENT
DTSTART;TZID=America/New_York:20260514T193000
DTEND;TZID=America/New_York:20260514T213000
DTSTAMP:20260425T110746
CREATED:20260320T210000Z
LAST-MODIFIED:20260320T210000Z
UID:10003510-1778787000-1778794200@comedycalendar.com
SUMMARY:Yvette Segan LIVE at Punch Line Philly
DESCRIPTION:Official TicketsResale Tickets \nThis post contains affiliate links. We may earn a commission at no extra cost to you. \nAbout Yvette Segan\nYvette Segan is a rising stand-up comedian known for her sharp wit\, relatable storytelling\, and fearless approach to comedy. With a style that blends personal anecdotes with keen observations about everyday life\, Segan has been building a devoted following through her live performances and growing presence in the comedy world. \nHer comedy tackles the absurdities of modern life\, relationships\, and the universal experiences that connect us all. Audiences consistently describe her shows as hilarious\, honest\, and deeply engaging — the kind of performance that makes you feel like you’ve made a new best friend by the end of the night. \nCatching Yvette Segan live at Punch Line Philly is a rare opportunity to see one of comedy’s most exciting emerging voices in an intimate club setting. \nEvent Details\n\nDate: Thursday\, May 14\, 2026\nShow Time: 7:30 PM EDT\nVenue: Punch Line Philly\, 33 E. Laurel Street\, Philadelphia\, PA 19123\nAge Restriction: 21+ / 2 Beverage Minimum\nTicket Price: From $46\n\nAbout the Venue\nPunch Line Philly is Philadelphia’s premier stand-up comedy club\, located at 33 E. Laurel Street in the heart of Northern Liberties. Part of the nationally acclaimed Punch Line Comedy Club chain\, this intimate venue delivers top-tier comedy talent in an up-close\, personal setting that puts every audience member close to the action. \nThe club features table seating\, a full-service bar\, and a lively atmosphere that makes every show feel like a special night out. With a two-beverage minimum\, guests are encouraged to settle in\, order a drink\, and enjoy the show. The venue has a capacity of approximately 300 guests\, ensuring an intimate experience with excellent sightlines from every seat. \nParking is available at nearby lots and garages\, and the venue is easily accessible via public transit. Punch Line Philly is known for its warm\, welcoming atmosphere and consistently delivers some of the best comedy nights in the city. \nWhat to Expect\nYvette Segan’s live show is a polished\, engaging evening of stand-up comedy. Expect sharp observations\, clever storytelling\, and the kind of confident\, original performance that makes you an instant fan. Her ability to connect with diverse audiences makes every show feel uniquely tailored to the room. \nExpect an opening act followed by Yvette’s full headlining set. The show runs approximately 90 minutes. This is a 21+ event with a two-beverage minimum per guest. Arrive early to grab a great seat and enjoy the full experience. \nTicket Information\nPrice: From $46 (plus fees) \nTickets are available now through Ticketmaster (official) or VividSeats (resale). Don’t miss Yvette Segan live at Punch Line Philly! \nOfficial TicketsResale Tickets \nThis post contains affiliate links. We may earn a commission at no extra cost to you.
URL:https://comedycalendar.com/event/yvette-segan-live-at-punch-line-philly/
LOCATION:Punch Line Philly\, 33 E. Laurel Street\, Philadelphia\, PA\, 19123\, United States
ATTACH;FMTTYPE=image/jpeg:https://comedycalendar.com/wp-content/uploads/2026/03/4d21e5bb-767e-4202-abe7-5ae74850bf42_CUSTOM-9Fk1jR.jpg
GEO:39.9652742;-75.1351879
X-APPLE-STRUCTURED-LOCATION;VALUE=URI;X-ADDRESS=Punch Line Philly 33 E. Laurel Street Philadelphia PA 19123 United States;X-APPLE-RADIUS=500;X-TITLE=33 E. Laurel Street:geo:-75.1351879,39.9652742
END:VEVENT
END:VCALENDAR