BEGIN:VCALENDAR
VERSION:2.0
PRODID:-//Find Upcoming Comedy Shows Near You | Comedy Calendar - ECPv6.15.20//NONSGML v1.0//EN
CALSCALE:GREGORIAN
METHOD:PUBLISH
X-WR-CALNAME:Find Upcoming Comedy Shows Near You | Comedy Calendar
X-ORIGINAL-URL:https://comedycalendar.com
X-WR-CALDESC:Events for Find Upcoming Comedy Shows Near You | Comedy Calendar
REFRESH-INTERVAL;VALUE=DURATION:PT1H
X-Robots-Tag:noindex
X-PUBLISHED-TTL:PT1H
BEGIN:VTIMEZONE
TZID:America/Denver
BEGIN:DAYLIGHT
TZOFFSETFROM:-0700
TZOFFSETTO:-0600
TZNAME:MDT
DTSTART:20250309T090000
END:DAYLIGHT
BEGIN:STANDARD
TZOFFSETFROM:-0600
TZOFFSETTO:-0700
TZNAME:MST
DTSTART:20251102T080000
END:STANDARD
BEGIN:DAYLIGHT
TZOFFSETFROM:-0700
TZOFFSETTO:-0600
TZNAME:MDT
DTSTART:20260308T090000
END:DAYLIGHT
BEGIN:STANDARD
TZOFFSETFROM:-0600
TZOFFSETTO:-0700
TZNAME:MST
DTSTART:20261101T080000
END:STANDARD
BEGIN:DAYLIGHT
TZOFFSETFROM:-0700
TZOFFSETTO:-0600
TZNAME:MDT
DTSTART:20270314T090000
END:DAYLIGHT
BEGIN:STANDARD
TZOFFSETFROM:-0600
TZOFFSETTO:-0700
TZNAME:MST
DTSTART:20271107T080000
END:STANDARD
END:VTIMEZONE
BEGIN:VTIMEZONE
TZID:America/New_York
BEGIN:DAYLIGHT
TZOFFSETFROM:-0500
TZOFFSETTO:-0400
TZNAME:EDT
DTSTART:20250309T070000
END:DAYLIGHT
BEGIN:STANDARD
TZOFFSETFROM:-0400
TZOFFSETTO:-0500
TZNAME:EST
DTSTART:20251102T060000
END:STANDARD
BEGIN:DAYLIGHT
TZOFFSETFROM:-0500
TZOFFSETTO:-0400
TZNAME:EDT
DTSTART:20260308T070000
END:DAYLIGHT
BEGIN:STANDARD
TZOFFSETFROM:-0400
TZOFFSETTO:-0500
TZNAME:EST
DTSTART:20261101T060000
END:STANDARD
BEGIN:DAYLIGHT
TZOFFSETFROM:-0500
TZOFFSETTO:-0400
TZNAME:EDT
DTSTART:20270314T070000
END:DAYLIGHT
BEGIN:STANDARD
TZOFFSETFROM:-0400
TZOFFSETTO:-0500
TZNAME:EST
DTSTART:20271107T060000
END:STANDARD
END:VTIMEZONE
BEGIN:VTIMEZONE
TZID:America/Los_Angeles
BEGIN:DAYLIGHT
TZOFFSETFROM:-0800
TZOFFSETTO:-0700
TZNAME:PDT
DTSTART:20250309T100000
END:DAYLIGHT
BEGIN:STANDARD
TZOFFSETFROM:-0700
TZOFFSETTO:-0800
TZNAME:PST
DTSTART:20251102T090000
END:STANDARD
BEGIN:DAYLIGHT
TZOFFSETFROM:-0800
TZOFFSETTO:-0700
TZNAME:PDT
DTSTART:20260308T100000
END:DAYLIGHT
BEGIN:STANDARD
TZOFFSETFROM:-0700
TZOFFSETTO:-0800
TZNAME:PST
DTSTART:20261101T090000
END:STANDARD
BEGIN:DAYLIGHT
TZOFFSETFROM:-0800
TZOFFSETTO:-0700
TZNAME:PDT
DTSTART:20270314T100000
END:DAYLIGHT
BEGIN:STANDARD
TZOFFSETFROM:-0700
TZOFFSETTO:-0800
TZNAME:PST
DTSTART:20271107T090000
END:STANDARD
END:VTIMEZONE
BEGIN:VEVENT
DTSTART;TZID=America/Denver:20260509T190000
DTEND;TZID=America/Denver:20260509T210000
DTSTAMP:20260420T174620
CREATED:20260327T130000Z
LAST-MODIFIED:20260327T130000Z
UID:10004206-1778353200-1778360400@comedycalendar.com
SUMMARY:Seth Meyers LIVE at Route 66 Casino
DESCRIPTION:Official TicketsResale Tickets \nAbout the Performer\nSeth Meyers is a comedian\, writer\, and television personality best known as the host of NBC’s Late Night with Seth Meyers. Before his late-night career\, Seth was a longtime cast member and head writer at Saturday Night Live\, where he anchored the iconic “Weekend Update” segment for years. \nAs a stand-up comedian\, Seth brings the same sharp wit and intelligent humor that has made him a household name. His live shows are known for their clever observations\, political commentary\, and warm\, conversational delivery that connects with audiences of all backgrounds. \nThe Albuquerque stop at Route 66 Casino is part of his 2026 live stand-up tour\, and fans can expect an evening of polished\, laugh-out-loud comedy from one of TV’s most beloved personalities. \nEvent Details\n\nDate: Saturday\, May 9\, 2026\nTime: 7:00 PM MDT (Doors open at 6:00 PM)\nVenue: Route 66 Casino – Legends Theater\nAddress: 14500 Central Ave SW\, Albuquerque\, NM 87121\nTicket Price Range: From $71\nAge Restrictions: 21+ (casino property)\n\nAbout the Venue\nRoute 66 Casino Hotel is a premier entertainment destination located just west of Albuquerque along historic Route 66. The Legends Theater inside the casino is a state-of-the-art performance venue with a capacity of approximately 1\,200 guests\, offering an intimate and exciting atmosphere for live shows. \nThe theater features excellent acoustics\, comfortable seating\, and a full-service bar\, making it one of the most enjoyable entertainment experiences in New Mexico. The casino complex also includes multiple dining options\, a hotel\, and gaming floors\, so guests can make a full evening of it. \nParking is free and plentiful at Route 66 Casino. The venue is easily accessible from I-40 West\, making it convenient for attendees from Albuquerque and surrounding communities. \nWhat to Expect\nExpect a polished\, high-quality stand-up performance from one of the most recognizable faces in American comedy. Seth Meyers brings his signature blend of smart humor\, political wit\, and personal storytelling to the stage in an intimate casino theater setting. \nThe Legends Theater at Route 66 Casino creates a cozy\, club-like atmosphere that makes the show feel personal and engaging. Whether you’re a longtime fan of Late Night or discovering Seth’s stand-up for the first time\, this is a show you won’t want to miss. \nDoors open at 6:00 PM. Arrive early to enjoy the casino amenities and grab a drink before the show begins at 7:00 PM. \nTicket Information\nTickets for Seth Meyers at Route 66 Casino start from $71. Purchase official tickets through Ticketmaster or find resale tickets on VividSeats. \nOfficial TicketsResale Tickets \nThis post contains affiliate links. We may earn a commission at no extra cost to you.
URL:https://comedycalendar.com/event/seth-meyers-live-at-route-casino/
LOCATION:Route 66 Casino\, 14500 Central Ave SW\, Albuquerque\, New Mexico\, 87121\, United States
ATTACH;FMTTYPE=image/jpeg:https://media.ticketmaster.com/en-us/dam/a/639/c860f8e9-1fb4-48a9-981f-607b28429639_CUSTOM.jpg
GEO:35.0289546;-106.9513554
X-APPLE-STRUCTURED-LOCATION;VALUE=URI;X-ADDRESS=Route 66 Casino 14500 Central Ave SW Albuquerque New Mexico 87121 United States;X-APPLE-RADIUS=500;X-TITLE=14500 Central Ave SW:geo:-106.9513554,35.0289546
END:VEVENT
BEGIN:VEVENT
DTSTART;TZID=America/New_York:20260528T190000
DTEND;TZID=America/New_York:20260528T213000
DTSTAMP:20260420T174620
CREATED:20260322T200000Z
LAST-MODIFIED:20260326T212128Z
UID:10004036-1779994800-1780003800@comedycalendar.com
SUMMARY:Rayna Greenberg: Honestly\, It's You LIVE at Pittsburgh Improv
DESCRIPTION:Official TicketsResale Tickets \nAbout Rayna Greenberg\nRayna Greenberg is a comedian\, entertainer\, and podcaster best known as the co-host of the chart-topping comedy and relationship podcast Girls Gotta Eat. \nWith nearly 500K Instagram followers and a devoted fanbase\, Rayna is now taking the stage with her first solo stand-up tour\, Honestly\, It’s You — a deeply funny and relatable commentary on modern dating\, relationships\, and self-discovery. \nHer comedy is fearless\, honest\, and unapologetically funny. Rayna brings high-energy storytelling and sharp observational humor to every performance. \nEvent Details\nDate: Thursday\, May 28\, 2026\nTime: 7:00 PM (doors open at 6:00 PM)\nVenue: Pittsburgh Improv\, 166 E. Bridge St\, Homestead\, PA 15120\nTour: Honestly\, It’s You — Solo Stand-Up Tour\nShow Duration: Approximately 75–90 minutes \nAbout the Venue\nThe Pittsburgh Improv is Pittsburgh’s premier comedy club\, located in the Waterfront entertainment complex in Homestead\, PA. \nThe intimate showroom seats approximately 300 guests with great sightlines from every seat. A full-service bar and restaurant are on-site\, with a two-drink minimum per person. \nFree parking is available in the Waterfront complex lots. Arrive early to enjoy dinner before the show. \nWhat to Expect\nRayna Greenberg’s Honestly\, It’s You tour is a solo stand-up show built around her signature brand of honest\, relatable humor about dating and modern relationships. \nFans of the Girls Gotta Eat podcast will love seeing Rayna live — her stage presence is electric and her storytelling is both hilarious and deeply relatable. \nThis is a rare chance to see one of podcasting’s biggest comedy voices in an intimate club setting. \nTicket Information\nTickets range from $25 – $60 depending on seating and availability. \nOfficial TicketsResale Tickets \nThis post contains affiliate links. We may earn a commission at no extra cost to you.
URL:https://comedycalendar.com/event/rayna-greenberg-honestly-its-you-live-at-pittsburgh-improv/
LOCATION:Pittsburgh Improv\, 166 E. Bridge St\, Homestead\, Pennsylvania\, 15120\, United States
CATEGORIES:Improv,Stand Up Comedy
ATTACH;FMTTYPE=image/jpeg:https://comedycalendar.com/wp-content/uploads/2026/03/74b9a919-1e79-4a63-a3b8-509f677b707f_RETINA_PORTRAIT_3_2-KxNou3.jpg
GEO:40.4089383;-79.9149412
X-APPLE-STRUCTURED-LOCATION;VALUE=URI;X-ADDRESS=Pittsburgh Improv 166 E. Bridge St Homestead Pennsylvania 15120 United States;X-APPLE-RADIUS=500;X-TITLE=166 E. Bridge St:geo:-79.9149412,40.4089383
END:VEVENT
BEGIN:VEVENT
DTSTART;TZID=America/New_York:20260528T193000
DTEND;TZID=America/New_York:20260528T223000
DTSTAMP:20260420T174620
CREATED:20260401T040005Z
LAST-MODIFIED:20260401T040005Z
UID:10004644-1779996600-1780007400@comedycalendar.com
SUMMARY:John Mulaney: Mister Whatever LIVE at The Lyric
DESCRIPTION:Official TicketsResale Tickets \nAbout the Performer\nJohn Mulaney is a four-time Emmy Award\, Critics Choice Award\, and WGA Award-winning writer\, comedian\, and actor. He is widely regarded as one of the greatest stand-up comedians of his generation\, known for his impeccable storytelling\, sharp wit\, and masterful delivery. \nMulaney is currently on the first leg of his newest stand-up tour\, Mister Whatever\, performing across North America. He recently hosted and executive produced the Netflix talk show Everybody’s Live with John Mulaney\, and starred in the Broadway play All In: Comedy About Love alongside Fred Armisen and Richard Kind. \nHis previous stand-up specials — including New in Town\, The Comeback Kid\, Kid Gorgeous\, and Baby J — have all been critically acclaimed. Fans can expect a masterclass in stand-up comedy with his signature storytelling style\, covering topics from his personal life\, sobriety journey\, family\, and the absurdities of everyday existence. \nEvent Details\n\nDate: Thursday\, May 28\, 2026\nShow Time: 7:30 PM\nVenue: The Lyric\, 140 West Mount Royal Avenue\, Baltimore\, MD 21201\nTour: Mister Whatever\nNote: Rescheduled from original March 14\, 2026 date\n\nAbout the Venue\nThe Lyric Baltimore is one of the most beloved and historic performance venues in the Mid-Atlantic region. Located at 140 West Mount Royal Avenue in the heart of Baltimore’s cultural district\, The Lyric has been hosting world-class performances since 1894. \nWith a seating capacity of approximately 2\,564\, The Lyric offers an intimate yet grand atmosphere that is perfect for stand-up comedy. The venue features excellent sightlines from every seat\, superb acoustics\, and a classic architectural design that adds to the overall experience. \nParking is available in nearby garages and street parking throughout the Mount Vernon neighborhood. The venue is also accessible via public transit. Concessions and a full bar are available inside the venue. \nWhat to Expect\nJohn Mulaney’s Mister Whatever tour has been receiving rave reviews across North America. Fans describe the show as one of the funniest stand-up performances they’ve ever seen\, with Mulaney delivering over 90 minutes of non-stop laughter. \nThe show features Mulaney’s signature storytelling style — long-form narratives that build to hilarious payoffs\, combined with sharp observations about modern life\, his personal experiences\, and the world around him. Expect openers before the main set. \nThis is a must-see event for comedy fans. Tickets are selling fast — grab yours before they’re gone! \nTicket Information\nPrice: From $104 \nGet your official tickets through Ticketmaster or grab resale tickets through VividSeats: \nOfficial TicketsResale Tickets \nThis post contains affiliate links. We may earn a commission at no extra cost to you.
URL:https://comedycalendar.com/event/john-mulaney-mister-whatever-live-at-the-lyric-may/
LOCATION:The Lyric\, 140 West Mount Royal Avenue\, Baltimore\, MD\, 21201\, United States
ATTACH;FMTTYPE=image/jpeg:https://s1.ticketm.net/dam/a/b30/ccd9ebe2-c301-4487-bbe4-5bd6be744b30_RETINA_PORTRAIT_3_2.jpg
GEO:39.3057095;-76.6181001
X-APPLE-STRUCTURED-LOCATION;VALUE=URI;X-ADDRESS=The Lyric 140 West Mount Royal Avenue Baltimore MD 21201 United States;X-APPLE-RADIUS=500;X-TITLE=140 West Mount Royal Avenue:geo:-76.6181001,39.3057095
END:VEVENT
BEGIN:VEVENT
DTSTART;TZID=America/New_York:20260531T190000
DTEND;TZID=America/New_York:20260531T213000
DTSTAMP:20260420T174620
CREATED:20260329T050000Z
LAST-MODIFIED:20260329T050000Z
UID:10004394-1780254000-1780263000@comedycalendar.com
SUMMARY:John Mulaney: Mister Whatever LIVE at Chrysler Hall
DESCRIPTION:Official TicketsResale Tickets \nAbout the Performer\nJohn Mulaney is one of the most celebrated stand-up comedians and writers of his generation. A former Saturday Night Live writer and performer\, Mulaney has released multiple critically acclaimed Netflix specials including New in Town\, The Comeback Kid\, Kid Gorgeous\, and Baby J. \nKnown for his impeccable timing\, storytelling mastery\, and sharp observational humor\, Mulaney has a unique ability to turn personal experiences — including his well-documented struggles with addiction and recovery — into comedy gold. His style is cerebral\, precise\, and endlessly quotable. \nMister Whatever is his latest stand-up tour\, and early reviews from other cities have been overwhelmingly positive. This is a rare chance to see one of comedy’s true craftsmen perform live in Norfolk. \nEvent Details\n\nDate: Sunday\, May 31\, 2026\nShow Time: 7:00 PM\nVenue: Chrysler Hall\, 215 St Pauls Blvd\, Norfolk\, VA 23510\nPhone: (757) 664-6464\nNote: Rescheduled from original March 12\, 2026 date\nAge Restrictions: All ages welcome\n\nAbout the Venue\nChrysler Hall is Norfolk’s premier performing arts venue and one of the most iconic concert halls in the Hampton Roads region. Located at 215 St Pauls Blvd in downtown Norfolk\, Chrysler Hall has hosted world-class performers for decades. \nWith a seating capacity of approximately 2\,500\, Chrysler Hall offers an intimate yet grand setting with exceptional acoustics and sightlines from every seat. The venue features comfortable seating\, multiple bars and concession areas\, and a stunning interior that sets the stage for an unforgettable evening. \nOperated by SevenVenues\, Chrysler Hall is easily accessible from downtown Norfolk. Parking is available in nearby city garages and surface lots. The venue is surrounded by restaurants and bars\, making it perfect for a pre-show dinner or post-show drinks. \nWhat to Expect\nJohn Mulaney’s Mister Whatever tour is a full-length solo stand-up comedy show. Expect Mulaney to deliver his signature brand of meticulously crafted storytelling\, sharp wit\, and perfectly timed punchlines. \nThe show runs approximately 90 minutes and features all-new material. Mulaney is known for creating an intimate atmosphere even in larger venues — his conversational style makes every audience member feel like he’s speaking directly to them. \nThis show was originally scheduled for March 12\, 2026 and has been rescheduled to May 31. All previously purchased tickets remain valid. If you haven’t grabbed yours yet\, now is the time. \nTicket Information\nPrice Range: $95 – $200 \nTickets are available through Ticketmaster (official) and VividSeats (resale). This show is expected to sell out — don’t wait. \nOfficial TicketsResale Tickets \nThis post contains affiliate links. We may earn a commission at no extra cost to you.
URL:https://comedycalendar.com/event/john-mulaney-mister-whatever-live-at-chrysler-hall-2/
LOCATION:Chrysler Hall\, 215 St Pauls Blvd\, Norfolk\, VA\, 23510\, US
ATTACH;FMTTYPE=image/jpeg:https://comedycalendar.com/wp-content/uploads/2026/03/ccd9ebe2-c301-4487-bbe4-5bd6be744b30_CUSTOM-b0XiPO.jpg
GEO:36.8521468;-76.2861968
X-APPLE-STRUCTURED-LOCATION;VALUE=URI;X-ADDRESS=Chrysler Hall 215 St Pauls Blvd Norfolk VA 23510 US;X-APPLE-RADIUS=500;X-TITLE=215 St Pauls Blvd:geo:-76.2861968,36.8521468
END:VEVENT
BEGIN:VEVENT
DTSTART;TZID=America/Los_Angeles:20260812T190000
DTEND;TZID=America/Los_Angeles:20260812T210000
DTSTAMP:20260420T174620
CREATED:20260319T000000Z
LAST-MODIFIED:20260320T012605Z
UID:10003420-1786561200-1786568400@comedycalendar.com
SUMMARY:Ali Wong Live LIVE at McCaw Hall
DESCRIPTION:Official TicketsResale Tickets \nAbout the Performer\nAli Wong is one of the biggest comedy stars in the world — an Emmy Award-winning actress\, comedian\, and writer whose Netflix specials Baby Cobra\, Hard Knock Wife\, and Don Wong have made her a household name. Known for her fearless\, hilarious\, and deeply personal comedy about marriage\, motherhood\, and modern life\, Wong has built a massive global following through her stand-up and screen work. \nHer breakout Netflix special Baby Cobra — filmed while she was seven months pregnant — became a cultural phenomenon and launched her into the comedy stratosphere. Since then\, Wong has starred in the Netflix series Beef (for which she won an Emmy)\, Always Be My Maybe\, and numerous other projects that have cemented her status as one of entertainment’s most versatile talents. \nAli Wong Live is her latest stand-up tour\, bringing a brand-new hour of comedy to some of the most prestigious venues in North America. Seattle’s McCaw Hall hosts two consecutive nights — August 12 and 13 — making this one of the most anticipated comedy events of the year in the Pacific Northwest. \nEvent Details\n\nDate: Wednesday\, August 12\, 2026\nShow Time: 7:00 PM\nVenue: McCaw Hall\, 321 Mercer Street\, Seattle\, WA 98109\nAge Policy: All Ages\nSeating: Reserved Seated\n\nAbout the Venue\nMcCaw Hall is one of Seattle’s premier performance venues\, located at Seattle Center at 321 Mercer Street. Home to Seattle Opera and Pacific Northwest Ballet\, McCaw Hall is a world-class facility with stunning acoustics\, excellent sightlines\, and a capacity of approximately 2\,900 guests. \nThe venue features orchestra\, mezzanine\, and balcony seating levels\, offering excellent views from every section. McCaw Hall is conveniently located at Seattle Center\, steps from the Space Needle and easily accessible via the Seattle Center Monorail from downtown. \nParking is available at the Seattle Center Garage and numerous nearby lots. The venue is also accessible via Seattle Metro bus routes. \nWhat to Expect\nAli Wong Live is a must-see comedy event — a full evening of stand-up comedy from one of the funniest and most celebrated performers working today. Expect bold\, hilarious observations about life\, relationships\, and the human experience delivered with Wong’s signature fearless energy. \nWong’s live shows are known for their incredible energy and the sense that you’re witnessing something truly special. Her ability to connect with audiences through honest\, sometimes shocking humor creates an unforgettable shared experience. \nTicket Information\nTickets for Ali Wong Live at McCaw Hall are available now. Prices range from $65 to $150 depending on seat selection. \n\nOfficial Tickets: Purchase directly through Ticketmaster for guaranteed authentic tickets.\nResale Tickets: Find deals on resale tickets through VividSeats.\n\nOfficial TicketsResale Tickets \nThis post contains affiliate links. We may earn a commission at no extra cost to you.
URL:https://comedycalendar.com/event/ali-wong-live-at-mccaw-hall-seattle/
LOCATION:McCaw Hall\, 321 Mercer Street\, Seattle\, Washington\, 98109\, United States
CATEGORIES:Stand Up Comedy
ATTACH;FMTTYPE=image/jpeg:https://s1.ticketm.net/dam/a/253/e03b01e0-2f00-4b0e-be33-7c89a92f3253_EVENT_DETAIL_PAGE_16_9.jpg
GEO:47.6243782;-122.3502386
X-APPLE-STRUCTURED-LOCATION;VALUE=URI;X-ADDRESS=McCaw Hall 321 Mercer Street Seattle Washington 98109 United States;X-APPLE-RADIUS=500;X-TITLE=321 Mercer Street:geo:-122.3502386,47.6243782
END:VEVENT
END:VCALENDAR