BEGIN:VCALENDAR
VERSION:2.0
PRODID:-//Find Upcoming Comedy Shows Near You | Comedy Calendar - ECPv6.15.20//NONSGML v1.0//EN
CALSCALE:GREGORIAN
METHOD:PUBLISH
X-ORIGINAL-URL:https://comedycalendar.com
X-WR-CALDESC:Events for Find Upcoming Comedy Shows Near You | Comedy Calendar
REFRESH-INTERVAL;VALUE=DURATION:PT1H
X-Robots-Tag:noindex
X-PUBLISHED-TTL:PT1H
BEGIN:VTIMEZONE
TZID:America/New_York
BEGIN:DAYLIGHT
TZOFFSETFROM:-0500
TZOFFSETTO:-0400
TZNAME:EDT
DTSTART:20250309T070000
END:DAYLIGHT
BEGIN:STANDARD
TZOFFSETFROM:-0400
TZOFFSETTO:-0500
TZNAME:EST
DTSTART:20251102T060000
END:STANDARD
BEGIN:DAYLIGHT
TZOFFSETFROM:-0500
TZOFFSETTO:-0400
TZNAME:EDT
DTSTART:20260308T070000
END:DAYLIGHT
BEGIN:STANDARD
TZOFFSETFROM:-0400
TZOFFSETTO:-0500
TZNAME:EST
DTSTART:20261101T060000
END:STANDARD
BEGIN:DAYLIGHT
TZOFFSETFROM:-0500
TZOFFSETTO:-0400
TZNAME:EDT
DTSTART:20270314T070000
END:DAYLIGHT
BEGIN:STANDARD
TZOFFSETFROM:-0400
TZOFFSETTO:-0500
TZNAME:EST
DTSTART:20271107T060000
END:STANDARD
END:VTIMEZONE
BEGIN:VEVENT
DTSTART;TZID=America/New_York:20260418T190000
DTEND;TZID=America/New_York:20260418T220000
DTSTAMP:20260420T220514
CREATED:20260328T030000Z
LAST-MODIFIED:20260328T030000Z
UID:10004323-1776538800-1776549600@comedycalendar.com
SUMMARY:Nick Offerman: Big Woodchuck LIVE at Chevalier Theatre
DESCRIPTION:This post contains affiliate links. We earn a commission if you purchase tickets through our links at no extra cost to you. \nOfficial Tickets\nResale Tickets \nNick Offerman: Big Woodchuck LIVE at Chevalier Theatre\nActor\, author\, and comedian Nick Offerman — beloved for his iconic role as Ron Swanson on Parks and Recreation — brings his hilarious Big Woodchuck stand-up tour to the Chevalier Theatre in Medford\, MA on Saturday\, April 18\, 2026. Expect a night of dry wit\, heartfelt storytelling\, and plenty of woodworking humor from one of America’s most entertaining performers. \nEvent Details\nDate: Saturday\, April 18\, 2026\nTime: 7:00 PM (Doors open 1 hour prior)\nVenue: Chevalier Theatre\nAddress: 30 Forest St\, Medford\, MA 02155\nPhone: (781) 391-7469 \nAbout Nick Offerman\nNick Offerman is an acclaimed actor\, author\, woodworker\, and stand-up comedian best known for playing Ron Swanson on NBC’s Parks and Recreation. He has written multiple bestselling books\, released stand-up specials\, and toured extensively across North America. His comedy blends dry wit\, Midwestern sensibility\, and genuine passion for craftsmanship and the outdoors. \nWhat to Expect\n\nA full evening of Nick Offerman’s signature dry wit and storytelling\nHilarious material on life\, woodworking\, nature\, and American culture\nAn intimate performance at the beloved Chevalier Theatre in Medford\nOne of TV’s most beloved actors performing live stand-up comedy\nA warm\, funny\, and memorable night of entertainment\n\nVenue Information\nThe Chevalier Theatre is a beloved community venue located at 30 Forest St in Medford\, MA. Known for its intimate atmosphere and excellent acoustics\, it’s one of the Boston area’s most charming spots for live entertainment. \nTicket Information\nTickets start from $58. Tickets are available via official channels and resale platforms. Note: The afternoon matinee show is sold out — this is the evening performance. Book early! \nOfficial Tickets\nResale Tickets \nThis post contains affiliate links. We earn a commission if you purchase tickets through our links at no extra cost to you. \nAll sales are final. Show times subject to change. Valid photo ID may be required for entry.
URL:https://comedycalendar.com/event/nick-offerman-big-woodchuck-live-at-chevalier-theatre/
LOCATION:Chevalier Theatre\, 30 Forest St\, Medford\, MA\, 02155\, United States
ATTACH;FMTTYPE=image/jpeg:https://s1.ticketm.net/dam/a/3b7/8c1011f6-582e-48d0-b2bf-4d4d722413b7_EVENT_DETAIL_PAGE_16_9.jpg
GEO:42.4196366;-71.1092545
X-APPLE-STRUCTURED-LOCATION;VALUE=URI;X-ADDRESS=Chevalier Theatre 30 Forest St Medford MA 02155 United States;X-APPLE-RADIUS=500;X-TITLE=30 Forest St:geo:-71.1092545,42.4196366
END:VEVENT
END:VCALENDAR