BEGIN:VCALENDAR
VERSION:2.0
PRODID:-//Find Upcoming Comedy Shows Near You | Comedy Calendar - ECPv6.15.20//NONSGML v1.0//EN
CALSCALE:GREGORIAN
METHOD:PUBLISH
X-WR-CALNAME:Find Upcoming Comedy Shows Near You | Comedy Calendar
X-ORIGINAL-URL:https://comedycalendar.com
X-WR-CALDESC:Events for Find Upcoming Comedy Shows Near You | Comedy Calendar
REFRESH-INTERVAL;VALUE=DURATION:PT1H
X-Robots-Tag:noindex
X-PUBLISHED-TTL:PT1H
BEGIN:VTIMEZONE
TZID:America/Chicago
BEGIN:DAYLIGHT
TZOFFSETFROM:-0600
TZOFFSETTO:-0500
TZNAME:CDT
DTSTART:20250309T080000
END:DAYLIGHT
BEGIN:STANDARD
TZOFFSETFROM:-0500
TZOFFSETTO:-0600
TZNAME:CST
DTSTART:20251102T070000
END:STANDARD
BEGIN:DAYLIGHT
TZOFFSETFROM:-0600
TZOFFSETTO:-0500
TZNAME:CDT
DTSTART:20260308T080000
END:DAYLIGHT
BEGIN:STANDARD
TZOFFSETFROM:-0500
TZOFFSETTO:-0600
TZNAME:CST
DTSTART:20261101T070000
END:STANDARD
BEGIN:DAYLIGHT
TZOFFSETFROM:-0600
TZOFFSETTO:-0500
TZNAME:CDT
DTSTART:20270314T080000
END:DAYLIGHT
BEGIN:STANDARD
TZOFFSETFROM:-0500
TZOFFSETTO:-0600
TZNAME:CST
DTSTART:20271107T070000
END:STANDARD
END:VTIMEZONE
BEGIN:VEVENT
DTSTART;TZID=America/Chicago:20260425T190000
DTEND;TZID=America/Chicago:20260425T210000
DTSTAMP:20260423T052113
CREATED:20260422T180000Z
LAST-MODIFIED:20260422T180000Z
UID:10004678-1777143600-1777150800@comedycalendar.com
SUMMARY:Up Top Comedy LIVE at Brooklyn Bowl Nashville
DESCRIPTION:This post contains affiliate links. We earn a commission if you purchase tickets through our links at no extra cost to you. \n\nOfficial Tickets\nResale Tickets\n\nUp Top Comedy LIVE at Brooklyn Bowl Nashville\nUp Top Comedy is Nashville‘s premier rooftop stand-up showcase\, bringing a rotating cast of sharp\, hilarious comedians to the stunning rooftop stage at Brooklyn Bowl Nashville. On April 25\, 2026\, enjoy a night of laughs with a breathtaking view of the Nashville skyline as your backdrop. \nEvent Details\nDate: Saturday\, April 25\, 2026\nTime: 7:00 PM CDT\nVenue: Brooklyn Bowl Nashville\nAddress: 925 3rd Ave N\, Nashville\, TN 37201\nAge Requirement: Please check venue for age policy \nAbout Up Top Comedy\nUp Top Comedy is Nashville’s rooftop stand-up showcase hosted at Brooklyn Bowl Nashville\, pairing stunning skyline views with a rotating cast of sharp comics. The show features a mix of local and touring comedians delivering fresh\, high-energy performances in a unique open-air setting. \nWhat to Expect\n\nLive stand-up comedy from a rotating lineup of talented comedians\nStunning rooftop views of the Nashville skyline\nVibrant atmosphere at the iconic Brooklyn Bowl Nashville\nFull bar and food service available\nA fun\, intimate comedy experience unlike any other in Nashville\n\nVenue Information\nBrooklyn Bowl Nashville is one of Nashville’s most iconic entertainment venues\, located at 925 3rd Ave N in the heart of the city. The venue features a rooftop stage\, full bar\, bowling lanes\, and world-class sound — making it the perfect setting for a night of comedy under the stars. \nTicket Information\nTickets are available now through Ticketmaster (official) and VividSeats (resale). Secure your spot for this popular rooftop comedy show before it sells out! \n\nOfficial Tickets\nResale Tickets\n\nThis post contains affiliate links. We earn a commission if you purchase tickets through our links at no extra cost to you.\nAll sales are final. Show times subject to change. Valid photo ID may be required for entry.
URL:https://comedycalendar.com/event/up-top-comedy-live-at-brooklyn-bowl-nashville-3/
LOCATION:Brooklyn Bowl Nashville\, 925 3rd Ave N\, Nashville\, Tennessee\, 37201\, United States
CATEGORIES:Showcase,up Comedy
ATTACH;FMTTYPE=image/jpeg:https://comedycalendar.com/wp-content/uploads/2026/03/fa9caa1f-73a1-411e-b507-ec56fa59650a_106061_RETINA_LANDSCAPE_16_9-92w9di.jpg
GEO:36.1734817;-86.7839265
X-APPLE-STRUCTURED-LOCATION;VALUE=URI;X-ADDRESS=Brooklyn Bowl Nashville 925 3rd Ave N Nashville Tennessee 37201 United States;X-APPLE-RADIUS=500;X-TITLE=925 3rd Ave N:geo:-86.7839265,36.1734817
END:VEVENT
END:VCALENDAR