BEGIN:VCALENDAR
VERSION:2.0
PRODID:-//Find Upcoming Comedy Shows Near You | Comedy Calendar - ECPv6.15.20//NONSGML v1.0//EN
CALSCALE:GREGORIAN
METHOD:PUBLISH
X-WR-CALNAME:Find Upcoming Comedy Shows Near You | Comedy Calendar
X-ORIGINAL-URL:https://comedycalendar.com
X-WR-CALDESC:Events for Find Upcoming Comedy Shows Near You | Comedy Calendar
REFRESH-INTERVAL;VALUE=DURATION:PT1H
X-Robots-Tag:noindex
X-PUBLISHED-TTL:PT1H
BEGIN:VTIMEZONE
TZID:America/Detroit
BEGIN:DAYLIGHT
TZOFFSETFROM:-0500
TZOFFSETTO:-0400
TZNAME:EDT
DTSTART:20250309T070000
END:DAYLIGHT
BEGIN:STANDARD
TZOFFSETFROM:-0400
TZOFFSETTO:-0500
TZNAME:EST
DTSTART:20251102T060000
END:STANDARD
BEGIN:DAYLIGHT
TZOFFSETFROM:-0500
TZOFFSETTO:-0400
TZNAME:EDT
DTSTART:20260308T070000
END:DAYLIGHT
BEGIN:STANDARD
TZOFFSETFROM:-0400
TZOFFSETTO:-0500
TZNAME:EST
DTSTART:20261101T060000
END:STANDARD
BEGIN:DAYLIGHT
TZOFFSETFROM:-0500
TZOFFSETTO:-0400
TZNAME:EDT
DTSTART:20270314T070000
END:DAYLIGHT
BEGIN:STANDARD
TZOFFSETFROM:-0400
TZOFFSETTO:-0500
TZNAME:EST
DTSTART:20271107T060000
END:STANDARD
END:VTIMEZONE
BEGIN:VEVENT
DTSTART;TZID=America/Detroit:20260508T200000
DTEND;TZID=America/Detroit:20260508T220000
DTSTAMP:20260422T194046
CREATED:20260321T200000Z
LAST-MODIFIED:20260321T200000Z
UID:10003619-1778270400-1778277600@comedycalendar.com
SUMMARY:Two Funny Mamas: Sherri Shepherd & Kym Whitley LIVE at Sound Board at MotorCity Casino Hotel
DESCRIPTION:Official TicketsResale Tickets \nAbout the Performers\nEvent Details\n\nDate: Friday\, May 8\, 2026\nTime: 8:00 PM\nVenue: Sound Board at MotorCity Casino Hotel\nAddress: 2901 Grand River Ave\, Detroit\, MI 48201\n\nAbout the Venue\nSound Board at MotorCity Casino Hotel is Detroit’s premier intimate entertainment venue\, nestled inside the iconic MotorCity Casino Hotel at 2901 Grand River Ave. \nWith a capacity of approximately 1\,700 guests\, Sound Board delivers an up-close and personal experience with excellent sightlines\, state-of-the-art sound\, and a full bar. \nThe venue’s sophisticated atmosphere makes it the perfect setting for a special night out\, whether it’s a date night\, girls’ night\, or a celebration. \nParking is available in the MotorCity Casino Hotel parking structure\, and the venue is conveniently located near downtown Detroit. \nWhat to Expect\nTwo Funny Mamas Live is a comedy experience unlike any other — part stand-up\, part storytelling\, part Q&A\, and all laughs. \nSherri and Kym bring their infectious chemistry and genuine friendship to the stage\, creating an evening that feels like hanging out with your funniest girlfriends. \nExpect hilarious stories about motherhood\, relationships\, Hollywood\, and life\, delivered with the warmth and authenticity that has made Two Funny Mamas a fan favorite. \nThis is the perfect Mother’s Day weekend treat for yourself or the special women in your life! \nTicket Information\nTickets start at $84. Don’t wait — this show will sell out! \nOfficial TicketsResale Tickets \nThis post contains affiliate links. We may earn a commission at no extra cost to you.
URL:https://comedycalendar.com/event/two-funny-mamas-sherri-shepherd-kym-whitley-live-at-sound-board-at-motorcity-casino-hotel/
LOCATION:Sound Board at MotorCity Casino Hotel\, 2901 Grand River Ave\, Detroit\, MI\, 48201\, USA
ATTACH;FMTTYPE=image/jpeg:https://s1.ticketm.net/dam/a/2b7/d2786dd5-8893-44fa-902a-c01d6007e2b7_RETINA_PORTRAIT_3_2.jpg
GEO:42.3383929;-83.0685616
X-APPLE-STRUCTURED-LOCATION;VALUE=URI;X-ADDRESS=Sound Board at MotorCity Casino Hotel 2901 Grand River Ave Detroit MI 48201 USA;X-APPLE-RADIUS=500;X-TITLE=2901 Grand River Ave:geo:-83.0685616,42.3383929
END:VEVENT
END:VCALENDAR