BEGIN:VCALENDAR
VERSION:2.0
PRODID:-//Find Upcoming Comedy Shows Near You | Comedy Calendar - ECPv6.15.20//NONSGML v1.0//EN
CALSCALE:GREGORIAN
METHOD:PUBLISH
X-WR-CALNAME:Find Upcoming Comedy Shows Near You | Comedy Calendar
X-ORIGINAL-URL:https://comedycalendar.com
X-WR-CALDESC:Events for Find Upcoming Comedy Shows Near You | Comedy Calendar
REFRESH-INTERVAL;VALUE=DURATION:PT1H
X-Robots-Tag:noindex
X-PUBLISHED-TTL:PT1H
BEGIN:VTIMEZONE
TZID:America/New_York
BEGIN:DAYLIGHT
TZOFFSETFROM:-0500
TZOFFSETTO:-0400
TZNAME:EDT
DTSTART:20250309T070000
END:DAYLIGHT
BEGIN:STANDARD
TZOFFSETFROM:-0400
TZOFFSETTO:-0500
TZNAME:EST
DTSTART:20251102T060000
END:STANDARD
BEGIN:DAYLIGHT
TZOFFSETFROM:-0500
TZOFFSETTO:-0400
TZNAME:EDT
DTSTART:20260308T070000
END:DAYLIGHT
BEGIN:STANDARD
TZOFFSETFROM:-0400
TZOFFSETTO:-0500
TZNAME:EST
DTSTART:20261101T060000
END:STANDARD
BEGIN:DAYLIGHT
TZOFFSETFROM:-0500
TZOFFSETTO:-0400
TZNAME:EDT
DTSTART:20270314T070000
END:DAYLIGHT
BEGIN:STANDARD
TZOFFSETFROM:-0400
TZOFFSETTO:-0500
TZNAME:EST
DTSTART:20271107T060000
END:STANDARD
END:VTIMEZONE
BEGIN:VTIMEZONE
TZID:America/Chicago
BEGIN:DAYLIGHT
TZOFFSETFROM:-0600
TZOFFSETTO:-0500
TZNAME:CDT
DTSTART:20250309T080000
END:DAYLIGHT
BEGIN:STANDARD
TZOFFSETFROM:-0500
TZOFFSETTO:-0600
TZNAME:CST
DTSTART:20251102T070000
END:STANDARD
BEGIN:DAYLIGHT
TZOFFSETFROM:-0600
TZOFFSETTO:-0500
TZNAME:CDT
DTSTART:20260308T080000
END:DAYLIGHT
BEGIN:STANDARD
TZOFFSETFROM:-0500
TZOFFSETTO:-0600
TZNAME:CST
DTSTART:20261101T070000
END:STANDARD
BEGIN:DAYLIGHT
TZOFFSETFROM:-0600
TZOFFSETTO:-0500
TZNAME:CDT
DTSTART:20270314T080000
END:DAYLIGHT
BEGIN:STANDARD
TZOFFSETFROM:-0500
TZOFFSETTO:-0600
TZNAME:CST
DTSTART:20271107T070000
END:STANDARD
END:VTIMEZONE
BEGIN:VEVENT
DTSTART;TZID=America/New_York:20260619T193000
DTEND;TZID=America/New_York:20260619T213000
DTSTAMP:20260423T212109
CREATED:20260319T175936Z
LAST-MODIFIED:20260319T175936Z
UID:10003370-1781897400-1781904600@comedycalendar.com
SUMMARY:Tommy Davidson LIVE at Houston Improv
DESCRIPTION:This post contains affiliate links. We earn a commission if you purchase tickets through our links at no extra cost to you. \nOfficial Tickets\nResale Tickets \nTommy Davidson LIVE at Houston Improv\nComedy legend Tommy Davidson is coming to Houston Improv on June 19\, 2026 for a night of hilarious stand-up comedy. Best known as one of the original cast members of the groundbreaking sketch comedy show In Living Color\, Tommy Davidson brings his razor-sharp wit\, incredible impressions\, and infectious energy to the stage for an unforgettable evening. \nEvent Details\nDate: Friday\, June 19\, 2026\nTime: 7:30 PM CDT\nVenue: Houston Improv\nAddress: 7620 Katy Freeway\, Ste. 455\, Houston\, TX 77024\nAge Requirement: 18+ with valid government-issued photo ID\nParking: Available at the venue \nAbout Tommy Davidson\nTommy Davidson is a stand-up comedian\, actor\, and entertainer best known for his iconic role on In Living Color alongside Jim Carrey and Jamie Foxx. With decades of experience in stand-up comedy\, film\, and television\, Davidson is celebrated for his high-energy performances\, spot-on celebrity impressions\, and ability to connect with audiences of all backgrounds. His comedy is a masterclass in timing\, physicality\, and storytelling. \nWhat to Expect\n\nHilarious stand-up from comedy legend Tommy Davidson\nIconic celebrity impressions and physical comedy\nStories from his legendary career in Hollywood\nA lively\, 18+ atmosphere at Houston Improv\nFull bar service and two-drink minimum\nAn incredible Friday night out in Houston\n\nVenue Information\nHouston Improv is one of Houston’s premier comedy clubs\, located at 7620 Katy Freeway in the Memorial City area. The venue offers an intimate setting with full bar service\, making it the perfect spot for a night of live comedy. \nTicket Information\nTickets start from $74. This is an 18+ event — valid government-issued photo ID required. Two-drink minimum per person. No refunds or exchanges unless the event is cancelled or postponed. \nOfficial Tickets\nResale Tickets \nThis post contains affiliate links. We earn a commission if you purchase tickets through our links at no extra cost to you. \nAll sales are final. Show times subject to change. Valid photo ID may be required for entry.
URL:https://comedycalendar.com/event/tommy-davidson-live-at-houston-improv/
LOCATION:Houston Improv\, 7620 Katy Freeway\, Houston\, TX\, 77024\, United States
CATEGORIES:Improv
ATTACH;FMTTYPE=image/jpeg:https://s1.ticketm.net/dam/a/d9e/9a8f8cfa-57c0-4e0c-91f4-d151d795fd9e_1115211_TABLET_LANDSCAPE_LARGE_16_9.jpg
GEO:29.785526;-95.4640201
X-APPLE-STRUCTURED-LOCATION;VALUE=URI;X-ADDRESS=Houston Improv 7620 Katy Freeway Houston TX 77024 United States;X-APPLE-RADIUS=500;X-TITLE=7620 Katy Freeway:geo:-95.4640201,29.785526
END:VEVENT
BEGIN:VEVENT
DTSTART;TZID=America/Chicago:20260625T193000
DTEND;TZID=America/Chicago:20260625T213000
DTSTAMP:20260423T212109
CREATED:20260323T020000Z
LAST-MODIFIED:20260327T033358Z
UID:10004148-1782415800-1782423000@comedycalendar.com
SUMMARY:Tommy Davidson LIVE at Laugh Out Loud Comedy Club
DESCRIPTION:Official TicketsResale Tickets \nAbout the Performer\nTommy Davidson is a legendary comedian and actor best known as one of the original stars of the groundbreaking hit television show In Living Color\, where he made TV history alongside Jamie Foxx\, Jim Carrey\, and Damon Wayans. \nDavidson started his career as a stand-up comedian in Washington DC\, earning an ardent following before being spotted by major concert promoters who booked him as the opening act for Patti LaBelle\, Kenny G\, and Luther Vandross. \nHis impressive film debut was opposite Halle Berry in Strictly Business\, and his credits include Spike Lee’s Bamboozled\, Jim Carrey’s Ace Ventura II\, and the lead in Disney’s animated series The Proud Family. He has delivered three Showtime specials and continues to sell out venues internationally. \nEvent Details\n\nDate: Thursday\, June 25\, 2026\nTime: 7:30 PM (Doors open at 6:30 PM)\nVenue: Laugh Out Loud Comedy Club\, 618 NW Loop 410\, San Antonio\, TX 78216\nAge Restriction: 18+ Event\nVIP Option: VIP Seating with Meet & Greet available\nAdditional Shows: Also performing June 26 (7:00 PM & 9:30 PM) and June 27 (7:00 PM & 9:30 PM)\nFood & Beverage: 2-item minimum per person once seated\n\nAbout the Venue\nLaugh Out Loud Comedy Club (LOL San Antonio) is San Antonio’s premier stand-up comedy destination\, conveniently located in Park North Plaza at Loop 410 and Blanco\, just inside the loop and a few miles from the airport. \nThe intimate club setting creates an electric atmosphere where every seat feels close to the stage\, making for an incredibly personal and engaging comedy experience. \nThe venue features a full bar and dining service\, so guests can enjoy food and drinks throughout the show. Seating is first come\, first served by section\, so arriving early is recommended to secure the best seats. \nLOL San Antonio is part of the nationally recognized Improv comedy club network\, consistently bringing top-tier national touring comedians to San Antonio. \nWhat to Expect\nTommy Davidson delivers a full headlining stand-up performance showcasing his exceptional range — from sharp stand-up comedy to his legendary impressions of Sammy Davis Jr.\, Michael Jackson\, and other icons. \nHis shows are known for being high-energy\, hilarious\, and deeply entertaining\, drawing on decades of experience in comedy clubs\, television\, and film. \nThis is an 18+ event. VIP tickets with Meet & Greet are available for fans who want an extra special experience. Arrive early to grab a great seat and enjoy the full club experience. \nTicket Information\nPrice Range: $25 – $56 (plus fees\, including VIP Meet & Greet option) \nTickets are available through official and resale channels: \nOfficial TicketsResale Tickets \nThis post contains affiliate links. We may earn a commission at no extra cost to you.
URL:https://comedycalendar.com/event/tommy-davidson-live-at-laugh-out-loud-comedy-club/
LOCATION:Laugh Out Loud Comedy Club\, 618 Northwest Loop 410\, San Antonio\, TX\, 78216\, USA
CATEGORIES:Stand Up Comedy
ATTACH;FMTTYPE=image/png:https://comedycalendar.com/wp-content/uploads/2026/03/54_Edp-OmlT7Z.png
GEO:29.5193054;-98.5060363
X-APPLE-STRUCTURED-LOCATION;VALUE=URI;X-ADDRESS=Laugh Out Loud Comedy Club 618 Northwest Loop 410 San Antonio TX 78216 USA;X-APPLE-RADIUS=500;X-TITLE=618 Northwest Loop 410:geo:-98.5060363,29.5193054
END:VEVENT
BEGIN:VEVENT
DTSTART;TZID=America/Chicago:20260625T193000
DTEND;TZID=America/Chicago:20260625T213000
DTSTAMP:20260423T212109
CREATED:20260323T031700Z
LAST-MODIFIED:20260327T033348Z
UID:10004162-1782415800-1782423000@comedycalendar.com
SUMMARY:Tommy Davidson LIVE at Laugh Out Loud Comedy Club
DESCRIPTION:Official TicketsResale Tickets \nAbout Tommy Davidson\nTommy Davidson is one of the most versatile and electrifying comedians to ever grace the stage. Best known as one of the original cast members of the groundbreaking sketch comedy series In Living Color\, Davidson built his reputation on razor-sharp wit\, explosive energy\, and an uncanny ability to inhabit characters with total commitment. \nDavidson’s comedy style blends sharp observational humor with high-energy physical comedy and spot-on celebrity impressions — including legendary takes on Sammy Davis Jr. and Michael Jackson. His stand-up is a masterclass in timing\, storytelling\, and crowd connection that leaves audiences in stitches from start to finish. \nBeyond In Living Color\, Tommy has starred in films alongside Halle Berry\, Jim Carrey\, and Michael Jai White\, and has headlined three Showtime specials. He continues to tour nationally\, selling out venues across the country with his infectious energy and timeless comedic voice. \nEvent Details\nDate: Thursday\, June 25\, 2026\nShow Time: 7:30 PM CDT\nDoors Open: 6:30 PM CDT\nVenue: Laugh Out Loud Comedy Club\nAddress: 618 NW Loop 410\, San Antonio\, TX 78216\nAge Restriction: 18+ Event\nTicket Prices: $25 – $45 (plus fees) \nAbout the Venue\nThe Laugh Out Loud Comedy Club is San Antonio’s premier stand-up comedy destination\, conveniently located in Park North Plaza at Loop 410 and Blanco — just inside the loop and only minutes from the airport. The intimate club setting creates an electric atmosphere where every seat feels close to the action. \nThe venue features tiered seating sections including VIP center-stage tables\, Preferred center-stage seating\, and General Admission side-stage tables — all first come\, first served within each section. The full-service bar lounge is the perfect place to grab a drink before the show\, and the two-item food or beverage minimum per person ensures a full dining experience during the performance. \nWith a capacity designed for an intimate comedy experience\, the Laugh Out Loud Comedy Club delivers a close-up\, personal show environment that larger arenas simply can’t match. Parking is available in the Park North Plaza lot. The venue enforces an 18% service charge on all checks in the showroom. \nWhat to Expect\nTommy Davidson’s live show is a high-energy\, non-stop comedy experience that draws from decades of stand-up mastery. Expect hilarious impressions\, sharp social commentary\, personal storytelling\, and the kind of spontaneous crowd interaction that only a seasoned performer can deliver. \nThis is a solo headlining performance — Tommy Davidson takes the stage and commands the room for a full evening of laughs. The intimate setting of the Laugh Out Loud Comedy Club means you’ll feel like you’re in the front row no matter where you sit. Come ready to laugh hard and leave with stories to tell. \nPlease note this is an 18+ event. All sales are final — no refunds or exchanges. A two-item food or beverage minimum per person applies once seated. \nTicket Information\nPrice Range: $25 – $45 per ticket (plus fees)\nVIP Seating w/ Meet & Greet: $45 (+fees)\nPreferred Seating (center stage): $35 (+fees)\nGeneral Admission (side stage): $25 (+fees) \nSecure your seats now before they sell out. Tommy Davidson shows are known to sell quickly! \nOfficial TicketsResale Tickets \nThis post contains affiliate links. We may earn a commission at no extra cost to you.
URL:https://comedycalendar.com/event/tommy-davidson-live-at-laugh-out-loud-comedy-club-2/
LOCATION:Laugh Out Loud Comedy Club\, 618 Northwest Loop 410\, San Antonio\, TX\, 78216\, USA
CATEGORIES:Stand Up Comedy
ATTACH;FMTTYPE=image/png:https://comedycalendar.com/wp-content/uploads/2026/03/54_Edp-OmlT7Z.png
GEO:29.5193054;-98.5060363
X-APPLE-STRUCTURED-LOCATION;VALUE=URI;X-ADDRESS=Laugh Out Loud Comedy Club 618 Northwest Loop 410 San Antonio TX 78216 USA;X-APPLE-RADIUS=500;X-TITLE=618 Northwest Loop 410:geo:-98.5060363,29.5193054
END:VEVENT
BEGIN:VEVENT
DTSTART;TZID=America/New_York:20260707T190000
DTEND;TZID=America/New_York:20260707T210000
DTSTAMP:20260423T212109
CREATED:20260329T190000Z
LAST-MODIFIED:20260330T051551Z
UID:10004422-1783450800-1783458000@comedycalendar.com
SUMMARY:Tommy Davidson LIVE at Blue Note Hawaii
DESCRIPTION:Official TicketsResale Tickets \nThis post contains affiliate links. We may earn a commission at no extra cost to you. \nAbout the Performer\nTommy Davidson is a comedy legend whose career spans over three decades of making audiences laugh across television\, film\, and the stand-up stage. Best known as one of the original cast members of the groundbreaking sketch comedy series In Living Color\, Tommy’s versatility\, energy\, and comedic genius have made him one of the most beloved entertainers of his generation. \nTommy’s film credits include Ace Ventura: Pet Detective\, Booty Call\, Bamboozled\, and Juwanna Mann. He has also appeared in numerous television shows and has released multiple stand-up specials that showcase his incredible range as a performer. \nKnown for his physical comedy\, impressions\, and ability to find humor in everyday life\, Tommy Davidson delivers a show that is both nostalgic and fresh. His performances are a masterclass in comedic timing and audience connection. \nEvent Details\nDate: Tuesday\, July 7\, 2026 \nShow Time: 7:00 PM HST (Doors open at 5:00 PM) \nVenue: Blue Note Hawaii\, 2335 Kalakaua Ave\, Honolulu\, HI 96815 \nClub Policy: $20 food or beverage minimum per person. Seating is first come\, first served. Full bar and full dinner menu available. \nAbout the Venue\nBlue Note Hawaii is Honolulu’s most celebrated intimate live entertainment venue\, nestled inside the Outrigger Waikiki Beach Resort at 2335 Kalakaua Avenue in the heart of Waikiki. The venue is renowned for its world-class acoustics\, intimate atmosphere\, and exceptional dining and bar service. \nWith seating options ranging from Premium Seating to Loge Seating & Bar Area\, every guest enjoys an up-close experience with the performer. The venue’s warm\, sophisticated ambiance makes it the perfect setting for a special night out in Waikiki. \nBlue Note Hawaii is located steps from Waikiki Beach\, making it easy to combine a comedy show with a beautiful Hawaiian evening. Parking is available at the Outrigger Waikiki Beach Resort and nearby public parking structures. \nWhat to Expect\nTommy Davidson’s show at Blue Note Hawaii is a one-night-only event that comedy fans in Honolulu won’t want to miss. The intimate setting of Blue Note Hawaii provides the perfect backdrop for Tommy’s high-energy\, physically expressive comedy style. \nExpect a full headline set featuring Tommy’s signature impressions\, physical comedy\, and personal storytelling. Having performed for decades\, Tommy knows how to read a room and deliver a performance that feels both polished and spontaneous. \nThis is a rare opportunity to see a true comedy legend up close in one of Honolulu’s most intimate and prestigious venues. Tickets are limited and expected to sell out quickly. \nTicket Information\nPrice Range: From $141 (resale market) \nSecure your seats now through the official ticket link or find resale tickets through VividSeats. \nOfficial TicketsResale Tickets
URL:https://comedycalendar.com/event/tommy-davidson-live-at-blue-note-hawaii/
LOCATION:Blue Note Hawaii\, 2335 Kalakaua Avenue\, Honolulu\, HI\, 96815\, United States
CATEGORIES:Showcase,Stand Up Comedy
ATTACH;FMTTYPE=image/jpeg:https://i.ticketweb.com/i/00/12/76/62/14_Edp.jpg?v=7
GEO:21.2771844;-157.8275909
X-APPLE-STRUCTURED-LOCATION;VALUE=URI;X-ADDRESS=Blue Note Hawaii 2335 Kalakaua Avenue Honolulu HI 96815 United States;X-APPLE-RADIUS=500;X-TITLE=2335 Kalakaua Avenue:geo:-157.8275909,21.2771844
END:VEVENT
END:VCALENDAR