BEGIN:VCALENDAR
VERSION:2.0
PRODID:-//Find Upcoming Comedy Shows Near You | Comedy Calendar - ECPv6.15.20//NONSGML v1.0//EN
CALSCALE:GREGORIAN
METHOD:PUBLISH
X-WR-CALNAME:Find Upcoming Comedy Shows Near You | Comedy Calendar
X-ORIGINAL-URL:https://comedycalendar.com
X-WR-CALDESC:Events for Find Upcoming Comedy Shows Near You | Comedy Calendar
REFRESH-INTERVAL;VALUE=DURATION:PT1H
X-Robots-Tag:noindex
X-PUBLISHED-TTL:PT1H
BEGIN:VTIMEZONE
TZID:America/Chicago
BEGIN:DAYLIGHT
TZOFFSETFROM:-0600
TZOFFSETTO:-0500
TZNAME:CDT
DTSTART:20250309T080000
END:DAYLIGHT
BEGIN:STANDARD
TZOFFSETFROM:-0500
TZOFFSETTO:-0600
TZNAME:CST
DTSTART:20251102T070000
END:STANDARD
BEGIN:DAYLIGHT
TZOFFSETFROM:-0600
TZOFFSETTO:-0500
TZNAME:CDT
DTSTART:20260308T080000
END:DAYLIGHT
BEGIN:STANDARD
TZOFFSETFROM:-0500
TZOFFSETTO:-0600
TZNAME:CST
DTSTART:20261101T070000
END:STANDARD
BEGIN:DAYLIGHT
TZOFFSETFROM:-0600
TZOFFSETTO:-0500
TZNAME:CDT
DTSTART:20270314T080000
END:DAYLIGHT
BEGIN:STANDARD
TZOFFSETFROM:-0500
TZOFFSETTO:-0600
TZNAME:CST
DTSTART:20271107T070000
END:STANDARD
END:VTIMEZONE
BEGIN:VEVENT
DTSTART;TZID=America/Chicago:20260527T193000
DTEND;TZID=America/Chicago:20260527T213000
DTSTAMP:20260420T214801
CREATED:20260318T200000Z
LAST-MODIFIED:20260318T200000Z
UID:10003309-1779910200-1779917400@comedycalendar.com
SUMMARY:Marcella Arguello LIVE at Punch Line Houston
DESCRIPTION:Official TicketsResale Tickets \nAbout Marcella Arguello\nMarcella Arguello is an actor\, writer\, and stand-up comedian with nearly twenty years in the game. In 2025\, she joined the cast of Abbott Elementary on ABC as the new guidance counselor Ms. Alomar\, and was crowned champion of After Midnight on CBS. She can also be seen on Season 2 of Poker Face on Peacock. \nHer debut HBO Max half-hour special Bitch\, Grow Up. (2023) was praised by Decider as a moment she “has earned\,” and by Latin Media for “ruffling feathers while delivering a routine that feels absolutely joyous.” Her debut album The Woke Bully debuted at #3 on the Billboard Comedy Charts and was named one of the Best Comedy Albums of 2019 by NPR. Vulture named her a comedian to know\, and MSN listed her among the top female comedians working in film and TV today. \nEvent Details\nDate: Wednesday\, May 27\, 2026\nShow Time: 7:30 PM\nVenue: Punch Line Houston\nAddress: 1204 Caroline Street\, Houston\, TX 77002\nAge Restriction: 18+ / 2 Beverage Minimum\nTicket Price: From $50 \nAbout Punch Line Houston\nPunch Line Houston is downtown Houston’s premier stand-up comedy club\, located at 1204 Caroline Street. Part of the nationally recognized Punch Line Comedy Club brand\, this intimate venue delivers an up-close comedy experience that puts you right in the action. \nThe club features table seating\, a full-service bar\, and a two-drink minimum that keeps the energy flowing all night. Every seat feels close to the stage — perfect for a comedian as dynamic and expressive as Marcella Arguello. Parking is available in nearby downtown Houston garages and on surrounding streets. \nWhat to Expect\nMarcella Arguello’s live show is a masterclass in fearless\, boundary-pushing comedy. She tackles her Latinx identity\, race\, gender\, and the absurdities of modern life with a voice that is entirely her own — sharp\, joyous\, and unapologetically honest. Her ability to move between one-liners\, storytelling\, and crowd work makes every show feel fresh and alive. \nExpect an opening act followed by Marcella’s full headlining set. The show runs approximately 90 minutes. This is an 18+ event with a two-beverage minimum per guest. \nTicket Information\nPrice: From $50\nTickets available via Ticketmaster (official) or VividSeats (resale). \nOfficial TicketsResale Tickets \nThis post contains affiliate links. We may earn a commission at no extra cost to you.
URL:https://comedycalendar.com/event/marcella-arguello-live-at-punch-line-houston/
LOCATION:Punch Line Houston\, 1204 Caroline Street\, Houston\, TX\, 77002\, United States
ATTACH;FMTTYPE=image/jpeg:https://comedycalendar.com/wp-content/uploads/2026/03/0128e61b-d431-4b86-bab4-8fa62aaf9ae3_RETINA_PORTRAIT_3_2-9dmyWI.jpg
GEO:29.7533552;-95.3641123
X-APPLE-STRUCTURED-LOCATION;VALUE=URI;X-ADDRESS=Punch Line Houston 1204 Caroline Street Houston TX 77002 United States;X-APPLE-RADIUS=500;X-TITLE=1204 Caroline Street:geo:-95.3641123,29.7533552
END:VEVENT
END:VCALENDAR