BEGIN:VCALENDAR
VERSION:2.0
PRODID:-//Find Upcoming Comedy Shows Near You | Comedy Calendar - ECPv6.15.20//NONSGML v1.0//EN
CALSCALE:GREGORIAN
METHOD:PUBLISH
X-WR-CALNAME:Find Upcoming Comedy Shows Near You | Comedy Calendar
X-ORIGINAL-URL:https://comedycalendar.com
X-WR-CALDESC:Events for Find Upcoming Comedy Shows Near You | Comedy Calendar
REFRESH-INTERVAL;VALUE=DURATION:PT1H
X-Robots-Tag:noindex
X-PUBLISHED-TTL:PT1H
BEGIN:VTIMEZONE
TZID:America/New_York
BEGIN:DAYLIGHT
TZOFFSETFROM:-0500
TZOFFSETTO:-0400
TZNAME:EDT
DTSTART:20250309T070000
END:DAYLIGHT
BEGIN:STANDARD
TZOFFSETFROM:-0400
TZOFFSETTO:-0500
TZNAME:EST
DTSTART:20251102T060000
END:STANDARD
BEGIN:DAYLIGHT
TZOFFSETFROM:-0500
TZOFFSETTO:-0400
TZNAME:EDT
DTSTART:20260308T070000
END:DAYLIGHT
BEGIN:STANDARD
TZOFFSETFROM:-0400
TZOFFSETTO:-0500
TZNAME:EST
DTSTART:20261101T060000
END:STANDARD
BEGIN:DAYLIGHT
TZOFFSETFROM:-0500
TZOFFSETTO:-0400
TZNAME:EDT
DTSTART:20270314T070000
END:DAYLIGHT
BEGIN:STANDARD
TZOFFSETFROM:-0400
TZOFFSETTO:-0500
TZNAME:EST
DTSTART:20271107T060000
END:STANDARD
END:VTIMEZONE
BEGIN:VTIMEZONE
TZID:America/Phoenix
BEGIN:STANDARD
TZOFFSETFROM:-0700
TZOFFSETTO:-0700
TZNAME:MST
DTSTART:20250101T000000
END:STANDARD
END:VTIMEZONE
BEGIN:VTIMEZONE
TZID:America/Chicago
BEGIN:DAYLIGHT
TZOFFSETFROM:-0600
TZOFFSETTO:-0500
TZNAME:CDT
DTSTART:20250309T080000
END:DAYLIGHT
BEGIN:STANDARD
TZOFFSETFROM:-0500
TZOFFSETTO:-0600
TZNAME:CST
DTSTART:20251102T070000
END:STANDARD
BEGIN:DAYLIGHT
TZOFFSETFROM:-0600
TZOFFSETTO:-0500
TZNAME:CDT
DTSTART:20260308T080000
END:DAYLIGHT
BEGIN:STANDARD
TZOFFSETFROM:-0500
TZOFFSETTO:-0600
TZNAME:CST
DTSTART:20261101T070000
END:STANDARD
BEGIN:DAYLIGHT
TZOFFSETFROM:-0600
TZOFFSETTO:-0500
TZNAME:CDT
DTSTART:20270314T080000
END:DAYLIGHT
BEGIN:STANDARD
TZOFFSETFROM:-0500
TZOFFSETTO:-0600
TZNAME:CST
DTSTART:20271107T070000
END:STANDARD
END:VTIMEZONE
BEGIN:VEVENT
DTSTART;TZID=America/New_York:20260501T190000
DTEND;TZID=America/New_York:20260501T210000
DTSTAMP:20260423T232041
CREATED:20260316T170000Z
LAST-MODIFIED:20260320T170627Z
UID:10003104-1777662000-1777669200@comedycalendar.com
SUMMARY:Dusty Slay: The Neighborhood Guy LIVE at Majestic Theatre Dallas
DESCRIPTION:Official TicketsResale Tickets \nThis post contains affiliate links. We may earn a commission at no extra cost to you. \nAbout the Performer\nDusty Slay is a nationally touring stand-up comedian known for his laid-back Southern storytelling style\, dry wit\, and hilarious observations about working-class life\, family\, and growing up in the South. \nHe has appeared on The Tonight Show Starring Jimmy Fallon\, Conan\, and Late Night with Seth Meyers\, and has released multiple acclaimed stand-up specials. His “The Neighborhood Guy” tour is his latest run\, bringing his signature relaxed\, funny-as-hell comedy to theaters across the country. \nThis is a rare chance to see Dusty Slay live at the iconic Majestic Theatre in the heart of Dallas. \nEvent Details\nDate: Friday\, May 1\, 2026 \nTime: 7:00 PM \nVenue: Majestic Theatre Dallas\, 1925 Elm St\, Dallas\, TX 75201 \nTicket Price Range: $27 – $75 \nAbout the Venue\nThe Majestic Theatre Dallas is one of the most iconic and historic entertainment venues in Texas\, located in the heart of downtown Dallas at 1925 Elm St\, Dallas\, TX 75201. \nBuilt in 1921\, the Majestic is a stunning example of atmospheric theater architecture with ornate décor\, excellent acoustics\, and a capacity of approximately 1\,800 guests. The venue offers a truly special experience for any live performance. \nThe Majestic is easily accessible from downtown Dallas with multiple parking garages nearby and DART public transit access. It’s one of the best places in Dallas to see a live comedy show. \nWhat to Expect\nDusty Slay delivers a full headlining stand-up set featuring his signature laid-back Southern storytelling\, dry wit\, and hilarious observations about everyday life. \nExpect a warm\, laugh-filled evening in one of Dallas’s most beautiful venues. An opening act will warm up the crowd before Dusty takes the stage. \nDoors open prior to showtime — arrive early to find your seats and soak in the stunning Majestic Theatre atmosphere. \nTicket Information\nTickets range from $27 to $75. Purchase official tickets on Ticketmaster or find resale options on VividSeats. \nOfficial TicketsResale Tickets
URL:https://comedycalendar.com/event/dusty-slay-the-neighborhood-guy-live-at-majestic-theatre-dallas/
LOCATION:Majestic Theatre Dallas\, 1925 Elm Street\, Dallas\, TX\, 75201\, United States Of America
CATEGORIES:Stand Up Comedy
ATTACH;FMTTYPE=image/jpeg:https://media.ticketmaster.com/en-us/dam/a/fb7/7676e48b-a052-44f1-b0de-88945057ffb7_CUSTOM.jpg
GEO:32.7828019;-96.7950009
X-APPLE-STRUCTURED-LOCATION;VALUE=URI;X-ADDRESS=Majestic Theatre Dallas 1925 Elm Street Dallas TX 75201 United States Of America;X-APPLE-RADIUS=500;X-TITLE=1925 Elm Street:geo:-96.7950009,32.7828019
END:VEVENT
BEGIN:VEVENT
DTSTART;TZID=America/Phoenix:20261024T190000
DTEND;TZID=America/Phoenix:20261024T213000
DTSTAMP:20260423T232041
CREATED:20260327T040000Z
LAST-MODIFIED:20260327T040000Z
UID:10004194-1792868400-1792877400@comedycalendar.com
SUMMARY:Dusty Slay: The Neighborhood Guy LIVE at Rialto Theatre
DESCRIPTION:Official TicketsResale Tickets \nAbout Dusty Slay\nDusty Slay is a Southern stand-up comedian known for his warm\, self-deprecating humor and his ability to find the comedy in working-class American life. His style is honest\, unpretentious\, and genuinely funny. \nA regular on the late-night circuit and a fan favorite at comedy clubs across the country\, Slay has built a devoted following through his relatable storytelling and his authentic\, down-to-earth stage presence. \nThe Neighborhood Guy tour is his biggest headline run yet\, bringing his signature Southern charm and sharp comedic instincts to theaters nationwide. \nEvent Details\n\nDate: Saturday\, October 24\, 2026\nDoors: 6:00 PM | Show: 7:00 PM\nVenue: Rialto Theatre-Tucson\, 318 Congress St\, Tucson\, AZ 85701\nSeating: Reserved Seating | All Ages\nTicket Prices: Starting from $35+\n\nAbout the Venue\nThe Rialto Theatre is one of Tucson’s most beloved and historic entertainment venues\, located in the vibrant downtown arts district on Congress Street. \nBuilt in 1920 and beautifully restored\, the Rialto holds approximately 1\,300 guests and offers an intimate atmosphere with excellent acoustics. Whether you’re on the floor or in the balcony\, you’ll feel close to the action. \nThe Congress Street neighborhood surrounding the Rialto is full of great dining and nightlife options — perfect for making a full night of it before or after the show. \nWhat to Expect\nDusty Slay’s live show is a warm\, crowd-pleasing comedy experience that feels like hanging out with your funniest friend. His natural\, conversational style makes every audience member feel right at home. \nExpect a full headline set of sharp\, relatable material that showcases why Slay has become one of the most beloved comedians on the touring circuit. A great night out for comedy fans of all tastes. \nTicket Information\nTickets start at $35+ and are available through Ticketmaster (official) and VividSeats (resale). \nOfficial TicketsResale Tickets \nThis post contains affiliate links. We may earn a commission at no extra cost to you.
URL:https://comedycalendar.com/event/dusty-slay-the-neighborhood-guy-at-rialto-theatre/
LOCATION:Rialto Theatre-Tucson\, 318 Congress St\, Tucson\, AZ\, 85701\, USA
ATTACH;FMTTYPE=image/jpeg:https://media.ticketmaster.com/en-us/dam/a/fb7/7676e48b-a052-44f1-b0de-88945057ffb7_RETINA_PORTRAIT_3_2.jpg
GEO:32.2215888;-110.9664973
X-APPLE-STRUCTURED-LOCATION;VALUE=URI;X-ADDRESS=Rialto Theatre-Tucson 318 Congress St Tucson AZ 85701 USA;X-APPLE-RADIUS=500;X-TITLE=318 Congress St:geo:-110.9664973,32.2215888
END:VEVENT
BEGIN:VEVENT
DTSTART;TZID=America/Chicago:20261205T190000
DTEND;TZID=America/Chicago:20261205T210000
DTSTAMP:20260423T232041
CREATED:20260401T040000Z
LAST-MODIFIED:20260401T040000Z
UID:10004601-1796497200-1796504400@comedycalendar.com
SUMMARY:Dusty Slay: The Neighborhood Guy LIVE at Uptown Theater
DESCRIPTION:Official TicketsResale Tickets \nThis post contains affiliate links. We may earn a commission at no extra cost to you. \nAbout the Performer\nDusty Slay is one of the most authentic and beloved voices in American stand-up comedy today. Hailing from Alabama\, Dusty brings a blue-collar\, working-class perspective to his comedy that resonates deeply with audiences across the country. His storytelling style is warm\, self-deprecating\, and brilliantly observational — drawing from his own life experiences growing up in the South. \nDusty Slay rose to national prominence after multiple appearances on The Tonight Show Starring Jimmy Fallon and Late Night with Seth Meyers\, where his laid-back delivery and sharp wit won over millions of viewers. He has since become a headline touring act\, selling out theaters and comedy clubs across the United States. \nHis “The Neighborhood Guy” tour showcases Dusty at his very best — honest\, hilarious\, and completely relatable. Whether you’re from a small town or a big city\, Dusty Slay’s comedy will have you laughing until your sides hurt. \nEvent Details\nDate: Saturday\, December 5\, 2026 \nTime: 7:00 PM CST \nVenue: Uptown Theater\, 3700 Broadway\, Kansas City\, MO 64111 \nTickets On Sale: General sale begins Friday\, April 3\, 2026 at 10:00 AM CDT \nAge Restrictions: Please check with the venue for age policy. \nAbout the Venue\nThe Uptown Theater is one of Kansas City’s most iconic and beloved entertainment venues\, located at 3700 Broadway in the heart of Midtown. Originally built in 1928\, this stunning Art Deco theater has been beautifully restored and now serves as a premier mid-size comedy and concert venue with a capacity of approximately 1\,800 guests. \nThe Uptown Theater offers an intimate yet electric atmosphere\, with excellent sightlines from virtually every seat in the house. The venue features a general admission floor area as well as reserved balcony seating\, giving attendees flexibility in how they experience the show. The acoustics are exceptional\, making it ideal for stand-up comedy performances where every punchline needs to land perfectly. \nAmenities include multiple full-service bars\, clean restrooms\, and a welcoming staff. Street parking and nearby parking garages are available in the surrounding Midtown neighborhood. The venue is easily accessible from major Kansas City thoroughfares and is a short drive from the Country Club Plaza and Westport entertainment district. \nWhat to Expect\nDusty Slay’s “The Neighborhood Guy” show is a masterclass in relatable\, heartfelt stand-up comedy. Expect an evening filled with hilarious stories about everyday life\, small-town America\, and the universal experiences that connect us all. Dusty’s laid-back delivery and natural charisma make every show feel like a conversation with your funniest friend. \nThe show runs approximately 75-90 minutes and is a solo headline performance. Arrive early to grab a drink\, find your spot on the floor or in the balcony\, and get ready for a night of genuine\, laugh-out-loud comedy at one of Kansas City’s finest venues. \nThis is a must-see show for fans of authentic\, storytelling-driven stand-up comedy. Don’t miss Dusty Slay bringing “The Neighborhood Guy” to Kansas City this December! \nTicket Information\nPrice Range: Tickets on sale April 3\, 2026 — check Ticketmaster for pricing \nSecure your seats as soon as they go on sale. Official tickets are available through Ticketmaster\, and resale tickets are available through VividSeats. \nOfficial TicketsResale Tickets \nThis post contains affiliate links. We may earn a commission at no extra cost to you.
URL:https://comedycalendar.com/event/dusty-slay-the-neighborhood-guy-live-at-uptown-theater/
LOCATION:Uptown Theater\, 3700 Broadway\, Kansas City\, MO\, 64111\, USA
ATTACH;FMTTYPE=image/jpeg:https://comedycalendar.com/wp-content/uploads/2026/04/7676e48b-a052-44f1-b0de-88945057ffb7_EVENT_DETAIL_PAGE_16_9-YZgOxf.jpg
GEO:39.0609903;-94.5907287
X-APPLE-STRUCTURED-LOCATION;VALUE=URI;X-ADDRESS=Uptown Theater 3700 Broadway Kansas City MO 64111 USA;X-APPLE-RADIUS=500;X-TITLE=3700 Broadway:geo:-94.5907287,39.0609903
END:VEVENT
END:VCALENDAR