BEGIN:VCALENDAR
VERSION:2.0
PRODID:-//Find Upcoming Comedy Shows Near You | Comedy Calendar - ECPv6.15.20//NONSGML v1.0//EN
CALSCALE:GREGORIAN
METHOD:PUBLISH
X-ORIGINAL-URL:https://comedycalendar.com
X-WR-CALDESC:Events for Find Upcoming Comedy Shows Near You | Comedy Calendar
REFRESH-INTERVAL;VALUE=DURATION:PT1H
X-Robots-Tag:noindex
X-PUBLISHED-TTL:PT1H
BEGIN:VTIMEZONE
TZID:America/Los_Angeles
BEGIN:DAYLIGHT
TZOFFSETFROM:-0800
TZOFFSETTO:-0700
TZNAME:PDT
DTSTART:20250309T100000
END:DAYLIGHT
BEGIN:STANDARD
TZOFFSETFROM:-0700
TZOFFSETTO:-0800
TZNAME:PST
DTSTART:20251102T090000
END:STANDARD
BEGIN:DAYLIGHT
TZOFFSETFROM:-0800
TZOFFSETTO:-0700
TZNAME:PDT
DTSTART:20260308T100000
END:DAYLIGHT
BEGIN:STANDARD
TZOFFSETFROM:-0700
TZOFFSETTO:-0800
TZNAME:PST
DTSTART:20261101T090000
END:STANDARD
BEGIN:DAYLIGHT
TZOFFSETFROM:-0800
TZOFFSETTO:-0700
TZNAME:PDT
DTSTART:20270314T100000
END:DAYLIGHT
BEGIN:STANDARD
TZOFFSETFROM:-0700
TZOFFSETTO:-0800
TZNAME:PST
DTSTART:20271107T090000
END:STANDARD
END:VTIMEZONE
BEGIN:VEVENT
DTSTART;TZID=America/Los_Angeles:20260522T193000
DTEND;TZID=America/Los_Angeles:20260522T213000
DTSTAMP:20260420T215820
CREATED:20260312T155300Z
LAST-MODIFIED:20260312T155300Z
UID:10002789-1779478200-1779485400@comedycalendar.com
SUMMARY:Josh Adam Meyers LIVE at Jimmy Kimmel's Comedy Club
DESCRIPTION:This post contains affiliate links. We earn a commission if you purchase tickets through our links at no extra cost to you. \n\nOfficial TicketsResale Tickets\n\nJosh Adam Meyers LIVE at Jimmy Kimmel’s Comedy Club\nComedian and actor Josh Adam Meyers brings his high-energy\, music-infused stand-up comedy to Jimmy Kimmel’s Comedy Club on the Las Vegas Strip. Best known for his Comedy Central series The Comedy Jam (also known as The Goddamn Comedy Jam)\, Meyers delivers a uniquely entertaining show that blends stand-up with live musical performances for an unforgettable night of laughs. \nEvent Details\nDate: Friday\, May 22\, 2026\nTime: 7:30 PM\nVenue: Jimmy Kimmel’s Comedy Club\nAddress: 3545 S Las Vegas Blvd\, Las Vegas\, NV 89109\nAge Requirement: 18+ (valid photo ID required) \nAbout Josh Adam Meyers\nJosh Adam Meyers is an American comedian and actor best known for his live show turned Comedy Central series The Comedy Jam\, which features comedians performing alongside live bands. His podcast The 500 With Josh Adam Meyers was acquired by Spotify in 2019. Known for his infectious energy\, sharp wit\, and unique blend of comedy and music\, Meyers delivers a one-of-a-kind live experience every time he takes the stage. \nWhat to Expect\n\nHigh-energy stand-up comedy with a unique musical twist\nSharp wit and infectious stage presence\nStories and observations that will have you laughing all night\nAn intimate comedy club experience on the Las Vegas Strip\nA one-of-a-kind show from a Comedy Central fan favorite\n\nVenue Information\nJimmy Kimmel’s Comedy Club is located on the LINQ Promenade at 3545 S Las Vegas Blvd\, offering a world-class comedy club experience in the heart of the Las Vegas Strip. \nTicket Information\nTickets start from $49. Don’t miss Josh Adam Meyers live in Las Vegas! \n\nOfficial TicketsResale Tickets\n\nThis post contains affiliate links. We earn a commission if you purchase tickets through our links at no extra cost to you.\nAll sales are final. Show times subject to change. Valid photo ID may be required for entry.
URL:https://comedycalendar.com/event/josh-adam-meyers-live-at-jimmy-kimmels-comedy-club/
LOCATION:Jimmy Kimmel’s Comedy Club\, 3545 S Las Vegas Blvd\, Las Vegas\, NV\, 89109\, USA
ATTACH;FMTTYPE=image/jpeg:https://comedycalendar.com/wp-content/uploads/2026/03/79f89d21-4abb-407e-9b82-7c82adb84a9e_TABLET_LANDSCAPE_LARGE_16_9-KoTt2Q.jpg
GEO:36.11759;-115.168698
X-APPLE-STRUCTURED-LOCATION;VALUE=URI;X-ADDRESS=Jimmy Kimmel’s Comedy Club 3545 S Las Vegas Blvd Las Vegas NV 89109 USA;X-APPLE-RADIUS=500;X-TITLE=3545 S Las Vegas Blvd:geo:-115.168698,36.11759
END:VEVENT
END:VCALENDAR