BEGIN:VCALENDAR
VERSION:2.0
PRODID:-//Find Upcoming Comedy Shows Near You | Comedy Calendar - ECPv6.15.20//NONSGML v1.0//EN
CALSCALE:GREGORIAN
METHOD:PUBLISH
X-WR-CALNAME:Find Upcoming Comedy Shows Near You | Comedy Calendar
X-ORIGINAL-URL:https://comedycalendar.com
X-WR-CALDESC:Events for Find Upcoming Comedy Shows Near You | Comedy Calendar
REFRESH-INTERVAL;VALUE=DURATION:PT1H
X-Robots-Tag:noindex
X-PUBLISHED-TTL:PT1H
BEGIN:VTIMEZONE
TZID:America/New_York
BEGIN:DAYLIGHT
TZOFFSETFROM:-0500
TZOFFSETTO:-0400
TZNAME:EDT
DTSTART:20250309T070000
END:DAYLIGHT
BEGIN:STANDARD
TZOFFSETFROM:-0400
TZOFFSETTO:-0500
TZNAME:EST
DTSTART:20251102T060000
END:STANDARD
BEGIN:DAYLIGHT
TZOFFSETFROM:-0500
TZOFFSETTO:-0400
TZNAME:EDT
DTSTART:20260308T070000
END:DAYLIGHT
BEGIN:STANDARD
TZOFFSETFROM:-0400
TZOFFSETTO:-0500
TZNAME:EST
DTSTART:20261101T060000
END:STANDARD
BEGIN:DAYLIGHT
TZOFFSETFROM:-0500
TZOFFSETTO:-0400
TZNAME:EDT
DTSTART:20270314T070000
END:DAYLIGHT
BEGIN:STANDARD
TZOFFSETFROM:-0400
TZOFFSETTO:-0500
TZNAME:EST
DTSTART:20271107T060000
END:STANDARD
END:VTIMEZONE
BEGIN:VTIMEZONE
TZID:America/Los_Angeles
BEGIN:DAYLIGHT
TZOFFSETFROM:-0800
TZOFFSETTO:-0700
TZNAME:PDT
DTSTART:20250309T100000
END:DAYLIGHT
BEGIN:STANDARD
TZOFFSETFROM:-0700
TZOFFSETTO:-0800
TZNAME:PST
DTSTART:20251102T090000
END:STANDARD
BEGIN:DAYLIGHT
TZOFFSETFROM:-0800
TZOFFSETTO:-0700
TZNAME:PDT
DTSTART:20260308T100000
END:DAYLIGHT
BEGIN:STANDARD
TZOFFSETFROM:-0700
TZOFFSETTO:-0800
TZNAME:PST
DTSTART:20261101T090000
END:STANDARD
BEGIN:DAYLIGHT
TZOFFSETFROM:-0800
TZOFFSETTO:-0700
TZNAME:PDT
DTSTART:20270314T100000
END:DAYLIGHT
BEGIN:STANDARD
TZOFFSETFROM:-0700
TZOFFSETTO:-0800
TZNAME:PST
DTSTART:20271107T090000
END:STANDARD
END:VTIMEZONE
BEGIN:VTIMEZONE
TZID:America/Chicago
BEGIN:DAYLIGHT
TZOFFSETFROM:-0600
TZOFFSETTO:-0500
TZNAME:CDT
DTSTART:20250309T080000
END:DAYLIGHT
BEGIN:STANDARD
TZOFFSETFROM:-0500
TZOFFSETTO:-0600
TZNAME:CST
DTSTART:20251102T070000
END:STANDARD
BEGIN:DAYLIGHT
TZOFFSETFROM:-0600
TZOFFSETTO:-0500
TZNAME:CDT
DTSTART:20260308T080000
END:DAYLIGHT
BEGIN:STANDARD
TZOFFSETFROM:-0500
TZOFFSETTO:-0600
TZNAME:CST
DTSTART:20261101T070000
END:STANDARD
BEGIN:DAYLIGHT
TZOFFSETFROM:-0600
TZOFFSETTO:-0500
TZNAME:CDT
DTSTART:20270314T080000
END:DAYLIGHT
BEGIN:STANDARD
TZOFFSETFROM:-0500
TZOFFSETTO:-0600
TZNAME:CST
DTSTART:20271107T070000
END:STANDARD
END:VTIMEZONE
BEGIN:VEVENT
DTSTART;TZID=America/New_York:20260508T200000
DTEND;TZID=America/New_York:20260508T223000
DTSTAMP:20260423T134644
CREATED:20260315T170000Z
LAST-MODIFIED:20260319T195736Z
UID:10003014-1778270400-1778279400@comedycalendar.com
SUMMARY:Steve Hofstetter LIVE at Baltimore Soundstage
DESCRIPTION:This post contains affiliate links. We earn a commission if you purchase tickets through our links at no extra cost to you. \nOfficial Tickets\nResale Tickets \nSteve Hofstetter LIVE at Baltimore Soundstage\nOften called the hardest working man in show business\, Steve Hofstetter brings his sharp\, socially conscious stand-up comedy to Baltimore Soundstage for one night only. Known for his viral videos and relentless touring schedule\, Hofstetter delivers laughs with intelligence and heart. \nEvent Details\nDate: Friday\, May 8\, 2026\nTime: 8:00 PM (Doors open at 7:00 PM)\nVenue: Baltimore Soundstage\nAddress: 124 Market Place\, Baltimore\, MD 21202\nAge Requirement: 18 and over only\nParking: Parking garages located above and directly across from the venue with discount validation available \nAbout Steve Hofstetter\nSteve Hofstetter is a comedian\, author\, and columnist who has appeared on numerous television programs and has millions of views on YouTube. He is known for his quick wit\, crowd work\, and ability to handle hecklers with legendary skill. His comedy blends sharp observations with genuine warmth. \nWhat to Expect\n\nSharp\, intelligent stand-up comedy with a social conscience\nLegendary crowd interaction and improvised moments\nStories from years of non-stop touring across the country\nA mix of prepared material and spontaneous crowd work\nAn intimate venue experience at Baltimore Soundstage\n\nVenue Information\nBaltimore Soundstage is an intimate live music and comedy venue located in the heart of downtown Baltimore at 124 Market Place. The venue offers excellent sightlines and a vibrant atmosphere perfect for live comedy. \nTicket Information\nGeneral Admission tickets start at $39.50. Gold Circle Seating also available. Limit of 8 tickets per person. Ages 18 and over only — valid ID required at entry. \nOfficial Tickets\nResale Tickets \nThis post contains affiliate links. We earn a commission if you purchase tickets through our links at no extra cost to you.\nAll sales are final. Show times subject to change. Valid photo ID required for entry — 18+ only.
URL:https://comedycalendar.com/event/steve-hofstetter-live-at-baltimore-soundstage/
LOCATION:Baltimore Soundstage\, 124 Market Place\, Baltimore\, MD\, 21202\, United States
CATEGORIES:Improv,Stand Up Comedy
ATTACH;FMTTYPE=image/jpeg:https://s1.ticketm.net/dam/a/309/f53ce0d8-5dbd-4a37-a78a-cb277e522309_1314721_TABLET_LANDSCAPE_LARGE_16_9.jpg
GEO:39.2875169;-76.607604
X-APPLE-STRUCTURED-LOCATION;VALUE=URI;X-ADDRESS=Baltimore Soundstage 124 Market Place Baltimore MD 21202 United States;X-APPLE-RADIUS=500;X-TITLE=124 Market Place:geo:-76.607604,39.2875169
END:VEVENT
BEGIN:VEVENT
DTSTART;TZID=America/Los_Angeles:20260925T200000
DTEND;TZID=America/Los_Angeles:20260925T220000
DTSTAMP:20260423T134644
CREATED:20260319T000000Z
LAST-MODIFIED:20260320T013257Z
UID:10003428-1790366400-1790373600@comedycalendar.com
SUMMARY:Steve Hofstetter LIVE at Neptune Theatre
DESCRIPTION:Official TicketsResale Tickets \nAbout the Performer\nSteve Hofstetter is a stand-up comedian\, author\, and television personality known for his sharp observational humor\, quick wit\, and legendary crowd work. He has appeared on numerous television programs and his stand-up specials have been viewed millions of times online\, making him one of the most widely seen comedians working today. \nHofstetter is particularly celebrated for his ability to handle hecklers with grace and humor — his crowd work videos have gone viral repeatedly\, earning him a massive online following. His live shows are known for their energy\, intelligence\, and the kind of sharp\, clever comedy that rewards attentive audiences. \nEvent Details\n\nDate: Friday\, September 25\, 2026\nShow Time: 8:00 PM\nDoors Open: 7:00 PM\nVenue: Neptune Theatre\, 1303 NE 45th St\, Seattle\, WA 98105\nAge Policy: All Ages (Bar with Valid ID)\n\nAbout the Venue\nThe Neptune Theatre is one of Seattle’s most iconic performance spaces in the University District at 1303 NE 45th St. Originally opened in 1921\, the Neptune seats approximately 900 guests and features a stunning art deco interior with excellent sightlines and a warm\, intimate atmosphere. \nWhat to Expect\nSteve Hofstetter live is a masterclass in stand-up comedy — sharp\, intelligent humor delivered with precision and warmth. Expect clever observations\, brilliant crowd interaction\, and the kind of comedy that makes you think as much as it makes you laugh. \nTicket Information\nTickets for Steve Hofstetter at Neptune Theatre are available now. Prices range from $30 to $65 depending on seat selection. \n\nOfficial Tickets: Purchase directly through Ticketmaster for guaranteed authentic tickets.\nResale Tickets: Find deals on resale tickets through VividSeats.\n\nOfficial TicketsResale Tickets \nThis post contains affiliate links. We may earn a commission at no extra cost to you.
URL:https://comedycalendar.com/event/steve-hofstetter-live-at-neptune-theatre-seattle/
LOCATION:Neptune Theatre\, 1303 NE 45th St\, Seattle\, Washington\, 98105\, United States
CATEGORIES:Stand Up Comedy
ATTACH;FMTTYPE=image/jpeg:https://s1.ticketm.net/dam/a/309/f53ce0d8-5dbd-4a37-a78a-cb277e522309_1314721_EVENT_DETAIL_PAGE_16_9.jpg
GEO:47.6611708;-122.314022
X-APPLE-STRUCTURED-LOCATION;VALUE=URI;X-ADDRESS=Neptune Theatre 1303 NE 45th St Seattle Washington 98105 United States;X-APPLE-RADIUS=500;X-TITLE=1303 NE 45th St:geo:-122.314022,47.6611708
END:VEVENT
BEGIN:VEVENT
DTSTART;TZID=America/Los_Angeles:20261130T193000
DTEND;TZID=America/Los_Angeles:20261130T213000
DTSTAMP:20260423T134644
CREATED:20260314T190000Z
LAST-MODIFIED:20260314T190000Z
UID:10002897-1796067000-1796074200@comedycalendar.com
SUMMARY:Steve Hofstetter LIVE at Cobb's Comedy Club
DESCRIPTION:Official TicketsResale Tickets \nAbout the Performer\nSteve Hofstetter is a veteran stand-up comedian\, author\, and one of the most prolific touring comics in the country. Known for his sharp wit\, intelligent humor\, and legendary crowd work\, Hofstetter has been performing stand-up for over two decades and shows no signs of slowing down. \nHis comedy tackles social issues\, everyday absurdities\, and the human experience with a clever\, observational style that resonates with audiences of all backgrounds. Hofstetter is also widely known for his viral heckler takedown videos\, which have been viewed hundreds of millions of times online. \nA Cobb’s Comedy Club performance from Steve Hofstetter is always a special evening — intimate\, funny\, and packed with the kind of sharp\, intelligent comedy that only comes from a true veteran of the craft. \nEvent Details\nDate: Monday\, November 30\, 2026\nTime: 7:30 PM PST\nVenue: Cobb’s Comedy Club\, 915 Columbus Avenue\, San Francisco\, CA 94133\nAge Restriction: 18+ / 2 Beverage Minimum\nTicket Price Range: $38 – $65 \nAbout the Venue\nCobb’s Comedy Club is San Francisco’s premier stand-up destination\, located at 915 Columbus Avenue in the iconic North Beach neighborhood. With a capacity of around 400 guests\, Cobb’s offers an intimate\, up-close experience that makes every seat feel like the best in the house. \nThe club features a full bar and dining service\, with cocktails\, beer\, wine\, and food available throughout the show. The classic comedy club layout — tables and chairs arranged around a central stage — creates a lively\, communal atmosphere that amplifies every laugh. \nCobb’s is easily accessible by BART and Muni\, and parking is available in nearby garages throughout the North Beach area. The 18+ age restriction and 2-beverage minimum are in effect for all shows. \nWhat to Expect\nSteve Hofstetter delivers a full evening of his signature intelligent\, observational stand-up comedy. Expect sharp social commentary\, hilarious personal stories\, and the kind of masterful crowd work that has made him one of the most entertaining live performers in comedy today. \nDoors open approximately 30–45 minutes before showtime. Arrive early to grab a great seat and enjoy a pre-show drink. Food and beverage service is available throughout the show. This is an 18+ event with a 2-beverage minimum. \nTicket Information\nPrice Range: $38 – $65 (before taxes and fees)\nTickets are available through Ticketmaster (official) and VividSeats (resale). \nOfficial TicketsResale Tickets \nThis post contains affiliate links. We may earn a commission at no extra cost to you.
URL:https://comedycalendar.com/event/steve-hofstetter-live-at-cobbs-comedy-club/
LOCATION:Cobb’s Comedy Club\, 915 Columbus Avenue\, San Francisco\, California\, 94133\, United States Of America
CATEGORIES:up Comedy
ATTACH;FMTTYPE=image/jpeg:https://media.ticketmaster.com/en-us/dam/a/309/f53ce0d8-5dbd-4a37-a78a-cb277e522309_1314721_CUSTOM.jpg
GEO:37.8029543;-122.4143041
X-APPLE-STRUCTURED-LOCATION;VALUE=URI;X-ADDRESS=Cobb’s Comedy Club 915 Columbus Avenue San Francisco California 94133 United States Of America;X-APPLE-RADIUS=500;X-TITLE=915 Columbus Avenue:geo:-122.4143041,37.8029543
END:VEVENT
BEGIN:VEVENT
DTSTART;TZID=America/Los_Angeles:20261201T193000
DTEND;TZID=America/Los_Angeles:20261201T213000
DTSTAMP:20260423T134644
CREATED:20260326T014817Z
LAST-MODIFIED:20260326T014817Z
UID:10003950-1796153400-1796160600@comedycalendar.com
SUMMARY:Steve Hofstetter LIVE at Punch Line Comedy Club Sacramento
DESCRIPTION:Official TicketsResale Tickets \nAbout Steve Hofstetter\nSteve Hofstetter is a veteran stand-up comedian\, author\, and columnist widely regarded as one of the hardest-working performers in the comedy business. Known for his sharp\, intelligent humor and his massively popular viral crowd work videos\, Steve has built a devoted following through decades of consistent\, high-quality stand-up. \nHe has appeared on numerous television programs and has headlined comedy clubs and theaters across the country. His comedy is smart\, observational\, and always delivered with precision — making every show a memorable experience for fans old and new. \nEvent Details\nDate: Tuesday\, December 1\, 2026\nTime: 7:30 PM (Doors open at 6:30 PM)\nVenue: Punch Line Comedy Club – Sacramento\nAddress: 2100 Arden Way\, Sacramento\, CA 95825\nAge Restriction: 18+ / 2 Beverage Minimum \nAbout the Venue\nPunch Line Comedy Club Sacramento is Northern California’s premier comedy destination. Located at 2100 Arden Way in Sacramento\, this legendary club has been the go-to spot for world-class stand-up comedy for decades. \nThe intimate setting features general admission and preferred premium seating\, a full bar\, and a classic two-drink minimum. The room holds a few hundred guests\, making every show feel personal and electric. Ample parking is available in the adjacent shopping center. \nWhat to Expect\nThis is a solo headline stand-up performance by Steve Hofstetter. Expect a masterfully crafted evening of sharp\, intelligent comedy from one of the genre’s most experienced performers. Shows run approximately 75–90 minutes. The 18+ policy and beverage minimum are in effect. \nTicket Information\nTickets range from approximately $28 – $56 (all-in pricing\, fees included before taxes). \nOfficial TicketsResale Tickets \nThis post contains affiliate links. We may earn a commission at no extra cost to you.
URL:https://comedycalendar.com/event/steve-hofstetter-live-at-punch-line-comedy-club-sacramento/
LOCATION:Punch Line Comedy Club – Sacramento\, 2100 Arden Way\, Sacramento\, California\, 95825\, United States Of America
ATTACH;FMTTYPE=image/jpeg:https://comedycalendar.com/wp-content/uploads/2026/03/f53ce0d8-5dbd-4a37-a78a-cb277e522309_1314721_CUSTOM-abhsDL.jpg
GEO:38.5943776;-121.4160953
X-APPLE-STRUCTURED-LOCATION;VALUE=URI;X-ADDRESS=Punch Line Comedy Club – Sacramento 2100 Arden Way Sacramento California 95825 United States Of America;X-APPLE-RADIUS=500;X-TITLE=2100 Arden Way:geo:-121.4160953,38.5943776
END:VEVENT
BEGIN:VEVENT
DTSTART;TZID=America/Chicago:20261228T193000
DTEND;TZID=America/Chicago:20261228T213000
DTSTAMP:20260423T134644
CREATED:20260327T020000Z
LAST-MODIFIED:20260327T020000Z
UID:10004161-1798486200-1798493400@comedycalendar.com
SUMMARY:Steve Hofstetter LIVE at Laugh Out Loud Comedy Club
DESCRIPTION:Official Tickets Resale Tickets \nAbout the Performer\nSteve Hofstetter is an author\, columnist\, and comedian often called the hardest working man in show business. He has appeared on CBS’s Late Late Show with Craig Ferguson\, Showtime’s White Boyz in the Hood\, and is the host and executive producer of Laughs on Fox networks. He has released six comedy albums\, with his fifth hitting #1 on iTunes comedy charts. He has written humor columns for the New York Times\, Sports Illustrated\, and NHL.com\, and his Sports Minute (Or So) was syndicated on over 170 radio stations. \nEvent Details\nDate: Monday\, December 28\, 2026. Time: 7:30 PM (Doors 6:30 PM). Venue: Laugh Out Loud Comedy Club\, 618 NW Loop 410\, San Antonio\, TX 78216. Age: 18+. VIP Meet and Greet available. \nAbout the Venue\nLOL San Antonio is located in Park North Plaza at Loop 410 and Blanco. Intimate club setting with full bar and dining. Seating is first come\, first served. \nWhat to Expect\nSteve Hofstetter delivers a sharp\, witty stand-up set. VIP Meet and Greet available. 18+ event. \nTicket Information\nPrice Range: $30 – $186 (plus fees\, including VIP Meet and Greet). \nOfficial Tickets Resale Tickets \nThis post contains affiliate links. We may earn a commission at no extra cost to you.
URL:https://comedycalendar.com/event/steve-hofstetter-live-at-laugh-out-loud-comedy-club/
LOCATION:Laugh Out Loud Comedy Club\, 618 Northwest Loop 410\, San Antonio\, TX\, 78216\, USA
ATTACH;FMTTYPE=image/png:https://comedycalendar.com/wp-content/uploads/2026/03/73_Edp-1taX6c.png
GEO:29.5193054;-98.5060363
X-APPLE-STRUCTURED-LOCATION;VALUE=URI;X-ADDRESS=Laugh Out Loud Comedy Club 618 Northwest Loop 410 San Antonio TX 78216 USA;X-APPLE-RADIUS=500;X-TITLE=618 Northwest Loop 410:geo:-98.5060363,29.5193054
END:VEVENT
END:VCALENDAR