BEGIN:VCALENDAR
VERSION:2.0
PRODID:-//Find Upcoming Comedy Shows Near You | Comedy Calendar - ECPv6.15.20//NONSGML v1.0//EN
CALSCALE:GREGORIAN
METHOD:PUBLISH
X-WR-CALNAME:Find Upcoming Comedy Shows Near You | Comedy Calendar
X-ORIGINAL-URL:https://comedycalendar.com
X-WR-CALDESC:Events for Find Upcoming Comedy Shows Near You | Comedy Calendar
REFRESH-INTERVAL;VALUE=DURATION:PT1H
X-Robots-Tag:noindex
X-PUBLISHED-TTL:PT1H
BEGIN:VTIMEZONE
TZID:America/Los_Angeles
BEGIN:DAYLIGHT
TZOFFSETFROM:-0800
TZOFFSETTO:-0700
TZNAME:PDT
DTSTART:20250309T100000
END:DAYLIGHT
BEGIN:STANDARD
TZOFFSETFROM:-0700
TZOFFSETTO:-0800
TZNAME:PST
DTSTART:20251102T090000
END:STANDARD
BEGIN:DAYLIGHT
TZOFFSETFROM:-0800
TZOFFSETTO:-0700
TZNAME:PDT
DTSTART:20260308T100000
END:DAYLIGHT
BEGIN:STANDARD
TZOFFSETFROM:-0700
TZOFFSETTO:-0800
TZNAME:PST
DTSTART:20261101T090000
END:STANDARD
BEGIN:DAYLIGHT
TZOFFSETFROM:-0800
TZOFFSETTO:-0700
TZNAME:PDT
DTSTART:20270314T100000
END:DAYLIGHT
BEGIN:STANDARD
TZOFFSETFROM:-0700
TZOFFSETTO:-0800
TZNAME:PST
DTSTART:20271107T090000
END:STANDARD
END:VTIMEZONE
BEGIN:VEVENT
DTSTART;TZID=America/Los_Angeles:20260416T200000
DTEND;TZID=America/Los_Angeles:20260416T223000
DTSTAMP:20260420T231912
CREATED:20260320T070000Z
LAST-MODIFIED:20260320T070000Z
UID:10003438-1776369600-1776378600@comedycalendar.com
SUMMARY:Stephen Lynch: The Me Tour LIVE at Neptune Theatre
DESCRIPTION:This post contains affiliate links. We earn a commission if you purchase tickets through our links at no extra cost to you. \nOfficial Tickets\nResale Tickets \nStephen Lynch: The Me Tour LIVE at Neptune Theatre\nComedy-music legend Stephen Lynch is bringing his brand-new “The Me Tour” to Seattle’s Neptune Theatre for one unforgettable night. Known for his wickedly funny original songs and razor-sharp wit\, Lynch has been making audiences howl with laughter for over two decades. Whether you’re a longtime fan or discovering him for the first time\, this is a show you absolutely cannot miss. \nEvent Details\nDate: Thursday\, April 16\, 2026Time: 8:00 PM (Doors open at 7:00 PM)Venue: Neptune TheatreAddress: 1303 NE 45th Street\, Seattle\, WA 98105Age Requirement: All Ages (Bar with Valid ID)Ticket Price: From $64 \nAbout Stephen Lynch\nStephen Lynch is a comedian\, singer\, and songwriter who has built a devoted following with his hilariously irreverent musical comedy. A two-time Grammy nominee\, Lynch has released multiple acclaimed albums and specials\, and his Broadway show The Wedding Singer introduced him to an even wider audience. His live shows are legendary for their energy\, audience interaction\, and side-splitting original songs. \nWhat to Expect\n\nHilarious original comedy songs performed live by Stephen Lynch\nSharp wit\, audience interaction\, and musical brilliance\nReserved seating and general admission standing bar at Neptune Theatre\nAll ages welcome — bar available with valid ID\nA legendary comedy-music performance you’ll be talking about for years\n\nVenue Information\nThe Neptune Theatre is a gorgeous historic venue in Seattle’s University District at 1303 NE 45th Street. Operated by Seattle Theatre Group\, it features reserved seating plus a general admission standing bar area\, making it perfect for an intimate yet lively show experience. \nTicket Information\nTickets start from $64. Reserved seating and GA standing bar available. Get your tickets through Ticketmaster or resale platforms — deals are available! \nOfficial Tickets\nResale Tickets \nThis post contains affiliate links. We earn a commission if you purchase tickets through our links at no extra cost to you.\nAll sales are final. Show times subject to change. Valid photo ID may be required for entry.
URL:https://comedycalendar.com/event/stephen-lynch-the-me-tour-live-at-neptune-theatre/
LOCATION:Neptune Theatre\, 1303 NE 45th St\, Seattle\, Washington\, 98105\, United States
ATTACH;FMTTYPE=image/jpeg:https://s1.ticketm.net/dam/a/176/4eff1891-deb4-45c8-925a-56763c5b4176_1245311_EVENT_DETAIL_PAGE_16_9.jpg
GEO:47.6611708;-122.314022
X-APPLE-STRUCTURED-LOCATION;VALUE=URI;X-ADDRESS=Neptune Theatre 1303 NE 45th St Seattle Washington 98105 United States;X-APPLE-RADIUS=500;X-TITLE=1303 NE 45th St:geo:-122.314022,47.6611708
END:VEVENT
END:VCALENDAR