BEGIN:VCALENDAR
VERSION:2.0
PRODID:-//Find Upcoming Comedy Shows Near You | Comedy Calendar - ECPv6.15.20//NONSGML v1.0//EN
CALSCALE:GREGORIAN
METHOD:PUBLISH
X-ORIGINAL-URL:https://comedycalendar.com
X-WR-CALDESC:Events for Find Upcoming Comedy Shows Near You | Comedy Calendar
REFRESH-INTERVAL;VALUE=DURATION:PT1H
X-Robots-Tag:noindex
X-PUBLISHED-TTL:PT1H
BEGIN:VTIMEZONE
TZID:America/Phoenix
BEGIN:STANDARD
TZOFFSETFROM:-0700
TZOFFSETTO:-0700
TZNAME:MST
DTSTART:20250101T000000
END:STANDARD
END:VTIMEZONE
BEGIN:VEVENT
DTSTART;TZID=America/Phoenix:20260626T200000
DTEND;TZID=America/Phoenix:20260626T220000
DTSTAMP:20260421T004845
CREATED:20260319T190000Z
LAST-MODIFIED:20260319T190000Z
UID:10003384-1782504000-1782511200@comedycalendar.com
SUMMARY:Gabriel Fluffy Iglesias Live LIVE at Gila River Resorts & Casinos (June 26)
DESCRIPTION:Official TicketsResale Tickets \nAbout the Performer\nGabriel “Fluffy” Iglesias is one of the most popular and beloved stand-up comedians in the world. Known for his high-energy performances\, hilarious storytelling\, and his famous “six levels of fatness” bit\, Fluffy has built a massive global fanbase through his Netflix specials\, world tours\, and his hit sitcom Mr. Iglesias. \nWith specials including \, I’m Not Fat… I’m Fluffy\, and Stadium Fluffy\, Gabriel Iglesias is a comedy institution. His warm\, inclusive humor and incredible crowd connection make every live show a truly special experience. \nEvent Details\nDate: Friday\, June 26\, 2026 (Night 2 of 2) \nTime: 8:00 PM \nVenue: \nAge Restriction: Must be 18+ to attend. No refunds. \nAbout the Venue\n \nWhat to Expect\nGabriel Fluffy Iglesias Live is a full-length stand-up comedy performance packed with hilarious stories\, impressions\, and warm feel-good humor. Expect a high-energy show with incredible crowd connection and non-stop laughs. The show runs approximately 90 minutes. This is an 18+ event. \nTicket Information\nPrice Range: $100 – $250 \nOfficial tickets available via Ticketmaster. Resale tickets available via VividSeats. \nOfficial TicketsResale Tickets \nThis post contains affiliate links. We may earn a commission at no extra cost to you.
URL:https://comedycalendar.com/event/gabriel-fluffy-iglesias-live-at-gila-river-wild-horse-pass-june-twenty-six/
LOCATION:Gila River Resorts & Casinos – Wild Horse Pass\, 5040 Wild Horse Pass Blvd\, Chandler\, AZ\, 85226\, United States
GEO:33.281546;-111.9735734
X-APPLE-STRUCTURED-LOCATION;VALUE=URI;X-ADDRESS=Gila River Resorts & Casinos – Wild Horse Pass 5040 Wild Horse Pass Blvd Chandler AZ 85226 United States;X-APPLE-RADIUS=500;X-TITLE=5040 Wild Horse Pass Blvd:geo:-111.9735734,33.281546
END:VEVENT
END:VCALENDAR