BEGIN:VCALENDAR
VERSION:2.0
PRODID:-//Find Upcoming Comedy Shows Near You | Comedy Calendar - ECPv6.15.20//NONSGML v1.0//EN
CALSCALE:GREGORIAN
METHOD:PUBLISH
X-WR-CALNAME:Find Upcoming Comedy Shows Near You | Comedy Calendar
X-ORIGINAL-URL:https://comedycalendar.com
X-WR-CALDESC:Events for Find Upcoming Comedy Shows Near You | Comedy Calendar
REFRESH-INTERVAL;VALUE=DURATION:PT1H
X-Robots-Tag:noindex
X-PUBLISHED-TTL:PT1H
BEGIN:VTIMEZONE
TZID:America/Chicago
BEGIN:DAYLIGHT
TZOFFSETFROM:-0600
TZOFFSETTO:-0500
TZNAME:CDT
DTSTART:20250309T080000
END:DAYLIGHT
BEGIN:STANDARD
TZOFFSETFROM:-0500
TZOFFSETTO:-0600
TZNAME:CST
DTSTART:20251102T070000
END:STANDARD
BEGIN:DAYLIGHT
TZOFFSETFROM:-0600
TZOFFSETTO:-0500
TZNAME:CDT
DTSTART:20260308T080000
END:DAYLIGHT
BEGIN:STANDARD
TZOFFSETFROM:-0500
TZOFFSETTO:-0600
TZNAME:CST
DTSTART:20261101T070000
END:STANDARD
BEGIN:DAYLIGHT
TZOFFSETFROM:-0600
TZOFFSETTO:-0500
TZNAME:CDT
DTSTART:20270314T080000
END:DAYLIGHT
BEGIN:STANDARD
TZOFFSETFROM:-0500
TZOFFSETTO:-0600
TZNAME:CST
DTSTART:20271107T070000
END:STANDARD
END:VTIMEZONE
BEGIN:VEVENT
DTSTART;TZID=America/Chicago:20260326T190000
DTEND;TZID=America/Chicago:20260326T213000
DTSTAMP:20260423T093027
CREATED:20260309T040000Z
LAST-MODIFIED:20260309T040000Z
UID:10002708-1774551600-1774560600@comedycalendar.com
SUMMARY:Laci Mosley: Scam Goddess Live at House of Blues Chicago
DESCRIPTION:This post contains affiliate links. We earn a commission if you purchase tickets through our links at no extra cost to you. \nOfficial Tickets\nResale Tickets \nLaci Mosley: Scam Goddess Live at House of Blues Chicago\nComedian and podcast host Laci Mosley is bringing her wildly popular Scam Goddess Live show to the iconic House of Blues Chicago. Known for her hilarious and educational deep-dives into the world of fraud and con artists\, Laci delivers a one-of-a-kind comedy experience that is equal parts funny and fascinating. \nEvent Details\nDate: Thursday\, March 26\, 2026\nTime: 7:00 PM\nVenue: House of Blues Chicago\nAddress: 329 N Dearborn St\, Chicago\, IL 60654\nAge Requirement: All Ages \nAbout Laci Mosley\nLaci Mosley is a comedian\, actress\, and the creator and host of the award-winning comedy podcast Scam Goddess\, which has amassed millions of listeners worldwide. Known for her sharp wit and infectious energy\, Laci has become one of the most exciting voices in comedy today. She has appeared on numerous TV shows and continues to tour nationally to enthusiastic crowds. \nWhat to Expect\n\nHilarious stand-up comedy inspired by real-life scams and con artists\nLaci’s signature blend of education and outrageous humor\nStories about the world’s most audacious fraudsters\nHigh-energy performance at the legendary House of Blues Chicago\nA unique comedy experience unlike anything else on tour\nPerfect for fans of true crime\, comedy\, and everything in between\n\nVenue Information\nHouse of Blues Chicago is one of the city’s most iconic live entertainment venues\, located in the heart of downtown Chicago on N. Dearborn St. With world-class sound and an intimate atmosphere\, it’s the perfect setting for a night of comedy. \nTicket Information\nTickets are available now. Secure your seats before they sell out! \nOfficial Tickets\nResale Tickets \nThis post contains affiliate links. We earn a commission if you purchase tickets through our links at no extra cost to you.\nAll sales are final. Show times subject to change. Valid photo ID may be required for entry.
URL:https://comedycalendar.com/event/laci-mosley-scam-goddess-live-at-house-of-blues-chicago-2/
LOCATION:House of Blues Chicago\, 329 N Dearborn St\, Chicago\, IL\, 60654\, USA
ATTACH;FMTTYPE=image/jpeg:https://s1.ticketm.net/dam/a/153/111ee7a3-9c24-4b17-9d91-1ad9f71f9153_EVENT_DETAIL_PAGE_16_9.jpg
GEO:41.8882351;-87.6291025
X-APPLE-STRUCTURED-LOCATION;VALUE=URI;X-ADDRESS=House of Blues Chicago 329 N Dearborn St Chicago IL 60654 USA;X-APPLE-RADIUS=500;X-TITLE=329 N Dearborn St:geo:-87.6291025,41.8882351
END:VEVENT
BEGIN:VEVENT
DTSTART;TZID=America/Chicago:20260409T193000
DTEND;TZID=America/Chicago:20260409T210000
DTSTAMP:20260423T093027
CREATED:20260315T160000Z
LAST-MODIFIED:20260316T205649Z
UID:10003081-1775763000-1775768400@comedycalendar.com
SUMMARY:Scam Goddess Live! at Punch Line Irving
DESCRIPTION:Official TicketsResale Tickets \nThis post contains affiliate links. We may earn a commission at no extra cost to you. \nAbout the Performer\nLaci Mosley is a comedian\, actress\, and podcaster best known as the host of Scam Goddess\, one of the most popular comedy podcasts on the Earwolf/Team Coco network. \nHer live show brings the energy and humor of the podcast to the stage\, featuring crowd-powered stories\, sharp observations about internet culture\, scams\, and the absurdity of modern life. Laci’s quick wit and infectious personality make every show a unique and hilarious experience. \nIf you’re a fan of the podcast or just love great stand-up comedy\, this is a show you won’t want to miss. \nEvent Details\nDate: Thursday\, April 9\, 2026 \nTime: 7:30 PM \nVenue: Punch Line Irving\, 310 W Las Colinas Blvd.\, Suite 130\, Irving\, TX 75039 \nTicket Price Range: $30 – $65 \nAge Restriction: 18+ with valid government-issued photo ID \nAbout the Venue\nPunch Line Irving is the DFW area’s top comedy club\, located in the Las Colinas entertainment district of Irving\, Texas. \nThe club’s intimate layout ensures every guest has a great view of the stage\, with a full bar and table service available throughout the show. It’s the perfect spot for a Thursday night out with friends or fellow podcast fans. \nLocated at 310 W Las Colinas Blvd.\, Suite 130\, with easy access from Dallas\, Fort Worth\, and DFW Airport. Parking is available nearby. \nWhat to Expect\nScam Goddess Live! is an interactive\, high-energy comedy show where Laci Mosley brings her podcast format to life on stage. \nExpect audience participation\, hilarious scam stories\, sharp commentary on internet culture\, and Laci’s signature comedic voice that has made her one of the most beloved voices in comedy podcasting. Every show is different and packed with surprises. \nDoors open one hour before showtime — arrive early to grab a drink and get the best seats. \nTicket Information\nTickets range from $30 to $65. Purchase official tickets on Ticketmaster or find resale options on VividSeats. \nOfficial TicketsResale Tickets
URL:https://comedycalendar.com/event/scam-goddess-live-at-punch-line-irving/
LOCATION:Punch Line Irving\, 310 W Las Colinas Blvd.\, Suite 130\, Irving\, TX\, 75039\, United States Of America
CATEGORIES:Stand Up Comedy
ATTACH;FMTTYPE=image/jpeg:https://media.ticketmaster.com/en-us/dam/a/153/111ee7a3-9c24-4b17-9d91-1ad9f71f9153_CUSTOM.jpg
GEO:32.8734455;-96.9445654
X-APPLE-STRUCTURED-LOCATION;VALUE=URI;X-ADDRESS=Punch Line Irving 310 W Las Colinas Blvd. Suite 130 Irving TX 75039 United States Of America;X-APPLE-RADIUS=500;X-TITLE=310 W Las Colinas Blvd.\, Suite 130:geo:-96.9445654,32.8734455
END:VEVENT
END:VCALENDAR