BEGIN:VCALENDAR
VERSION:2.0
PRODID:-//Find Upcoming Comedy Shows Near You | Comedy Calendar - ECPv6.15.20//NONSGML v1.0//EN
CALSCALE:GREGORIAN
METHOD:PUBLISH
X-ORIGINAL-URL:https://comedycalendar.com
X-WR-CALDESC:Events for Find Upcoming Comedy Shows Near You | Comedy Calendar
REFRESH-INTERVAL;VALUE=DURATION:PT1H
X-Robots-Tag:noindex
X-PUBLISHED-TTL:PT1H
BEGIN:VTIMEZONE
TZID:America/Los_Angeles
BEGIN:DAYLIGHT
TZOFFSETFROM:-0800
TZOFFSETTO:-0700
TZNAME:PDT
DTSTART:20250309T100000
END:DAYLIGHT
BEGIN:STANDARD
TZOFFSETFROM:-0700
TZOFFSETTO:-0800
TZNAME:PST
DTSTART:20251102T090000
END:STANDARD
BEGIN:DAYLIGHT
TZOFFSETFROM:-0800
TZOFFSETTO:-0700
TZNAME:PDT
DTSTART:20260308T100000
END:DAYLIGHT
BEGIN:STANDARD
TZOFFSETFROM:-0700
TZOFFSETTO:-0800
TZNAME:PST
DTSTART:20261101T090000
END:STANDARD
BEGIN:DAYLIGHT
TZOFFSETFROM:-0800
TZOFFSETTO:-0700
TZNAME:PDT
DTSTART:20270314T100000
END:DAYLIGHT
BEGIN:STANDARD
TZOFFSETFROM:-0700
TZOFFSETTO:-0800
TZNAME:PST
DTSTART:20271107T090000
END:STANDARD
END:VTIMEZONE
BEGIN:VEVENT
DTSTART;TZID=America/Los_Angeles:20260509T220000
DTEND;TZID=America/Los_Angeles:20260510T000000
DTSTAMP:20260423T191242
CREATED:20260308T050000Z
LAST-MODIFIED:20260308T050000Z
UID:10002608-1778364000-1778371200@comedycalendar.com
SUMMARY:Hasan Hates Ronny | Ronny Hates Hasan LIVE at Dolby Theatre (Late Show)
DESCRIPTION:Official TicketsResale Tickets \nTwo of comedy’s sharpest minds go head-to-head as Hasan Minhaj and Ronny Chieng bring their hilarious double-bill Hasan Hates Ronny | Ronny Hates Hasan to the legendary Dolby Theatre in Hollywood for a late-night show as part of Netflix Is A Joke Fest 2026. \nHasan Minhaj\, known for Patriot Act and his Netflix specials\, and Ronny Chieng\, beloved for Crazy Rich Asians and The Daily Show\, deliver a night of razor-sharp comedy that’s not to be missed. This is the late show — 10:00 PM — for night owls who want the best seat in Hollywood. \nAbout Dolby Theatre\nThe Dolby Theatre is one of Hollywood’s most prestigious and recognizable venues\, located at 6801 Hollywood Blvd — home of the Academy Awards. With a capacity of 3\,400 and world-class acoustics\, it offers an unparalleled live entertainment experience in the heart of Hollywood. \nAttending a show at the Dolby Theatre is a bucket-list experience for any live entertainment fan. \nWhat to Expect\n\nA hilarious double-bill featuring two of comedy’s biggest international stars\nLate show at 10:00 PM — perfect for night owls\nWorld-class acoustics and sightlines at the home of the Oscars\nPart of the Netflix Is A Joke Fest 2026 official lineup\nArrive early — this show is expected to sell out\n\nEvent Details\n\nDate: Saturday\, May 9\, 2026\nTime: 10:00 PM PDT (Late Show)\nVenue: Dolby Theatre\, 6801 Hollywood Blvd\, Hollywood\, CA 90028\nFestival: Netflix Is A Joke Fest 2026\n\nTickets\nPrice: From $70 + fees (resale prices vary) \nOfficial TicketsResale Tickets \nThis post contains affiliate links. We may earn a commission at no extra cost to you.
URL:https://comedycalendar.com/event/hasan-hates-ronny-ronny-hates-hasan-live-at-dolby-theatre-late-show/
LOCATION:Dolby Theater\, 6801 Hollywood Blvd\, Hollywood\, CA\, 90028\, United States
ATTACH;FMTTYPE=image/jpeg:https://comedycalendar.com/wp-content/uploads/2026/03/028a8f46-dd50-4662-9881-326b7621a58c_CUSTOM-OoFRR1.jpg
GEO:34.1024501;-118.3399853
X-APPLE-STRUCTURED-LOCATION;VALUE=URI;X-ADDRESS=Dolby Theater 6801 Hollywood Blvd Hollywood CA 90028 United States;X-APPLE-RADIUS=500;X-TITLE=6801 Hollywood Blvd:geo:-118.3399853,34.1024501
END:VEVENT
END:VCALENDAR