BEGIN:VCALENDAR
VERSION:2.0
PRODID:-//Find Upcoming Comedy Shows Near You | Comedy Calendar - ECPv6.15.20//NONSGML v1.0//EN
CALSCALE:GREGORIAN
METHOD:PUBLISH
X-ORIGINAL-URL:https://comedycalendar.com
X-WR-CALDESC:Events for Find Upcoming Comedy Shows Near You | Comedy Calendar
REFRESH-INTERVAL;VALUE=DURATION:PT1H
X-Robots-Tag:noindex
X-PUBLISHED-TTL:PT1H
BEGIN:VTIMEZONE
TZID:America/New_York
BEGIN:DAYLIGHT
TZOFFSETFROM:-0500
TZOFFSETTO:-0400
TZNAME:EDT
DTSTART:20250309T070000
END:DAYLIGHT
BEGIN:STANDARD
TZOFFSETFROM:-0400
TZOFFSETTO:-0500
TZNAME:EST
DTSTART:20251102T060000
END:STANDARD
BEGIN:DAYLIGHT
TZOFFSETFROM:-0500
TZOFFSETTO:-0400
TZNAME:EDT
DTSTART:20260308T070000
END:DAYLIGHT
BEGIN:STANDARD
TZOFFSETFROM:-0400
TZOFFSETTO:-0500
TZNAME:EST
DTSTART:20261101T060000
END:STANDARD
BEGIN:DAYLIGHT
TZOFFSETFROM:-0500
TZOFFSETTO:-0400
TZNAME:EDT
DTSTART:20270314T070000
END:DAYLIGHT
BEGIN:STANDARD
TZOFFSETFROM:-0400
TZOFFSETTO:-0500
TZNAME:EST
DTSTART:20271107T060000
END:STANDARD
END:VTIMEZONE
BEGIN:VEVENT
DTSTART;TZID=America/New_York:20260529T180000
DTEND;TZID=America/New_York:20260530T230000
DTSTAMP:20260423T141050
CREATED:20260322T040000Z
LAST-MODIFIED:20260326T193709Z
UID:10004024-1780077600-1780182000@comedycalendar.com
SUMMARY:Akron Comedy Jam LIVE at John\, James and Clara Knight Stage
DESCRIPTION:This post contains affiliate links. We earn a commission if you purchase tickets through our links at no extra cost to you. \nOfficial Tickets\nResale Tickets \nAkron Comedy Jam LIVE at John\, James and Clara Knight Stage\nThe Akron Comedy Jam is back for a full weekend of laughs at the John\, James and Clara Knight Stage in Akron\, Ohio! Running Friday\, May 29 and Saturday\, May 30\, 2026\, this multi-show comedy event features a rotating lineup of talented stand-up comedians delivering high-energy performances across four shows. Whether you’re a comedy regular or a first-timer\, the Akron Comedy Jam is a can’t-miss event. \nEvent Details\nDates: Friday\, May 29 & Saturday\, May 30\, 2026\nFriday Shows: 6:00 PM & 8:30 PM\nSaturday Shows: Multiple performances\nVenue: John\, James and Clara Knight Stage\nAddress: 182 S Main St\, Akron\, OH 44308\nAge Requirement: Please check venue for age policy \nAbout the Akron Comedy Jam\nThe Akron Comedy Jam is a beloved local comedy institution that brings together some of the best stand-up talent in the region for a weekend of non-stop laughter. Held at the intimate John\, James and Clara Knight Stage within the historic Akron Civic Theatre complex\, this event has become a staple of the Northeast Ohio comedy scene\, drawing audiences from across the region. \nWhat to Expect\n\nMultiple stand-up comedians performing across a full weekend of shows\nHigh-energy comedy in an intimate\, up-close venue setting\nA diverse lineup of local and regional comedy talent\nMultiple show times to fit your schedule — Friday and Saturday performances\nA fun night out in the heart of downtown Akron\nAn affordable comedy experience with tickets starting from $40\n\nVenue Information\nThe John\, James and Clara Knight Stage is an intimate performance space within the historic Akron Civic Theatre complex at 182 S Main St\, Akron\, OH. It offers an up-close\, personal comedy experience in a beautifully restored setting in the heart of downtown Akron. \nTicket Information\nTickets start from $40 per show. With four performances across the weekend\, there’s a show time to fit every schedule. Grab your tickets now before they sell out! \nOfficial Tickets\nResale Tickets \nThis post contains affiliate links. We earn a commission if you purchase tickets through our links at no extra cost to you.\nAll sales are final. Show times subject to change. Valid photo ID may be required for entry.
URL:https://comedycalendar.com/event/akron-comedy-jam-live-at-john-james-and-clara-knight-stage/
LOCATION:John\, James and Clara Knight Stage\, 182 S Main St\, Akron\, OH\, 44308\, USA
CATEGORIES:Comedy Showcase,Headliner,Showcase,Stand Up Comedy
ATTACH;FMTTYPE=image/jpeg:https://comedycalendar.com/wp-content/uploads/2026/03/fa9caa1f-73a1-411e-b507-ec56fa59650a_106061_RETINA_LANDSCAPE_16_9-92w9di.jpg
GEO:41.0805433;-81.5194962
X-APPLE-STRUCTURED-LOCATION;VALUE=URI;X-ADDRESS=John James and Clara Knight Stage 182 S Main St Akron OH 44308 USA;X-APPLE-RADIUS=500;X-TITLE=182 S Main St:geo:-81.5194962,41.0805433
END:VEVENT
END:VCALENDAR