BEGIN:VCALENDAR
VERSION:2.0
PRODID:-//Find Upcoming Comedy Shows Near You | Comedy Calendar - ECPv6.15.20//NONSGML v1.0//EN
CALSCALE:GREGORIAN
METHOD:PUBLISH
X-ORIGINAL-URL:https://comedycalendar.com
X-WR-CALDESC:Events for Find Upcoming Comedy Shows Near You | Comedy Calendar
REFRESH-INTERVAL;VALUE=DURATION:PT1H
X-Robots-Tag:noindex
X-PUBLISHED-TTL:PT1H
BEGIN:VTIMEZONE
TZID:America/Chicago
BEGIN:DAYLIGHT
TZOFFSETFROM:-0600
TZOFFSETTO:-0500
TZNAME:CDT
DTSTART:20250309T080000
END:DAYLIGHT
BEGIN:STANDARD
TZOFFSETFROM:-0500
TZOFFSETTO:-0600
TZNAME:CST
DTSTART:20251102T070000
END:STANDARD
BEGIN:DAYLIGHT
TZOFFSETFROM:-0600
TZOFFSETTO:-0500
TZNAME:CDT
DTSTART:20260308T080000
END:DAYLIGHT
BEGIN:STANDARD
TZOFFSETFROM:-0500
TZOFFSETTO:-0600
TZNAME:CST
DTSTART:20261101T070000
END:STANDARD
BEGIN:DAYLIGHT
TZOFFSETFROM:-0600
TZOFFSETTO:-0500
TZNAME:CDT
DTSTART:20270314T080000
END:DAYLIGHT
BEGIN:STANDARD
TZOFFSETFROM:-0500
TZOFFSETTO:-0600
TZNAME:CST
DTSTART:20271107T070000
END:STANDARD
END:VTIMEZONE
BEGIN:VEVENT
DTSTART;TZID=America/Chicago:20260522T190000
DTEND;TZID=America/Chicago:20260522T210000
DTSTAMP:20260420T094115
CREATED:20260318T200000Z
LAST-MODIFIED:20260318T200000Z
UID:10003307-1779476400-1779483600@comedycalendar.com
SUMMARY:Radel Ortiz LIVE at Punch Line Houston
DESCRIPTION:Official TicketsResale Tickets \nAbout Radel Ortiz\nRadel Ortiz is a Dominican-American comedian from Brooklyn\, NY\, who has built a massive following on TikTok\, Instagram\, and Facebook with his hilarious social observations\, off-color humor\, and comedic skits. He first started posting in 2017 and has since grown into one of the most-watched Latino comedians on social media\, with millions of followers across platforms. \nHis content is full of relatable cultural observations and sharp wit that resonates with audiences on an international scale. Most recently\, Radel has expanded his brand through merchandising\, endorsement deals\, and collaborations on television\, film\, and musical ventures. Seeing him live is a completely different experience from his online content — raw\, unfiltered\, and hilarious. \nEvent Details\nDate: Friday\, May 22\, 2026\nShow Time: 7:00 PM (Late show at 9:15 PM also available)\nVenue: Punch Line Houston\nAddress: 1204 Caroline Street\, Houston\, TX 77002\nAge Restriction: 18+ / 2 Beverage Minimum\nTicket Price: From $38 \nAbout Punch Line Houston\nPunch Line Houston is downtown Houston’s premier stand-up comedy club\, located at 1204 Caroline Street. Part of the nationally recognized Punch Line Comedy Club brand\, this intimate venue delivers an up-close comedy experience that puts you right in the action. \nThe club features table seating\, a full-service bar\, and a two-drink minimum that keeps the energy flowing all night. Every seat in the house feels close to the stage\, making it the ideal setting to experience Radel’s high-energy performance. Parking is available in nearby downtown Houston garages and on surrounding streets. \nWhat to Expect\nRadel Ortiz’s live show is a high-energy\, crowd-interactive experience that goes far beyond his social media clips. He brings his Brooklyn swagger and Dominican-American perspective to the stage with a set full of sharp observations\, personal stories\, and the kind of spontaneous crowd work that makes every show unique. \nRadel is performing multiple shows this weekend — Friday May 22 at 7:00 PM and 9:15 PM\, and Saturday May 23 at 7:00 PM and 9:15 PM. Grab tickets for whichever show works best for you. This is an 18+ event with a two-beverage minimum per guest. \nTicket Information\nPrice: From $38\nTickets available via Ticketmaster (official) or VividSeats (resale). \nOfficial TicketsResale Tickets \nThis post contains affiliate links. We may earn a commission at no extra cost to you.
URL:https://comedycalendar.com/event/radel-ortiz-live-at-punch-line-houston/
LOCATION:Punch Line Houston\, 1204 Caroline Street\, Houston\, TX\, 77002\, United States
ATTACH;FMTTYPE=image/jpeg:https://comedycalendar.com/wp-content/uploads/2026/03/5e4ff390-a361-4924-aa17-b565a313482c_RETINA_PORTRAIT_3_2-mbD9Kr.jpg
GEO:29.7533552;-95.3641123
X-APPLE-STRUCTURED-LOCATION;VALUE=URI;X-ADDRESS=Punch Line Houston 1204 Caroline Street Houston TX 77002 United States;X-APPLE-RADIUS=500;X-TITLE=1204 Caroline Street:geo:-95.3641123,29.7533552
END:VEVENT
BEGIN:VEVENT
DTSTART;TZID=America/Chicago:20260522T190000
DTEND;TZID=America/Chicago:20260522T210000
DTSTAMP:20260420T094115
CREATED:20260318T200000Z
LAST-MODIFIED:20260318T200000Z
UID:10003308-1779476400-1779483600@comedycalendar.com
SUMMARY:Radel Ortiz LIVE at Punch Line Houston
DESCRIPTION:Official TicketsResale Tickets \nAbout Radel Ortiz\nRadel Ortiz is a Dominican-American comedian from Brooklyn\, NY\, who has built a massive following on TikTok\, Instagram\, and Facebook with his hilarious social observations\, off-color humor\, and comedic skits. He first started posting in 2017 and has since grown into one of the most-watched Latino comedians on social media\, with millions of followers across platforms. \nHis content is full of relatable cultural observations and sharp wit that resonates with audiences on an international scale. Most recently\, Radel has expanded his brand through merchandising\, endorsement deals\, and collaborations on television\, film\, and musical ventures. Seeing him live is a completely different experience from his online content — raw\, unfiltered\, and hilarious. \nEvent Details\nDate: Friday\, May 22\, 2026\nShow Time: 7:00 PM (Late show at 9:15 PM also available)\nVenue: Punch Line Houston\nAddress: 1204 Caroline Street\, Houston\, TX 77002\nAge Restriction: 18+ / 2 Beverage Minimum\nTicket Price: From $38 \nAbout Punch Line Houston\nPunch Line Houston is downtown Houston’s premier stand-up comedy club\, located at 1204 Caroline Street. Part of the nationally recognized Punch Line Comedy Club brand\, this intimate venue delivers an up-close comedy experience that puts you right in the action. \nThe club features table seating\, a full-service bar\, and a two-drink minimum that keeps the energy flowing all night. Every seat in the house feels close to the stage\, making it the ideal setting to experience Radel’s high-energy performance. Parking is available in nearby downtown Houston garages and on surrounding streets. \nWhat to Expect\nRadel Ortiz’s live show is a high-energy\, crowd-interactive experience that goes far beyond his social media clips. He brings his Brooklyn swagger and Dominican-American perspective to the stage with a set full of sharp observations\, personal stories\, and the kind of spontaneous crowd work that makes every show unique. \nRadel is performing multiple shows this weekend — Friday May 22 at 7:00 PM and 9:15 PM\, and Saturday May 23 at 7:00 PM and 9:15 PM. Grab tickets for whichever show works best for you. This is an 18+ event with a two-beverage minimum per guest. \nTicket Information\nPrice: From $38\nTickets available via Ticketmaster (official) or VividSeats (resale). \nOfficial TicketsResale Tickets \nThis post contains affiliate links. We may earn a commission at no extra cost to you.
URL:https://comedycalendar.com/event/radel-ortiz-live-at-punch-line-houston-2/
LOCATION:Punch Line Houston\, 1204 Caroline Street\, Houston\, TX\, 77002\, United States
ATTACH;FMTTYPE=image/jpeg:https://comedycalendar.com/wp-content/uploads/2026/03/5e4ff390-a361-4924-aa17-b565a313482c_RETINA_PORTRAIT_3_2-mbD9Kr.jpg
GEO:29.7533552;-95.3641123
X-APPLE-STRUCTURED-LOCATION;VALUE=URI;X-ADDRESS=Punch Line Houston 1204 Caroline Street Houston TX 77002 United States;X-APPLE-RADIUS=500;X-TITLE=1204 Caroline Street:geo:-95.3641123,29.7533552
END:VEVENT
END:VCALENDAR