BEGIN:VCALENDAR
VERSION:2.0
PRODID:-//Find Upcoming Comedy Shows Near You | Comedy Calendar - ECPv6.15.20//NONSGML v1.0//EN
CALSCALE:GREGORIAN
METHOD:PUBLISH
X-WR-CALNAME:Find Upcoming Comedy Shows Near You | Comedy Calendar
X-ORIGINAL-URL:https://comedycalendar.com
X-WR-CALDESC:Events for Find Upcoming Comedy Shows Near You | Comedy Calendar
REFRESH-INTERVAL;VALUE=DURATION:PT1H
X-Robots-Tag:noindex
X-PUBLISHED-TTL:PT1H
BEGIN:VTIMEZONE
TZID:America/Los_Angeles
BEGIN:DAYLIGHT
TZOFFSETFROM:-0800
TZOFFSETTO:-0700
TZNAME:PDT
DTSTART:20250309T100000
END:DAYLIGHT
BEGIN:STANDARD
TZOFFSETFROM:-0700
TZOFFSETTO:-0800
TZNAME:PST
DTSTART:20251102T090000
END:STANDARD
BEGIN:DAYLIGHT
TZOFFSETFROM:-0800
TZOFFSETTO:-0700
TZNAME:PDT
DTSTART:20260308T100000
END:DAYLIGHT
BEGIN:STANDARD
TZOFFSETFROM:-0700
TZOFFSETTO:-0800
TZNAME:PST
DTSTART:20261101T090000
END:STANDARD
BEGIN:DAYLIGHT
TZOFFSETFROM:-0800
TZOFFSETTO:-0700
TZNAME:PDT
DTSTART:20270314T100000
END:DAYLIGHT
BEGIN:STANDARD
TZOFFSETFROM:-0700
TZOFFSETTO:-0800
TZNAME:PST
DTSTART:20271107T090000
END:STANDARD
END:VTIMEZONE
BEGIN:VEVENT
DTSTART;TZID=America/Los_Angeles:20260515T200000
DTEND;TZID=America/Los_Angeles:20260515T223000
DTSTAMP:20260423T201531
CREATED:20260323T230000Z
LAST-MODIFIED:20260323T230000Z
UID:10003903-1778875200-1778884200@comedycalendar.com
SUMMARY:Ben Schwartz and Friends LIVE at Fox Theater Oakland
DESCRIPTION:Official TicketsResale Tickets \nAbout the Performer\nBen Schwartz is a comedian\, actor\, and writer best known for his role as Jean-Ralphio Saperstein on NBC’s Parks and Recreation\, as well as voicing Sonic the Hedgehog in the blockbuster Sonic the Hedgehog film franchise. His quick wit\, improvisational genius\, and boundless energy have made him one of the most beloved comedic talents working today. \nA veteran of the Upright Citizens Brigade Theatre\, Ben’s comedy is fast\, clever\, and endlessly inventive. He has appeared on numerous television shows\, hosted podcasts\, and performed stand-up and sketch comedy across the country. His live shows are known for being unpredictable\, hilarious\, and packed with surprise guest appearances. \nBen Schwartz and Friends is a unique comedy showcase format where Ben headlines alongside a rotating lineup of his talented comedian friends. Each show is different\, making every performance a one-of-a-kind experience. Oakland fans will be treated to a night of top-tier comedy from Ben and his handpicked guests. \nEvent Details\n\nDate: Friday\, May 15\, 2026\nDoors Open: 7:00 PM\nShow Time: 8:00 PM\nVenue: Fox Theater Oakland\, 1807 Telegraph Ave\, Oakland\, CA 94612\nAge Restriction: All Ages (Telegraph Room upgrade available for 21+)\nTicket Prices: $71 – $150\n\nAbout the Venue\nThe Fox Theater in Oakland is one of the Bay Area’s most beloved and iconic entertainment venues. Originally opened in 1928\, this stunning Art Deco landmark was meticulously restored and reopened in 2009\, and it now stands as a crown jewel of Oakland’s cultural scene. \nWith a capacity of approximately 2\,800 guests\, the Fox Theater offers an intimate yet grand atmosphere. The ornate interior features soaring ceilings\, intricate tilework\, and a warm\, golden ambiance that makes every show feel like a special occasion. The venue is known for its excellent sightlines and superb acoustics\, ensuring a great experience from every seat in the house. \nLocated on Telegraph Avenue in the heart of Uptown Oakland\, the Fox Theater is surrounded by great restaurants and bars\, making it easy to turn your evening into a full night out. Parking is available in nearby garages and street parking throughout the neighborhood. For those 21+\, the Telegraph Room club access upgrade offers an exclusive premium experience. \nWhat to Expect\nBen Schwartz and Friends is a comedy showcase featuring Ben as the headliner alongside a curated lineup of his comedian friends. The show format is dynamic and spontaneous – expect stand-up sets\, improvised moments\, and the kind of genuine camaraderie between performers that makes this show special. \nThe evening runs approximately 2 hours and is all ages\, making it a great night out for comedy fans of all backgrounds. Ben’s infectious energy and the surprise guest lineup make every show a unique event. This is Ben’s return to Oakland\, and Bay Area fans are in for a treat. \nTicket Information\nTickets start from $71 with premium options available. An optional Telegraph Room club access upgrade is available for guests 21+. Tickets are available on Ticketmaster and resale platforms. \nOfficial TicketsResale Tickets \nThis post contains affiliate links. We may earn a commission at no extra cost to you.
URL:https://comedycalendar.com/event/ben-schwartz-and-friends-live-at-fox-theater-oakland-2/
LOCATION:Fox Theater – Oakland\, 1807 Telegraph Ave\, Oakland\, CA\, 94612\, United States Of America
CATEGORIES:Showcase
ATTACH;FMTTYPE=image/jpeg:https://comedycalendar.com/wp-content/uploads/2026/03/d93b91b3-80ab-435b-bdcc-a93476023aa7_CUSTOM-lz7jfN.jpg
GEO:37.8081061;-122.2703215
X-APPLE-STRUCTURED-LOCATION;VALUE=URI;X-ADDRESS=Fox Theater – Oakland 1807 Telegraph Ave Oakland CA 94612 United States Of America;X-APPLE-RADIUS=500;X-TITLE=1807 Telegraph Ave:geo:-122.2703215,37.8081061
END:VEVENT
BEGIN:VEVENT
DTSTART;TZID=America/Los_Angeles:20261106T214500
DTEND;TZID=America/Los_Angeles:20261106T234500
DTSTAMP:20260423T201531
CREATED:20260323T170000Z
LAST-MODIFIED:20260323T170000Z
UID:10003865-1794001500-1794008700@comedycalendar.com
SUMMARY:Mark Normand LIVE at San Jose Improv (Friday Late Show)
DESCRIPTION:Official TicketsResale Tickets \nAbout the Performer\nMark Normand is one of the most prolific and talked-about stand-up comedians working today. Known for his relentlessly punchy writing and expert delivery\, he has been dubbed the “best young up and coming comic” by Jerry Seinfeld — high praise from the greatest of all time. \nBorn and raised in New Orleans\, Mark has made an unparalleled seven appearances on Conan\, three appearances on The Tonight Show with Jimmy Fallon\, and has been featured on The Late Show with Stephen Colbert and The Late Late Show with James Corden. His self-released one-hour special Out To Lunch on YouTube has amassed over 2.4 million views\, and his podcast Tuesdays with Stories is a fan favorite. \nMark’s comedy is sharp\, fast\, and brilliantly crafted. He has a gift for finding the perfect punchline and delivering it with impeccable timing. Expect a masterclass in stand-up comedy from one of the hardest-working comics in the business. \nEvent Details\n\nDate: Friday\, November 6\, 2026\nShow Time: 9:45 PM PST (Late Show)\nVenue: San Jose Improv\, 62 S Second St\, San Jose\, CA 95113\nAge Restriction: 21+ (Valid ID required)\nSeating: General admission\, first-come first-served (except groups and premium booths)\nNote: Two-item minimum purchase per person in the showroom\n\nAbout the Venue\nThe San Jose Improv is one of the Bay Area’s premier comedy clubs\, located in the heart of downtown San Jose at 62 S Second St. Part of the nationally renowned Improv comedy club chain\, this intimate venue offers an up-close and personal comedy experience that perfectly suits Mark Normand’s conversational\, high-energy style. \nThe club features a full bar and dining menu\, with a mandatory two-item minimum per guest in the showroom. Seating is general admission and first-come\, first-served\, so arriving early is recommended for the best spots. VIP Premium Banquette seating is available for groups looking for a premium experience with food and beverage credits. \nConveniently located in downtown San Jose\, the venue is surrounded by restaurants\, bars\, and multiple parking garages\, making it easy to make a full night out of your comedy experience. \nWhat to Expect\nThe late show with Mark Normand is a rapid-fire comedy experience. His writing is dense\, his delivery is precise\, and his ability to string together joke after joke without losing momentum is truly remarkable. The late-night crowd brings extra energy\, and Mark feeds off every bit of it. \nThis is a solo stand-up performance in an intimate club setting. Mark is known for his prolific output and his ability to connect with audiences of all backgrounds. This is a 21+ event. No cell phones\, photography\, or video recording are permitted during the performance. \nTicket Information\nPrice Range: $40 – $105 (plus fees) \n\nGA Ticket: $40 + fees\nVIP Ticket: $55 + fees\nGA Premium Table (seats 4\, includes $200 F&B credit): $90 + fees\nVIP Premium Banquette (seats 4\, includes $200 F&B credit): $105 + fees\n\nGet your tickets now before they sell out! \nOfficial TicketsResale Tickets \nThis post contains affiliate links. We may earn a commission at no extra cost to you.
URL:https://comedycalendar.com/event/mark-normand-live-at-san-jose-improv-friday-late-show/
LOCATION:San Jose Improv\, 62 S Second St\, San Jose\, California\, 95113\, United States
ATTACH;FMTTYPE=image/jpeg:https://i.ticketweb.com/i/00/13/35/50/93_Edp.jpg?v=3
GEO:37.3356413;-121.8883224
X-APPLE-STRUCTURED-LOCATION;VALUE=URI;X-ADDRESS=San Jose Improv 62 S Second St San Jose California 95113 United States;X-APPLE-RADIUS=500;X-TITLE=62 S Second St:geo:-121.8883224,37.3356413
END:VEVENT
END:VCALENDAR