BEGIN:VCALENDAR
VERSION:2.0
PRODID:-//Find Upcoming Comedy Shows Near You | Comedy Calendar - ECPv6.15.20//NONSGML v1.0//EN
CALSCALE:GREGORIAN
METHOD:PUBLISH
X-WR-CALNAME:Find Upcoming Comedy Shows Near You | Comedy Calendar
X-ORIGINAL-URL:https://comedycalendar.com
X-WR-CALDESC:Events for Find Upcoming Comedy Shows Near You | Comedy Calendar
REFRESH-INTERVAL;VALUE=DURATION:PT1H
X-Robots-Tag:noindex
X-PUBLISHED-TTL:PT1H
BEGIN:VTIMEZONE
TZID:America/New_York
BEGIN:DAYLIGHT
TZOFFSETFROM:-0500
TZOFFSETTO:-0400
TZNAME:EDT
DTSTART:20250309T070000
END:DAYLIGHT
BEGIN:STANDARD
TZOFFSETFROM:-0400
TZOFFSETTO:-0500
TZNAME:EST
DTSTART:20251102T060000
END:STANDARD
BEGIN:DAYLIGHT
TZOFFSETFROM:-0500
TZOFFSETTO:-0400
TZNAME:EDT
DTSTART:20260308T070000
END:DAYLIGHT
BEGIN:STANDARD
TZOFFSETFROM:-0400
TZOFFSETTO:-0500
TZNAME:EST
DTSTART:20261101T060000
END:STANDARD
BEGIN:DAYLIGHT
TZOFFSETFROM:-0500
TZOFFSETTO:-0400
TZNAME:EDT
DTSTART:20270314T070000
END:DAYLIGHT
BEGIN:STANDARD
TZOFFSETFROM:-0400
TZOFFSETTO:-0500
TZNAME:EST
DTSTART:20271107T060000
END:STANDARD
END:VTIMEZONE
BEGIN:VEVENT
DTSTART;TZID=America/New_York:20260822T200000
DTEND;TZID=America/New_York:20260822T230000
DTSTAMP:20260422T041940
CREATED:20260330T000000Z
LAST-MODIFIED:20260330T000000Z
UID:10004483-1787428800-1787439600@comedycalendar.com
SUMMARY:MODI: Pause For Laughter Tour LIVE at Ovation Hall at Ocean Casino Resort
DESCRIPTION:This post contains affiliate links. We earn a commission if you purchase tickets through our links at no extra cost to you. \nOfficial Tickets\nResale Tickets \nMODI: Pause For Laughter Tour LIVE at Ovation Hall\nAcclaimed comedian MODI brings his Pause For Laughter Tour LIVE to Ovation Hall at Ocean Casino Resort in Atlantic City on Saturday\, August 22\, 2026. Known for his sold-out Radio City Music Hall show and his unique blend of observational and cultural humor\, MODI delivers a world-class stand-up experience. \nEvent Details\nDate: Saturday\, August 22\, 2026Time: 8:00 PM ETVenue: Ovation Hall at Ocean Casino ResortAddress: 500 Boardwalk\, Atlantic City\, NJ 08401Doors Open: 7:00 PM \nAbout MODI\nMODI is a stand-up comedian celebrated for his sold-out show at Radio City Music Hall and his appearances on major comedy stages worldwide. His sharp observational humor\, cultural insights\, and masterful storytelling have earned him a devoted following. His Pause For Laughter Tour is one of the most anticipated comedy events of 2026. \nWhat to Expect\n\nMODI’s signature sharp observational and cultural humor\nMasterful storytelling and crowd engagement\nA world-class stand-up performance at Ovation Hall\nOne of comedy’s most acclaimed live performers\nA perfect Saturday night in Atlantic City\n\nVenue Information\nOvation Hall at Ocean Casino Resort is Atlantic City’s premier entertainment venue at 500 Boardwalk\, featuring state-of-the-art sound and world-class dining and gaming nearby. \nTicket Information\nTickets start from $49. Get your seats through official Ticketmaster or find resale tickets on VividSeats! \nOfficial Tickets\nResale Tickets \nThis post contains affiliate links. We earn a commission if you purchase tickets through our links at no extra cost to you.\nAll sales are final. Show times subject to change. Valid photo ID may be required for entry.
URL:https://comedycalendar.com/event/modi-pause-for-laughter-tour-live-at-ovation-hall-at-ocean-casino-resort/
LOCATION:Ovation Hall at Ocean Casino Resort\, 500 Boardwalk\, Atlantic City\, NJ\, 8401\, United States Of America
ATTACH;FMTTYPE=image/jpeg:https://comedycalendar.com/wp-content/uploads/2026/02/dfa64a61-686b-43d0-85f6-4679765c7fab_CUSTOM-hN79HK.jpg
GEO:39.3627499;-74.4148226
X-APPLE-STRUCTURED-LOCATION;VALUE=URI;X-ADDRESS=Ovation Hall at Ocean Casino Resort 500 Boardwalk Atlantic City NJ 8401 United States Of America;X-APPLE-RADIUS=500;X-TITLE=500 Boardwalk:geo:-74.4148226,39.3627499
END:VEVENT
END:VCALENDAR