BEGIN:VCALENDAR
VERSION:2.0
PRODID:-//Find Upcoming Comedy Shows Near You | Comedy Calendar - ECPv6.15.20//NONSGML v1.0//EN
CALSCALE:GREGORIAN
METHOD:PUBLISH
X-WR-CALNAME:Find Upcoming Comedy Shows Near You | Comedy Calendar
X-ORIGINAL-URL:https://comedycalendar.com
X-WR-CALDESC:Events for Find Upcoming Comedy Shows Near You | Comedy Calendar
REFRESH-INTERVAL;VALUE=DURATION:PT1H
X-Robots-Tag:noindex
X-PUBLISHED-TTL:PT1H
BEGIN:VTIMEZONE
TZID:America/New_York
BEGIN:DAYLIGHT
TZOFFSETFROM:-0500
TZOFFSETTO:-0400
TZNAME:EDT
DTSTART:20250309T070000
END:DAYLIGHT
BEGIN:STANDARD
TZOFFSETFROM:-0400
TZOFFSETTO:-0500
TZNAME:EST
DTSTART:20251102T060000
END:STANDARD
BEGIN:DAYLIGHT
TZOFFSETFROM:-0500
TZOFFSETTO:-0400
TZNAME:EDT
DTSTART:20260308T070000
END:DAYLIGHT
BEGIN:STANDARD
TZOFFSETFROM:-0400
TZOFFSETTO:-0500
TZNAME:EST
DTSTART:20261101T060000
END:STANDARD
BEGIN:DAYLIGHT
TZOFFSETFROM:-0500
TZOFFSETTO:-0400
TZNAME:EDT
DTSTART:20270314T070000
END:DAYLIGHT
BEGIN:STANDARD
TZOFFSETFROM:-0400
TZOFFSETTO:-0500
TZNAME:EST
DTSTART:20271107T060000
END:STANDARD
END:VTIMEZONE
BEGIN:VEVENT
DTSTART;TZID=America/New_York:20260515T190000
DTEND;TZID=America/New_York:20260515T213000
DTSTAMP:20260425T094405
CREATED:20260321T200000Z
LAST-MODIFIED:20260321T200000Z
UID:10003621-1778871600-1778880600@comedycalendar.com
SUMMARY:Patrick Warburton LIVE at Royal Oak Music Theatre
DESCRIPTION:Official TicketsResale Tickets \nAbout the Performer\nPatrick Warburton is one of Hollywood’s most recognizable voices and faces\, best known for his iconic roles as Joe Swanson on Family Guy\, Kronk in The Emperor’s New Groove\, and David Puddy on Seinfeld. \nBeyond his legendary acting career\, Warburton has developed a stand-up comedy act that showcases his dry wit\, impeccable timing\, and the self-aware humor of a man who has spent decades making people laugh. \nHis comedy style is conversational and storytelling-driven\, blending Hollywood anecdotes\, family life observations\, and the absurdities of being a recognizable celebrity in everyday situations. \nAudiences who have seen his recent touring show rave about his consistency\, warmth\, and the genuine laughs he delivers throughout a full hour-plus set. \nEvent Details\n\nDate: Friday\, May 15\, 2026\nTime: 7:00 PM (Doors open at 7:00 PM)\nVenue: Royal Oak Music Theatre\nAddress: 318 West Fourth St.\, Royal Oak\, MI 48067\nAges: All Ages\n\nAbout the Venue\nRoyal Oak Music Theatre is a beloved Metro Detroit entertainment venue located at 318 West Fourth St. in the heart of Royal Oak’s vibrant downtown. \nWith a capacity of approximately 1\,000 guests\, the venue offers a mix of standing room and balcony seating\, creating an intimate and energetic atmosphere for live shows. \nRoyal Oak Music Theatre is known for its excellent acoustics\, friendly staff\, and its central location surrounded by great restaurants and bars — making it the perfect spot for a full night out. \nParking is available in nearby city parking structures and street parking throughout downtown Royal Oak. \nWhat to Expect\nPatrick Warburton’s live show is a delightful surprise for fans who know him primarily as an actor — he’s genuinely funny\, engaging\, and commands the stage with the same effortless charisma that has made him a Hollywood staple. \nExpect a full stand-up set filled with personal stories\, celebrity observations\, and the kind of dry\, deadpan humor that Warburton has perfected over decades in the entertainment industry. \nThis is an all-ages show\, making it a great option for fans of all generations who grew up watching him on screen. \nTicket Information\nTickets start at $54. Grab yours before they sell out! \nOfficial TicketsResale Tickets \nThis post contains affiliate links. We may earn a commission at no extra cost to you.
URL:https://comedycalendar.com/event/patrick-warburton-live-at-royal-oak-music-theatre/
ATTACH;FMTTYPE=image/jpeg:https://s1.ticketm.net/dam/a/cf6/83c6e81f-ac9f-4bbf-96c3-10033a2decf6_1195981_RETINA_PORTRAIT_3_2.jpg
END:VEVENT
END:VCALENDAR