BEGIN:VCALENDAR
VERSION:2.0
PRODID:-//Find Upcoming Comedy Shows Near You | Comedy Calendar - ECPv6.15.20//NONSGML v1.0//EN
CALSCALE:GREGORIAN
METHOD:PUBLISH
X-WR-CALNAME:Find Upcoming Comedy Shows Near You | Comedy Calendar
X-ORIGINAL-URL:https://comedycalendar.com
X-WR-CALDESC:Events for Find Upcoming Comedy Shows Near You | Comedy Calendar
REFRESH-INTERVAL;VALUE=DURATION:PT1H
X-Robots-Tag:noindex
X-PUBLISHED-TTL:PT1H
BEGIN:VTIMEZONE
TZID:America/New_York
BEGIN:DAYLIGHT
TZOFFSETFROM:-0500
TZOFFSETTO:-0400
TZNAME:EDT
DTSTART:20250309T070000
END:DAYLIGHT
BEGIN:STANDARD
TZOFFSETFROM:-0400
TZOFFSETTO:-0500
TZNAME:EST
DTSTART:20251102T060000
END:STANDARD
BEGIN:DAYLIGHT
TZOFFSETFROM:-0500
TZOFFSETTO:-0400
TZNAME:EDT
DTSTART:20260308T070000
END:DAYLIGHT
BEGIN:STANDARD
TZOFFSETFROM:-0400
TZOFFSETTO:-0500
TZNAME:EST
DTSTART:20261101T060000
END:STANDARD
BEGIN:DAYLIGHT
TZOFFSETFROM:-0500
TZOFFSETTO:-0400
TZNAME:EDT
DTSTART:20270314T070000
END:DAYLIGHT
BEGIN:STANDARD
TZOFFSETFROM:-0400
TZOFFSETTO:-0500
TZNAME:EST
DTSTART:20271107T060000
END:STANDARD
END:VTIMEZONE
BEGIN:VEVENT
DTSTART;TZID=America/New_York:20260423T193000
DTEND;TZID=America/New_York:20260423T210000
DTSTAMP:20260422T205014
CREATED:20260316T170000Z
LAST-MODIFIED:20260316T170000Z
UID:10003097-1776972600-1776978000@comedycalendar.com
SUMMARY:Malik Elassal LIVE at Punch Line Irving
DESCRIPTION:Official TicketsResale Tickets \nThis post contains affiliate links. We may earn a commission at no extra cost to you. \nAbout the Performer\nMalik Elassal is a rising stand-up comedian known for his quick wit\, effortlessly funny delivery\, and sharp observations about culture\, identity\, and everyday life. \nHe has been building a loyal fanbase through relentless touring and his authentic comedic voice. His Thursday night show at Punch Line Irving is a one-night-only event — a must-see for comedy fans in the DFW area. \nDon’t miss your chance to catch one of comedy’s most exciting rising stars live in Irving. \nEvent Details\nDate: Thursday\, April 23\, 2026 \nTime: 7:30 PM \nVenue: Punch Line Irving\, 310 W Las Colinas Blvd.\, Suite 130\, Irving\, TX 75039 \nTicket Price Range: $25 – $55 \nAge Restriction: 18+ with valid government-issued photo ID \nAbout the Venue\nPunch Line Irving is the DFW area’s premier comedy club\, located in the Las Colinas entertainment district of Irving\, Texas. \nThe club features an intimate layout with excellent sightlines\, a full bar\, and table service throughout the show. It’s the perfect spot for a Thursday night out with friends or a fun date night. \nLocated at 310 W Las Colinas Blvd.\, Suite 130\, with easy access from Dallas\, Fort Worth\, and DFW Airport. Parking is available nearby. \nWhat to Expect\nMalik Elassal delivers a full headlining stand-up set featuring his signature quick wit\, sharp observations\, and hilarious crowd interaction. \nAn opening act will warm up the crowd before Malik takes the stage. Expect a high-energy\, laugh-filled evening from start to finish. \nDoors open one hour before showtime — arrive early to grab a drink and get the best seats. \nTicket Information\nTickets range from $25 to $55. Purchase official tickets on Ticketmaster or find resale options on VividSeats. \nOfficial TicketsResale Tickets
URL:https://comedycalendar.com/event/malik-elassal-live-at-punch-line-irving/
LOCATION:Punch Line Irving\, 310 W Las Colinas Blvd.\, Suite 130\, Irving\, TX\, 75039\, United States Of America
ATTACH;FMTTYPE=image/jpeg:https://media.ticketmaster.com/en-us/dam/a/ccf/b8d3d6e1-722c-4fb4-ab6d-d474b3080ccf_CUSTOM.jpg
GEO:32.8734455;-96.9445654
X-APPLE-STRUCTURED-LOCATION;VALUE=URI;X-ADDRESS=Punch Line Irving 310 W Las Colinas Blvd. Suite 130 Irving TX 75039 United States Of America;X-APPLE-RADIUS=500;X-TITLE=310 W Las Colinas Blvd.\, Suite 130:geo:-96.9445654,32.8734455
END:VEVENT
END:VCALENDAR