BEGIN:VCALENDAR
VERSION:2.0
PRODID:-//Find Upcoming Comedy Shows Near You | Comedy Calendar - ECPv6.15.20//NONSGML v1.0//EN
CALSCALE:GREGORIAN
METHOD:PUBLISH
X-WR-CALNAME:Find Upcoming Comedy Shows Near You | Comedy Calendar
X-ORIGINAL-URL:https://comedycalendar.com
X-WR-CALDESC:Events for Find Upcoming Comedy Shows Near You | Comedy Calendar
REFRESH-INTERVAL;VALUE=DURATION:PT1H
X-Robots-Tag:noindex
X-PUBLISHED-TTL:PT1H
BEGIN:VTIMEZONE
TZID:America/Chicago
BEGIN:DAYLIGHT
TZOFFSETFROM:-0600
TZOFFSETTO:-0500
TZNAME:CDT
DTSTART:20250309T080000
END:DAYLIGHT
BEGIN:STANDARD
TZOFFSETFROM:-0500
TZOFFSETTO:-0600
TZNAME:CST
DTSTART:20251102T070000
END:STANDARD
BEGIN:DAYLIGHT
TZOFFSETFROM:-0600
TZOFFSETTO:-0500
TZNAME:CDT
DTSTART:20260308T080000
END:DAYLIGHT
BEGIN:STANDARD
TZOFFSETFROM:-0500
TZOFFSETTO:-0600
TZNAME:CST
DTSTART:20261101T070000
END:STANDARD
BEGIN:DAYLIGHT
TZOFFSETFROM:-0600
TZOFFSETTO:-0500
TZNAME:CDT
DTSTART:20270314T080000
END:DAYLIGHT
BEGIN:STANDARD
TZOFFSETFROM:-0500
TZOFFSETTO:-0600
TZNAME:CST
DTSTART:20271107T070000
END:STANDARD
END:VTIMEZONE
BEGIN:VTIMEZONE
TZID:America/Los_Angeles
BEGIN:DAYLIGHT
TZOFFSETFROM:-0800
TZOFFSETTO:-0700
TZNAME:PDT
DTSTART:20250309T100000
END:DAYLIGHT
BEGIN:STANDARD
TZOFFSETFROM:-0700
TZOFFSETTO:-0800
TZNAME:PST
DTSTART:20251102T090000
END:STANDARD
BEGIN:DAYLIGHT
TZOFFSETFROM:-0800
TZOFFSETTO:-0700
TZNAME:PDT
DTSTART:20260308T100000
END:DAYLIGHT
BEGIN:STANDARD
TZOFFSETFROM:-0700
TZOFFSETTO:-0800
TZNAME:PST
DTSTART:20261101T090000
END:STANDARD
BEGIN:DAYLIGHT
TZOFFSETFROM:-0800
TZOFFSETTO:-0700
TZNAME:PDT
DTSTART:20270314T100000
END:DAYLIGHT
BEGIN:STANDARD
TZOFFSETFROM:-0700
TZOFFSETTO:-0800
TZNAME:PST
DTSTART:20271107T090000
END:STANDARD
END:VTIMEZONE
BEGIN:VEVENT
DTSTART;TZID=America/Chicago:20260425T200000
DTEND;TZID=America/Chicago:20260425T223000
DTSTAMP:20260424T001606
CREATED:20260322T040000Z
LAST-MODIFIED:20260322T040000Z
UID:10003658-1777147200-1777156200@comedycalendar.com
SUMMARY:Mo Gilligan - The Mo You Know LIVE at Emo's Austin
DESCRIPTION:Official TicketsResale Tickets \nAbout the Performer\nMo Gilligan is one of the UK’s most exciting stand-up comedians and entertainers\, known for his infectious energy\, sharp wit\, and hilarious observations about everyday life. Rising to fame through viral social media videos and his acclaimed stand-up specials\, Mo has become a global comedy sensation. \nHis Netflix special Mo Gilligan: In The Moment (2026) showcases his ability to connect with audiences through relatable humor\, physical comedy\, and brilliant character work. Mo’s comedy style blends street-smart observations with heartfelt storytelling\, making him a must-see live performer. \nThe Mo You Know World Tour is Mo’s biggest ever tour\, bringing his brand-new show to North America for the first time. Austin is one of the select cities lucky enough to host this international comedy star. \nEvent Details\nDate: Saturday\, April 25\, 2026 \nShow Time: 8:00 PM CT \nVenue: Emo’s Austin — 2015 E Riverside Dr\, Austin\, TX 78741 \nAge Restrictions: Ages 16+ Welcome. General Admission seating is first come\, first served. \nNote: All sales are subject to ticket availability. \nAbout the Venue\nEmo’s Austin is one of Austin’s most iconic live music and entertainment venues\, located at 2015 E Riverside Drive. With a capacity of approximately 1\,600\, it offers an intimate yet energetic atmosphere that makes every show feel special. \nThe venue features a large open floor for general admission standing\, a full bar\, and excellent sound quality. Emo’s is known for its laid-back Austin vibe and has hosted some of the biggest names in music and comedy over the years. \nParking is available in the surrounding area. The venue is easily accessible from downtown Austin and is a short drive from the South Congress and South Lamar entertainment districts. \nWhat to Expect\nMo Gilligan’s live shows are an absolute party. Expect high-energy stand-up comedy packed with hilarious stories\, brilliant impressions\, and crowd interaction that will have you laughing non-stop from the moment he hits the stage. \nThis is a general admission show\, so arrive early to secure a great spot on the floor. The intimate setting of Emo’s Austin means you’ll feel close to the action no matter where you stand. \nWhether you’ve been following Mo since his viral days or discovered him through his Netflix special\, this is a rare chance to see one of the world’s hottest comedians in an intimate Austin venue. \nTicket Information\nPrice Range: From $55 to $106+ (plus fees) \nTickets are available now through Ticketmaster. Resale tickets are also available through VividSeats. \nOfficial TicketsResale Tickets \nThis post contains affiliate links. We may earn a commission at no extra cost to you.
URL:https://comedycalendar.com/event/mo-gilligan-the-mo-you-know-live-at-emos-austin/
LOCATION:Emo’s Austin\, 2015 E Riverside Dr\, Austin\, TX\, 78741\, USA
ATTACH;FMTTYPE=image/jpeg:https://assets0.dostuffmedia.com/uploads/aws_asset/aws_asset/27642320/074f99ce-3f46-414d-bedc-4dc6f9874edc.jpg
GEO:30.2399111;-97.7280702
X-APPLE-STRUCTURED-LOCATION;VALUE=URI;X-ADDRESS=Emo’s Austin 2015 E Riverside Dr Austin TX 78741 USA;X-APPLE-RADIUS=500;X-TITLE=2015 E Riverside Dr:geo:-97.7280702,30.2399111
END:VEVENT
BEGIN:VEVENT
DTSTART;TZID=America/Chicago:20260426T193000
DTEND;TZID=America/Chicago:20260426T213000
DTSTAMP:20260424T001606
CREATED:20260318T170000Z
LAST-MODIFIED:20260318T180329Z
UID:10003287-1777231800-1777239000@comedycalendar.com
SUMMARY:Mo Gilligan: The Mo You Know LIVE at Punch Line Houston
DESCRIPTION:Official TicketsResale Tickets \nThis post contains affiliate links. We may earn a commission at no extra cost to you. \nAbout the Performer\nMo Gilligan is one of the UK’s biggest comedy stars\, known for his high-energy performances\, infectious personality\, and brilliantly funny observations about Black British culture\, relationships\, and everyday life. He rose to fame through his viral social media sketches and has since become a household name through his hit Channel 4 show The Lateish Show with Mo Gilligan. \nMo has sold out arenas across the UK and is now bringing his brand-new show The Mo You Know to North America. His comedy is warm\, relatable\, and genuinely hilarious — the kind of show that leaves you with sore cheeks from laughing so hard. \nEvent Details\nDate: Sunday\, April 26\, 2026\nTime: 7:30 PM\nVenue: Punch Line Houston\nAddress: 1204 Caroline Street\, Houston\, TX 77002\nAge Restriction: 18+ with 2 beverage minimum\nTicket Price Range: $53 – $100 \nAbout the Venue\nPunch Line Houston is one of Houston’s premier comedy clubs\, located in the heart of downtown at 1204 Caroline Street. Part of the nationally acclaimed Punch Line Comedy Club brand\, the venue is known for its intimate atmosphere\, excellent sightlines\, and world-class comedy programming. \nThe club features a full bar and food service\, comfortable seating\, and a warm\, welcoming vibe. Parking is available in nearby downtown Houston garages and on surrounding streets. This is an 18+ venue with a 2 beverage minimum per person. \nWhat to Expect\nMo Gilligan’s The Mo You Know is a brand-new stand-up show packed with fresh material\, hilarious storytelling\, and the kind of high-energy performance that Mo is famous for. Expect big laughs\, crowd interaction\, and a show that feels like a celebration from start to finish. \nThe show runs approximately 90 minutes. This is a rare chance to see one of the UK’s biggest comedy stars perform in an intimate club setting in Houston. Arrive early to grab a drink and get settled before the show begins. \nTicket Information\nPrice Range: $53 – $100 (plus fees)\nTickets available through Ticketmaster (official) and VividSeats (resale). \nOfficial TicketsResale Tickets
URL:https://comedycalendar.com/event/mo-gilligan-the-mo-you-know-live-at-punch-line-houston/
LOCATION:Punch Line Houston\, 1204 Caroline Street\, Houston\, TX\, 77002\, United States
CATEGORIES:Stand Up Comedy
ATTACH;FMTTYPE=image/jpeg:https://s1.ticketm.net/dam/a/570/8bb30424-966d-4c2e-9ab8-4c7d0f8b1570_EVENT_DETAIL_PAGE_16_9.jpg
GEO:29.7533552;-95.3641123
X-APPLE-STRUCTURED-LOCATION;VALUE=URI;X-ADDRESS=Punch Line Houston 1204 Caroline Street Houston TX 77002 United States;X-APPLE-RADIUS=500;X-TITLE=1204 Caroline Street:geo:-95.3641123,29.7533552
END:VEVENT
BEGIN:VEVENT
DTSTART;TZID=America/Los_Angeles:20260502T200000
DTEND;TZID=America/Los_Angeles:20260502T220000
DTSTAMP:20260424T001606
CREATED:20260322T050000Z
LAST-MODIFIED:20260322T050000Z
UID:10003671-1777752000-1777759200@comedycalendar.com
SUMMARY:Mo Gilligan - The Mo You Know LIVE at Aladdin Theater
DESCRIPTION:Official TicketsResale Tickets \nAbout Mo Gilligan\nNamed ‘The Funniest Man in Britain’ by The Times\, Mo Gilligan is a British stand-up comedian\, actor\, and television presenter who has taken the comedy world by storm. His debut Netflix special Momentum was released globally in 190 countries\, and his follow-up special was equally celebrated. \nMo’s comedy style blends high-energy storytelling\, sharp observational humor\, and infectious crowd work. He draws from his Jamaican-British heritage and everyday life experiences to craft routines that resonate with audiences worldwide. His ability to connect with a room is unmatched — expect non-stop laughter from start to finish. \nA multi-BAFTA winner for his hit Channel 4 show The Lateish Show with Mo Gilligan\, Mo has also served as a judge on The Masked Singer (ITV) and starred in the animated film 10 Lives. His 2025 world tour sold out arenas across the US\, Canada\, Australia\, and Europe — and now he’s back with The Mo You Know tour. \nEvent Details\nDate: Saturday\, May 2\, 2026 \nTime: 8:00 PM (Doors open approximately 7:00 PM) \nVenue: Aladdin Theater — 3017 SE Milwaukie Avenue\, Portland\, OR 97202 \nAge Restrictions: All ages welcome; some shows may have 18+ sections. Check venue for details. \nContent Warning: Adult language and themes. \nAbout the Aladdin Theater\nThe Aladdin Theater is one of Portland’s most beloved and storied live entertainment venues. Originally built in 1927 as a movie palace\, the Aladdin has been lovingly restored and now serves as an intimate concert and comedy venue in the heart of Southeast Portland. \nWith a capacity of approximately 620\, the Aladdin offers an up-close and personal experience that larger arenas simply can’t match. The venue features excellent sightlines from nearly every seat\, a full bar\, and a warm\, historic atmosphere that makes every show feel special. \nLocated on SE Milwaukie Avenue\, the Aladdin is easily accessible by public transit and has street parking available in the surrounding neighborhood. The venue is known for its attentive staff and welcoming vibe — a perfect setting for an intimate comedy night. \nWhat to Expect\nMo Gilligan’s The Mo You Know tour promises an evening of high-energy stand-up comedy that will have you laughing from the moment he takes the stage. Mo is known for his incredible stage presence\, his ability to improvise with the crowd\, and his gift for turning everyday observations into hilarious stories. \nExpect a full headline set of approximately 90 minutes\, packed with new material from his latest tour. Mo’s shows are known for their electric atmosphere — audiences leave feeling like they’ve just witnessed something truly special. \nWhether you’re a longtime fan or discovering Mo for the first time\, this is a night of comedy you won’t want to miss. \nTicket Information\nPrice Range: From $175+ \nTickets are available through official channels and resale platforms. Secure your seats early — Mo Gilligan shows sell out fast! \nOfficial TicketsResale Tickets \nThis post contains affiliate links. We may earn a commission at no extra cost to you.
URL:https://comedycalendar.com/event/mo-gilligan-the-mo-you-know-live-at-aladdin-theater/
LOCATION:Aladdin Theater\, 3017 SE Milwaukie Avenue\, Portland\, Oregon\, 97202\, United States Of America
ATTACH;FMTTYPE=image/jpeg:https://comedycalendar.com/wp-content/uploads/2026/03/8bb30424-966d-4c2e-9ab8-4c7d0f8b1570_RETINA_PORTRAIT_3_2-ChZcs8.jpg
GEO:45.5008089;-122.654546
X-APPLE-STRUCTURED-LOCATION;VALUE=URI;X-ADDRESS=Aladdin Theater 3017 SE Milwaukie Avenue Portland Oregon 97202 United States Of America;X-APPLE-RADIUS=500;X-TITLE=3017 SE Milwaukie Avenue:geo:-122.654546,45.5008089
END:VEVENT
BEGIN:VEVENT
DTSTART;TZID=America/Los_Angeles:20260503T193000
DTEND;TZID=America/Los_Angeles:20260503T213000
DTSTAMP:20260424T001606
CREATED:20260313T230000Z
LAST-MODIFIED:20260319T165611Z
UID:10002854-1777836600-1777843800@comedycalendar.com
SUMMARY:Mo Gilligan - The Mo You Know LIVE at Cobb's Comedy Club
DESCRIPTION:Official TicketsResale Tickets \nAbout the Performer\nMo Gilligan is one of the UK’s biggest comedy stars\, now taking his acclaimed show The Mo You Know on a major North American tour. Known for his infectious energy\, hilarious characters\, and sharp observational humor\, Mo has become a global comedy phenomenon through his Netflix specials\, his hit Channel 4 show The Lateish Show with Mo Gilligan\, and his sold-out arena tours around the world. \nMo’s comedy is warm\, relatable\, and endlessly entertaining — the kind of show that leaves audiences in tears of laughter from start to finish. Don’t miss this rare opportunity to see one of the world’s hottest comedy stars live in San Francisco. \nEvent Details\n\nDate: Sunday\, May 3\, 2026\nTime: 7:30 PM\nVenue: Cobb’s Comedy Club\, 915 Columbus Avenue\, San Francisco\, CA 94133\nTicket Price Range: $30 – $70\n\nAbout the Venue\nCobb’s Comedy Club is one of San Francisco’s most iconic comedy venues\, located in the North Beach neighborhood at 915 Columbus Avenue. With a capacity of approximately 400 guests\, Cobb’s offers an intimate yet lively atmosphere that puts every seat close to the action. \nThe venue features a full bar and food service\, comfortable seating\, and excellent sightlines. Street parking is available nearby and the venue is easily accessible via public transit. \nWhat to Expect\nMo Gilligan’s The Mo You Know is a high-energy\, laugh-out-loud comedy experience. Expect infectious energy\, hilarious characters\, sharp observations\, and the kind of warm\, crowd-pleasing performance that has made Mo one of the most beloved comedians in the world. This is a show you will not want to miss. \nArrive early to grab a drink and get a great seat. Mo Gilligan shows sell out fast! \nTicket Information\nPrice Range: $30 – $70 \nTickets are available now. Don’t miss Mo Gilligan live at Cobb’s Comedy Club! \nOfficial TicketsResale Tickets \nThis post contains affiliate links. We may earn a commission at no extra cost to you.
URL:https://comedycalendar.com/event/mo-gilligan-the-mo-you-know-live-at-cobbs-comedy-club/
LOCATION:Cobb’s Comedy Club\, 915 Columbus Avenue\, San Francisco\, California\, 94133\, United States Of America
CATEGORIES:Stand Up Comedy
ATTACH;FMTTYPE=image/jpeg:https://s1.ticketm.net/dam/a/570/8bb30424-966d-4c2e-9ab8-4c7d0f8b1570_EVENT_DETAIL_PAGE_16_9.jpg
GEO:37.8029543;-122.4143041
X-APPLE-STRUCTURED-LOCATION;VALUE=URI;X-ADDRESS=Cobb’s Comedy Club 915 Columbus Avenue San Francisco California 94133 United States Of America;X-APPLE-RADIUS=500;X-TITLE=915 Columbus Avenue:geo:-122.4143041,37.8029543
END:VEVENT
BEGIN:VEVENT
DTSTART;TZID=America/Los_Angeles:20260513T190000
DTEND;TZID=America/Los_Angeles:20260513T213000
DTSTAMP:20260424T001606
CREATED:20260321T050000Z
LAST-MODIFIED:20260321T050000Z
UID:10003562-1778698800-1778707800@comedycalendar.com
SUMMARY:Mo Gilligan: The Mo You Know LIVE at The Observatory North Park
DESCRIPTION:Official TicketsResale Tickets \nThis post contains affiliate links. We may earn a commission at no extra cost to you. \nAbout Mo Gilligan\nMo Gilligan is one of the UK’s biggest comedy stars\, known for his infectious energy\, hilarious characters\, and ability to connect with audiences of all backgrounds. He rose to fame through his viral social media videos and has since become a household name\, hosting major TV shows and selling out arenas across the UK and beyond. \nMo is the creator of the beloved character “Café Geezer” and has hosted The Lateish Show with Mo Gilligan on Channel 4\, as well as serving as a judge on The Masked Singer UK. His stand-up specials have been critically acclaimed\, and his live shows are known for their high energy\, crowd interaction\, and non-stop laughs. \nThe Mo You Know tour brings Mo’s latest material to audiences across the US\, giving American fans a rare chance to see this international comedy sensation perform live. His comedy blends observational humor\, character work\, and personal storytelling in a way that is uniquely his own. \nEvent Details\n\nDate: Wednesday\, May 13\, 2026\nTime: 7:00 PM\nVenue: The Observatory North Park\, 2891 University Ave\, San Diego\, CA 92104\nAge Restrictions: 16+ Event (check venue for details)\n\nAbout the Venue\nThe Observatory North Park is one of San Diego’s premier live entertainment venues\, located in the vibrant North Park neighborhood at 2891 University Avenue. This intimate venue has a capacity of approximately 1\,000 guests and is known for its excellent sound system\, great sightlines\, and energetic atmosphere. \nThe venue features a general admission standing floor area as well as elevated viewing sections\, making it a fantastic spot for comedy shows. The North Park neighborhood itself is one of San Diego’s most eclectic and lively areas\, with plenty of restaurants and bars nearby for pre- or post-show dining. Street parking and nearby lots are available. \nWhat to Expect\nMo Gilligan’s The Mo You Know is a full-length stand-up comedy show packed with Mo’s signature characters\, hilarious observations\, and crowd-pleasing energy. Expect a show that feels like a party — Mo has a gift for making every audience member feel like they’re part of the fun. \nThis is a rare opportunity to see one of the UK’s biggest comedy stars perform in an intimate San Diego venue. Whether you’re already a fan or discovering Mo for the first time\, this show is guaranteed to be one of the most entertaining nights of the year. Note: This is a 16+ event. \nTicket Information\nTickets start from $41.80. Purchase official tickets through Ticketmaster or find resale tickets through VividSeats. \nOfficial TicketsResale Tickets
URL:https://comedycalendar.com/event/mo-gilligan-the-mo-you-know-live-at-the-observatory-north-park/
LOCATION:The Observatory North Park\, 2891 University Ave\, San Diego\, CA\, 92104\, USA
ATTACH;FMTTYPE=image/jpeg:https://comedycalendar.com/wp-content/uploads/2026/03/8bb30424-966d-4c2e-9ab8-4c7d0f8b1570_CUSTOM-9khC5f.jpg
GEO:32.7481789;-117.1314047
X-APPLE-STRUCTURED-LOCATION;VALUE=URI;X-ADDRESS=The Observatory North Park 2891 University Ave San Diego CA 92104 USA;X-APPLE-RADIUS=500;X-TITLE=2891 University Ave:geo:-117.1314047,32.7481789
END:VEVENT
END:VCALENDAR