BEGIN:VCALENDAR
VERSION:2.0
PRODID:-//Find Upcoming Comedy Shows Near You | Comedy Calendar - ECPv6.15.20//NONSGML v1.0//EN
CALSCALE:GREGORIAN
METHOD:PUBLISH
X-ORIGINAL-URL:https://comedycalendar.com
X-WR-CALDESC:Events for Find Upcoming Comedy Shows Near You | Comedy Calendar
REFRESH-INTERVAL;VALUE=DURATION:PT1H
X-Robots-Tag:noindex
X-PUBLISHED-TTL:PT1H
BEGIN:VTIMEZONE
TZID:America/Los_Angeles
BEGIN:DAYLIGHT
TZOFFSETFROM:-0800
TZOFFSETTO:-0700
TZNAME:PDT
DTSTART:20250309T100000
END:DAYLIGHT
BEGIN:STANDARD
TZOFFSETFROM:-0700
TZOFFSETTO:-0800
TZNAME:PST
DTSTART:20251102T090000
END:STANDARD
BEGIN:DAYLIGHT
TZOFFSETFROM:-0800
TZOFFSETTO:-0700
TZNAME:PDT
DTSTART:20260308T100000
END:DAYLIGHT
BEGIN:STANDARD
TZOFFSETFROM:-0700
TZOFFSETTO:-0800
TZNAME:PST
DTSTART:20261101T090000
END:STANDARD
BEGIN:DAYLIGHT
TZOFFSETFROM:-0800
TZOFFSETTO:-0700
TZNAME:PDT
DTSTART:20270314T100000
END:DAYLIGHT
BEGIN:STANDARD
TZOFFSETFROM:-0700
TZOFFSETTO:-0800
TZNAME:PST
DTSTART:20271107T090000
END:STANDARD
END:VTIMEZONE
BEGIN:VEVENT
DTSTART;TZID=America/Los_Angeles:20260426T190000
DTEND;TZID=America/Los_Angeles:20260426T210000
DTSTAMP:20260423T014101
CREATED:20260313T230000Z
LAST-MODIFIED:20260313T230000Z
UID:10002850-1777230000-1777237200@comedycalendar.com
SUMMARY:Chad Daniels LIVE at Cobb's Comedy Club
DESCRIPTION:Official TicketsResale Tickets \nAbout the Performer\nChad Daniels is one of the most respected and beloved stand-up comedians working today. Known for his razor-sharp writing\, dry wit\, and masterful delivery\, Chad has built a devoted following through his acclaimed Comedy Central specials\, his popular podcast Middle of Somewhere\, and his relentless touring schedule. His comedy is smart\, honest\, and consistently hilarious. \nChad Daniels has been praised by critics and fans alike for his ability to find humor in the everyday frustrations of life — from parenting to relationships to the absurdities of modern existence. This appearance at Cobb’s Comedy Club is a must-see for any comedy fan. \nEvent Details\n\nDate: Sunday\, April 26\, 2026\nTime: 7:00 PM\nVenue: Cobb’s Comedy Club\, 915 Columbus Avenue\, San Francisco\, CA 94133\nTicket Price Range: $35 – $75\n\nAbout the Venue\nCobb’s Comedy Club is one of San Francisco’s most iconic comedy venues\, located in the North Beach neighborhood at 915 Columbus Avenue. With a capacity of approximately 400 guests\, Cobb’s offers an intimate yet lively atmosphere that puts every seat close to the action. \nThe venue features a full bar and food service\, comfortable seating\, and excellent sightlines. Street parking is available nearby and the venue is easily accessible via public transit. \nWhat to Expect\nChad Daniels’s live show is a masterclass in stand-up comedy. Expect razor-sharp writing\, dry wit\, and the kind of honest\, relatable humor that makes you laugh out loud and nod in recognition. Chad’s polished delivery and original comedic voice make his shows an absolute treat for comedy fans of all tastes. \nArrive early to grab a drink and get a great seat. Chad Daniels shows are always a highlight of the comedy calendar. \nTicket Information\nPrice Range: $35 – $75 \nTickets are available now. Don’t miss Chad Daniels live at Cobb’s Comedy Club! \nOfficial TicketsResale Tickets \nThis post contains affiliate links. We may earn a commission at no extra cost to you.
URL:https://comedycalendar.com/event/chad-daniels-live-at-cobbs-comedy-club/
LOCATION:Cobb’s Comedy Club\, 915 Columbus Avenue\, San Francisco\, California\, 94133\, United States Of America
ATTACH;FMTTYPE=image/jpeg:https://media.ticketmaster.com/en-us/dam/a/1d2/3d5711b8-e0e6-478d-a773-699684c991d2_CUSTOM.jpg
GEO:37.8029543;-122.4143041
X-APPLE-STRUCTURED-LOCATION;VALUE=URI;X-ADDRESS=Cobb’s Comedy Club 915 Columbus Avenue San Francisco California 94133 United States Of America;X-APPLE-RADIUS=500;X-TITLE=915 Columbus Avenue:geo:-122.4143041,37.8029543
END:VEVENT
END:VCALENDAR