BEGIN:VCALENDAR
VERSION:2.0
PRODID:-//Find Upcoming Comedy Shows Near You | Comedy Calendar - ECPv6.15.20//NONSGML v1.0//EN
CALSCALE:GREGORIAN
METHOD:PUBLISH
X-ORIGINAL-URL:https://comedycalendar.com
X-WR-CALDESC:Events for Find Upcoming Comedy Shows Near You | Comedy Calendar
REFRESH-INTERVAL;VALUE=DURATION:PT1H
X-Robots-Tag:noindex
X-PUBLISHED-TTL:PT1H
BEGIN:VTIMEZONE
TZID:America/Los_Angeles
BEGIN:DAYLIGHT
TZOFFSETFROM:-0800
TZOFFSETTO:-0700
TZNAME:PDT
DTSTART:20250309T100000
END:DAYLIGHT
BEGIN:STANDARD
TZOFFSETFROM:-0700
TZOFFSETTO:-0800
TZNAME:PST
DTSTART:20251102T090000
END:STANDARD
BEGIN:DAYLIGHT
TZOFFSETFROM:-0800
TZOFFSETTO:-0700
TZNAME:PDT
DTSTART:20260308T100000
END:DAYLIGHT
BEGIN:STANDARD
TZOFFSETFROM:-0700
TZOFFSETTO:-0800
TZNAME:PST
DTSTART:20261101T090000
END:STANDARD
BEGIN:DAYLIGHT
TZOFFSETFROM:-0800
TZOFFSETTO:-0700
TZNAME:PDT
DTSTART:20270314T100000
END:DAYLIGHT
BEGIN:STANDARD
TZOFFSETFROM:-0700
TZOFFSETTO:-0800
TZNAME:PST
DTSTART:20271107T090000
END:STANDARD
END:VTIMEZONE
BEGIN:VEVENT
DTSTART;TZID=America/Los_Angeles:20260324T193000
DTEND;TZID=America/Los_Angeles:20260324T213000
DTSTAMP:20260422T123338
CREATED:20260311T040000Z
LAST-MODIFIED:20260311T040000Z
UID:10002779-1774380600-1774387800@comedycalendar.com
SUMMARY:Michael Yo Hot Mess Comedy LIVE at Jimmy Kimmel's Comedy Club
DESCRIPTION:This post contains affiliate links. We earn a commission if you purchase tickets through our links at no extra cost to you. \nOfficial Tickets\nResale Tickets \nMichael Yo Hot Mess Comedy LIVE at Jimmy Kimmel’s Comedy Club\nComedian and TV personality Michael Yo brings his Hot Mess Comedy show to Jimmy Kimmel’s Comedy Club at the LINQ Promenade in Las Vegas. Known for his work on E! News\, The Insider\, and his stand-up specials\, Michael Yo delivers a high-energy\, hilarious show that blends pop culture commentary with personal storytelling. \nEvent Details\nDate: Tuesday\, March 24\, 2026\nTime: 7:30 PM\nVenue: Jimmy Kimmel’s Comedy Club\nAddress: 3545 S Las Vegas Blvd\, Las Vegas\, NV 89109\nAge Requirement: 18+ (valid photo ID required) \nAbout Michael Yo\nMichael Yo is a comedian and television personality best known for his work as a correspondent and host on E! News and The Insider. A regular at Jimmy Kimmel’s Comedy Club in Las Vegas\, Yo brings his unique blend of pop culture savvy\, personal storytelling\, and sharp humor to the stage in his signature Hot Mess Comedy show — a high-energy performance that keeps audiences laughing all night long. \nWhat to Expect\n\nHigh-energy stand-up blending pop culture and personal stories\nSharp humor from a seasoned TV personality and comedian\nMichael Yo’s signature Hot Mess Comedy format\nAn entertaining evening at the LINQ Promenade\nNon-stop laughs from start to finish\n\nVenue Information\nJimmy Kimmel’s Comedy Club is located at the LINQ Promenade on the Las Vegas Strip\, offering a premier comedy club experience with top national and local comedians in a stylish\, modern setting. \nTicket Information\nTickets start from $39. A great value for a fun night of comedy in Las Vegas! \nOfficial Tickets\nResale Tickets \nThis post contains affiliate links. We earn a commission if you purchase tickets through our links at no extra cost to you.\nAll sales are final. Show times subject to change. Valid photo ID may be required for entry.
URL:https://comedycalendar.com/event/michael-yo-hot-mess-comedy-live-at-jimmy-kimmels-comedy-club/
LOCATION:Jimmy Kimmel’s Comedy Club\, 3545 S Las Vegas Blvd\, Las Vegas\, NV\, 89109\, USA
ATTACH;FMTTYPE=image/jpeg:https://s1.ticketm.net/dam/a/730/0089dec7-eae1-4324-81bf-9f50edde7730_TABLET_LANDSCAPE_LARGE_16_9.jpg
GEO:36.11759;-115.168698
X-APPLE-STRUCTURED-LOCATION;VALUE=URI;X-ADDRESS=Jimmy Kimmel’s Comedy Club 3545 S Las Vegas Blvd Las Vegas NV 89109 USA;X-APPLE-RADIUS=500;X-TITLE=3545 S Las Vegas Blvd:geo:-115.168698,36.11759
END:VEVENT
END:VCALENDAR