BEGIN:VCALENDAR
VERSION:2.0
PRODID:-//Find Upcoming Comedy Shows Near You | Comedy Calendar - ECPv6.15.20//NONSGML v1.0//EN
CALSCALE:GREGORIAN
METHOD:PUBLISH
X-ORIGINAL-URL:https://comedycalendar.com
X-WR-CALDESC:Events for Find Upcoming Comedy Shows Near You | Comedy Calendar
REFRESH-INTERVAL;VALUE=DURATION:PT1H
X-Robots-Tag:noindex
X-PUBLISHED-TTL:PT1H
BEGIN:VTIMEZONE
TZID:America/New_York
BEGIN:DAYLIGHT
TZOFFSETFROM:-0500
TZOFFSETTO:-0400
TZNAME:EDT
DTSTART:20250309T070000
END:DAYLIGHT
BEGIN:STANDARD
TZOFFSETFROM:-0400
TZOFFSETTO:-0500
TZNAME:EST
DTSTART:20251102T060000
END:STANDARD
BEGIN:DAYLIGHT
TZOFFSETFROM:-0500
TZOFFSETTO:-0400
TZNAME:EDT
DTSTART:20260308T070000
END:DAYLIGHT
BEGIN:STANDARD
TZOFFSETFROM:-0400
TZOFFSETTO:-0500
TZNAME:EST
DTSTART:20261101T060000
END:STANDARD
BEGIN:DAYLIGHT
TZOFFSETFROM:-0500
TZOFFSETTO:-0400
TZNAME:EDT
DTSTART:20270314T070000
END:DAYLIGHT
BEGIN:STANDARD
TZOFFSETFROM:-0400
TZOFFSETTO:-0500
TZNAME:EST
DTSTART:20271107T060000
END:STANDARD
END:VTIMEZONE
BEGIN:VEVENT
DTSTART;TZID=America/New_York:20260424T200000
DTEND;TZID=America/New_York:20260424T220000
DTSTAMP:20260423T030032
CREATED:20260315T130000Z
LAST-MODIFIED:20260319T163638Z
UID:10002989-1777060800-1777068000@comedycalendar.com
SUMMARY:Michael McIntyre: Hello America! LIVE at DAR Constitution Hall (Apr 24)
DESCRIPTION:Official TicketsResale Tickets \nAbout the Performer\nMichael McIntyre is one of the world’s best-selling stand-up comedians\, beloved for his infectious energy\, brilliant timing\, and universally relatable humor. His Hello America! tour marks his first major US tour\, and demand has been so overwhelming that a second Washington\, DC date was added. \nWith multiple Netflix specials\, sold-out arena tours across the UK and Europe\, and a devoted global fanbase\, McIntyre brings a level of polish and professionalism to live comedy that is truly rare. His shows are joyful\, high-energy celebrations of everyday life that leave audiences in tears of laughter. \nEvent Details\nDate: Friday\, April 24\, 2026\nTime: 8:00 PM EDT\nDoors Open: 7:00 PM\nVenue: DAR Constitution Hall\, 1776 D Street NW\, Washington\, DC 20006\nNote: Second added show due to overwhelming demand. \nAbout the Venue\nDAR Constitution Hall is Washington\, DC’s most storied concert venue\, seating approximately 3\,702 guests in a magnificent neoclassical setting. Since 1929\, it has hosted presidents\, legends\, and the world’s greatest entertainers. \nLocated at 1776 D Street NW near the National Mall\, the venue is easily accessible via the Farragut West Metro station. The grand interior features excellent acoustics\, multiple bar areas\, and a formal yet welcoming atmosphere perfect for a world-class comedy event. \nWhat to Expect\nExpect approximately 90 minutes of pure\, unfiltered joy. Michael McIntyre is a master of crowd work and observational comedy — he has an uncanny ability to find the funny in situations everyone recognizes but nobody else thinks to talk about. \nThis second show was added due to the first selling out rapidly. If you missed the April 21 show\, this is your chance to experience one of the greatest live comedy acts in the world performing right here in Washington\, DC. \nTicket Information\nPrice Range: $55 – $125 (plus fees) \nPurchase official tickets directly through Ticketmaster\, or find resale tickets through VividSeats. \nOfficial TicketsResale Tickets \nThis post contains affiliate links. We may earn a commission at no extra cost to you.
URL:https://comedycalendar.com/event/michael-mcintyre-hello-america-live-at-dar-constitution-hall-apr/
LOCATION:DAR Constitution Hall\, 1776 D Street NW\, Washington\, DC\, 20006\, United States
CATEGORIES:Stand Up Comedy
ATTACH;FMTTYPE=image/jpeg:https://s1.ticketm.net/dam/a/7f0/3f3fad04-732a-4508-b330-1ba0518cd7f0_EVENT_DETAIL_PAGE_16_9.jpg
GEO:38.8941743;-77.0408523
X-APPLE-STRUCTURED-LOCATION;VALUE=URI;X-ADDRESS=DAR Constitution Hall 1776 D Street NW Washington DC 20006 United States;X-APPLE-RADIUS=500;X-TITLE=1776 D Street NW:geo:-77.0408523,38.8941743
END:VEVENT
BEGIN:VEVENT
DTSTART;TZID=America/New_York:20260424T200000
DTEND;TZID=America/New_York:20260424T223000
DTSTAMP:20260423T030032
CREATED:20260315T140000Z
LAST-MODIFIED:20260315T140000Z
UID:10002978-1777060800-1777069800@comedycalendar.com
SUMMARY:Michael McIntyre: Hello America! LIVE at DAR Constitution Hall (Night 2)
DESCRIPTION:Official TicketsResale Tickets \nAbout the Performer\nMichael McIntyre is a global comedy phenomenon. The beloved British comedian is known for his explosive energy on stage\, his perfectly observed humor about everyday life\, and his extraordinary ability to connect with audiences of all ages and backgrounds. \nDue to overwhelming demand\, a second Washington\, DC date has been added to his landmark “Hello America!” tour — his first-ever full US tour. If you missed the Tuesday show or couldn’t get tickets\, this Friday night performance is your second chance to witness one of the world’s greatest comedians live. \nEvent Details\n\nDate: Friday\, April 24\, 2026\nTime: 8:00 PM (Doors at 7:00 PM)\nVenue: DAR Constitution Hall\, 1776 D Street NW\, Washington\, DC 20006\nAge Restrictions: All ages welcome\n\nAbout the Venue\nDAR Constitution Hall is Washington\, DC’s grandest concert venue\, with a storied history dating back to 1929. Seating approximately 3\,700 guests\, this neoclassical landmark near the White House has hosted presidents\, legends\, and now — Michael McIntyre. \nThe venue is conveniently located near the Farragut West Metro station and offers easy access from all parts of the DC metro area. The hall’s superb acoustics and elegant atmosphere make it the perfect setting for a world-class comedy performance. Nearby parking garages and excellent pre-show dining options are plentiful in the area. \nWhat to Expect\nA Michael McIntyre show is unlike anything else in comedy. His performances are a masterclass in timing\, physicality\, and audience connection. Expect big laughs\, brilliant storytelling\, and the kind of joyful\, feel-good comedy that leaves you smiling for days. \nThis Friday night show is a perfect way to kick off the weekend. Come with friends\, family\, or a date — McIntyre’s humor is universally appealing and guaranteed to delight everyone in the room. \nTicket Information\nPrice Range: From $103 \nTickets are available through Ticketmaster (official) or VividSeats (resale). This added show is selling fast — don’t wait! \nOfficial TicketsResale Tickets \nThis post contains affiliate links. We may earn a commission at no extra cost to you.
URL:https://comedycalendar.com/event/michael-mcintyre-hello-america-live-at-dar-constitution-hall-night-two/
LOCATION:DAR Constitution Hall\, 1776 D Street NW\, Washington\, DC\, 20006\, United States
ATTACH;FMTTYPE=image/jpeg:https://media.ticketmaster.com/en-us/dam/a/7f0/3f3fad04-732a-4508-b330-1ba0518cd7f0_CUSTOM.jpg
GEO:38.8941743;-77.0408523
X-APPLE-STRUCTURED-LOCATION;VALUE=URI;X-ADDRESS=DAR Constitution Hall 1776 D Street NW Washington DC 20006 United States;X-APPLE-RADIUS=500;X-TITLE=1776 D Street NW:geo:-77.0408523,38.8941743
END:VEVENT
END:VCALENDAR