BEGIN:VCALENDAR
VERSION:2.0
PRODID:-//Find Upcoming Comedy Shows Near You | Comedy Calendar - ECPv6.15.20//NONSGML v1.0//EN
CALSCALE:GREGORIAN
METHOD:PUBLISH
X-ORIGINAL-URL:https://comedycalendar.com
X-WR-CALDESC:Events for Find Upcoming Comedy Shows Near You | Comedy Calendar
REFRESH-INTERVAL;VALUE=DURATION:PT1H
X-Robots-Tag:noindex
X-PUBLISHED-TTL:PT1H
BEGIN:VTIMEZONE
TZID:America/Los_Angeles
BEGIN:DAYLIGHT
TZOFFSETFROM:-0800
TZOFFSETTO:-0700
TZNAME:PDT
DTSTART:20250309T100000
END:DAYLIGHT
BEGIN:STANDARD
TZOFFSETFROM:-0700
TZOFFSETTO:-0800
TZNAME:PST
DTSTART:20251102T090000
END:STANDARD
BEGIN:DAYLIGHT
TZOFFSETFROM:-0800
TZOFFSETTO:-0700
TZNAME:PDT
DTSTART:20260308T100000
END:DAYLIGHT
BEGIN:STANDARD
TZOFFSETFROM:-0700
TZOFFSETTO:-0800
TZNAME:PST
DTSTART:20261101T090000
END:STANDARD
BEGIN:DAYLIGHT
TZOFFSETFROM:-0800
TZOFFSETTO:-0700
TZNAME:PDT
DTSTART:20270314T100000
END:DAYLIGHT
BEGIN:STANDARD
TZOFFSETFROM:-0700
TZOFFSETTO:-0800
TZNAME:PST
DTSTART:20271107T090000
END:STANDARD
END:VTIMEZONE
BEGIN:VEVENT
DTSTART;TZID=America/Los_Angeles:20260423T190000
DTEND;TZID=America/Los_Angeles:20260423T210000
DTSTAMP:20260423T160255
CREATED:20260325T230000Z
LAST-MODIFIED:20260325T230000Z
UID:10003912-1776970800-1776978000@comedycalendar.com
SUMMARY:Chad Daniels LIVE at Punch Line Comedy Club - Sacramento
DESCRIPTION:Official TicketsResale Tickets \nThis post contains affiliate links. We may earn a commission at no extra cost to you. \nAbout the Performer\nChad Daniels is a critically acclaimed stand-up comedian known for his intelligent\, self-deprecating humor and masterful storytelling. With multiple Comedy Central specials and a dedicated fanbase built over two decades of touring\, Chad has established himself as one of the most consistent and beloved voices in comedy. \nHis comedy is smart\, honest\, and deeply relatable — drawing from his experiences as a husband\, father\, and observer of the human condition. Chad has a rare ability to craft jokes that are both clever and accessible\, making his shows a hit with a wide range of audiences. \nChad Daniels is bringing his full headline set to the Punch Line Sacramento for a three-night run (April 23–25)\, with multiple shows per night. Don’t miss your chance to see one of comedy’s most respected performers live. \nEvent Details\n\nDate: Thursday\, April 23\, 2026 (also Friday April 24 & Saturday April 25)\nTime: 7:00 PM (early show) | 9:15 PM (late show on Fri & Sat)\nVenue: Punch Line Comedy Club – Sacramento\nAddress: 2100 Arden Way\, Suite 225\, Sacramento\, CA 95825\nAge Restriction: 18+ event\, 2-drink minimum\nContent Warning: Adult language and mature themes\n\nAbout the Venue\nThe Punch Line Comedy Club – Sacramento is the crown jewel of Northern California’s comedy scene. Located at 2100 Arden Way\, the club offers an intimate setting with approximately 300 seats\, ensuring every audience member gets a close-up experience with the performer. \nThe venue features a full bar and food service\, with a 2-drink minimum per guest. Both general admission and preferred premium seating options are available. Parking is plentiful in the adjacent shopping center lot\, making it a stress-free night out. \nPunch Line Sacramento has a long history of hosting comedy’s biggest names\, and Chad Daniels is a perfect fit for this legendary stage. \nWhat to Expect\nChad Daniels delivers a masterclass in stand-up comedy — tight\, well-crafted material delivered with impeccable timing and genuine warmth. His shows are known for being consistently hilarious without relying on shock value\, making them a great choice for comedy fans of all tastes. \nWith a three-night run and multiple shows per night\, there are plenty of opportunities to catch Chad live. The Thursday opener is a great option for those who want to avoid weekend crowds\, while the Friday and Saturday shows offer a more festive atmosphere. \nTicket Information\nPrice Range: $25 – $55 (before fees) \nTickets are available through Ticketmaster (official) and VividSeats (resale). \nOfficial TicketsResale Tickets \nThis post contains affiliate links. We may earn a commission at no extra cost to you.
URL:https://comedycalendar.com/event/chad-daniels-live-at-punch-line-comedy-club-sacramento/
LOCATION:Punch Line Comedy Club – Sacramento\, 2100 Arden Way\, Sacramento\, California\, 95825\, United States Of America
ATTACH;FMTTYPE=image/jpeg:https://media.ticketmaster.com/en-us/dam/a/1d2/3d5711b8-e0e6-478d-a773-699684c991d2_CUSTOM.jpg
GEO:38.5943776;-121.4160953
X-APPLE-STRUCTURED-LOCATION;VALUE=URI;X-ADDRESS=Punch Line Comedy Club – Sacramento 2100 Arden Way Sacramento California 95825 United States Of America;X-APPLE-RADIUS=500;X-TITLE=2100 Arden Way:geo:-121.4160953,38.5943776
END:VEVENT
END:VCALENDAR