BEGIN:VCALENDAR
VERSION:2.0
PRODID:-//Find Upcoming Comedy Shows Near You | Comedy Calendar - ECPv6.15.20//NONSGML v1.0//EN
CALSCALE:GREGORIAN
METHOD:PUBLISH
X-WR-CALNAME:Find Upcoming Comedy Shows Near You | Comedy Calendar
X-ORIGINAL-URL:https://comedycalendar.com
X-WR-CALDESC:Events for Find Upcoming Comedy Shows Near You | Comedy Calendar
REFRESH-INTERVAL;VALUE=DURATION:PT1H
X-Robots-Tag:noindex
X-PUBLISHED-TTL:PT1H
BEGIN:VTIMEZONE
TZID:America/Chicago
BEGIN:DAYLIGHT
TZOFFSETFROM:-0600
TZOFFSETTO:-0500
TZNAME:CDT
DTSTART:20250309T080000
END:DAYLIGHT
BEGIN:STANDARD
TZOFFSETFROM:-0500
TZOFFSETTO:-0600
TZNAME:CST
DTSTART:20251102T070000
END:STANDARD
BEGIN:DAYLIGHT
TZOFFSETFROM:-0600
TZOFFSETTO:-0500
TZNAME:CDT
DTSTART:20260308T080000
END:DAYLIGHT
BEGIN:STANDARD
TZOFFSETFROM:-0500
TZOFFSETTO:-0600
TZNAME:CST
DTSTART:20261101T070000
END:STANDARD
BEGIN:DAYLIGHT
TZOFFSETFROM:-0600
TZOFFSETTO:-0500
TZNAME:CDT
DTSTART:20270314T080000
END:DAYLIGHT
BEGIN:STANDARD
TZOFFSETFROM:-0500
TZOFFSETTO:-0600
TZNAME:CST
DTSTART:20271107T070000
END:STANDARD
END:VTIMEZONE
BEGIN:VEVENT
DTSTART;TZID=America/Chicago:20260718T200000
DTEND;TZID=America/Chicago:20260718T220000
DTSTAMP:20260424T001750
CREATED:20260322T190000Z
LAST-MODIFIED:20260326T193618Z
UID:10004018-1784404800-1784412000@comedycalendar.com
SUMMARY:Rodney Carrington LIVE at MGM Northfield Park - Center Stage
DESCRIPTION:Official TicketsResale Tickets \nAbout the Performer\nRodney Carrington is one of America’s most beloved stand-up comedians\, known for his unique blend of outrageous humor\, heartfelt storytelling\, and musical comedy. \nWith a career spanning over two decades\, Carrington has built a massive fanbase through his relatable\, blue-collar comedy style that tackles everyday life\, family\, and relationships with gut-busting honesty. Best known for his hit TV show Rodney on ABC and his numerous comedy albums and specials\, he has proven himself a true entertainer who blends stand-up with live musical comedy numbers. \nFans can expect an evening packed with Rodney’s signature self-deprecating humor\, hilarious observations about marriage and fatherhood\, and the kind of raw\, authentic comedy that has made him a household name across the country. \nEvent Details\nDate: Saturday\, July 18\, 2026\nShow Time: 8:00 PM\nVenue: MGM Northfield Park – Center Stage\nAddress: 10777 Northfield Road\, Northfield\, OH 44067\nAge Restriction: Must be 21 & over. Valid government-issued ID required at casino entrance.\nContent Warning: Artist content is for mature audiences only. \nAbout the Venue\nMGM Northfield Park – Center Stage is one of Northeast Ohio’s premier entertainment venues\, located within the MGM Northfield Park casino complex in Northfield\, Ohio — just a short drive from Cleveland. \nThe Center Stage is an intimate\, state-of-the-art performance space with excellent sightlines from every seat\, a full-service bar\, and the upscale amenities you’d expect from an MGM property. Ample parking is available on-site at the casino complex\, and guests can enjoy dining and gaming before or after the show. \nThe casino atmosphere adds an extra layer of excitement to the evening — arrive early to enjoy the casino floor\, grab dinner at one of the on-site restaurants\, and then settle in for a fantastic night of comedy. \nWhat to Expect\nRodney Carrington delivers a high-energy\, laugh-out-loud performance that typically runs approximately 90 minutes. His shows are known for being unpredictable\, spontaneous\, and deeply entertaining — blending traditional stand-up with live musical comedy numbers that leave audiences in stitches. \nThis is a solo headlining performance\, so expect the full Rodney Carrington experience from start to finish. Please note this is a 21+ event — valid government-issued ID is required for entry into the casino. \nTicket Information\nPrice Range: $80 – $103 (plus fees)\nTickets are available through Ticketmaster (official) and VividSeats (resale). \nOfficial TicketsResale Tickets \nThis post contains affiliate links. We may earn a commission at no extra cost to you.
URL:https://comedycalendar.com/event/rodney-carrington-live-at-mgm-northfield-park-center-stage-2/
LOCATION:MGM Northfield Park – Center Stage\, 10777 Northfield Road\, Northfield\, OH\, 44067\, USA
CATEGORIES:Headliner,Stand Up Comedy
ATTACH;FMTTYPE=image/jpeg:https://media.ticketmaster.com/en-us/dam/a/2a5/511e89de-d97c-4259-b7b9-d7c9724552a5_RETINA_PORTRAIT_3_2.jpg
GEO:41.348669;-81.5242506
X-APPLE-STRUCTURED-LOCATION;VALUE=URI;X-ADDRESS=MGM Northfield Park – Center Stage 10777 Northfield Road Northfield OH 44067 USA;X-APPLE-RADIUS=500;X-TITLE=10777 Northfield Road:geo:-81.5242506,41.348669
END:VEVENT
END:VCALENDAR