BEGIN:VCALENDAR
VERSION:2.0
PRODID:-//Find Upcoming Comedy Shows Near You | Comedy Calendar - ECPv6.15.20//NONSGML v1.0//EN
CALSCALE:GREGORIAN
METHOD:PUBLISH
X-ORIGINAL-URL:https://comedycalendar.com
X-WR-CALDESC:Events for Find Upcoming Comedy Shows Near You | Comedy Calendar
REFRESH-INTERVAL;VALUE=DURATION:PT1H
X-Robots-Tag:noindex
X-PUBLISHED-TTL:PT1H
BEGIN:VTIMEZONE
TZID:America/Chicago
BEGIN:DAYLIGHT
TZOFFSETFROM:-0600
TZOFFSETTO:-0500
TZNAME:CDT
DTSTART:20250309T080000
END:DAYLIGHT
BEGIN:STANDARD
TZOFFSETFROM:-0500
TZOFFSETTO:-0600
TZNAME:CST
DTSTART:20251102T070000
END:STANDARD
BEGIN:DAYLIGHT
TZOFFSETFROM:-0600
TZOFFSETTO:-0500
TZNAME:CDT
DTSTART:20260308T080000
END:DAYLIGHT
BEGIN:STANDARD
TZOFFSETFROM:-0500
TZOFFSETTO:-0600
TZNAME:CST
DTSTART:20261101T070000
END:STANDARD
BEGIN:DAYLIGHT
TZOFFSETFROM:-0600
TZOFFSETTO:-0500
TZNAME:CDT
DTSTART:20270314T080000
END:DAYLIGHT
BEGIN:STANDARD
TZOFFSETFROM:-0500
TZOFFSETTO:-0600
TZNAME:CST
DTSTART:20271107T070000
END:STANDARD
END:VTIMEZONE
BEGIN:VEVENT
DTSTART;TZID=America/Chicago:20260616T193000
DTEND;TZID=America/Chicago:20260616T213000
DTSTAMP:20260424T015227
CREATED:20260423T230000Z
LAST-MODIFIED:20260423T230000Z
UID:10004743-1781638200-1781645400@comedycalendar.com
SUMMARY:Martin Moreno: Not Taco Tuesday LIVE at Laugh Out Loud Comedy Club
DESCRIPTION:Official TicketsResale Tickets\n\nAbout the Performer\nMartin Moreno is a hilarious stand-up comedian whose comedy career didn’t begin until his early 30s — and by that time\, he had a freakishly funny point of view on life. His two failed marriages gave him an alternative and hysterical definition of “soul mates\,” and his comedy touches on personal life\, insecurities\, and the absurdity of growing up in the 80s. \nMartin was featured on Gabriel Iglesias’ multi-platinum selling DVDs Hot and Fluffy and I’m Not Fat I’m Fluffy\, and was part of the nationwide comedy tour The Fluffy Shop\, which sold over 122\,000 tickets in over 70 cities across North America. He can also be seen as the co-host of Gabriel Iglesias Presents Stand-Up Revolution\, which aired on Comedy Central. \nHis Not Taco Tuesday show has become a beloved recurring event at Laugh Out Loud Comedy Club San Antonio\, drawing packed crowds who come back month after month for his unique brand of comedy. \nEvent Details\n\nDate: Tuesday\, June 16\, 2026\nShow Time: 7:30 PM CDT\nDoors Open: 6:30 PM CDT\nVenue: Laugh Out Loud Comedy Club\nAddress: 618 NW Loop 410\, San Antonio\, TX 78216\nAge Restriction: 18+ Event — Valid photo ID required\nShow: Not Taco Tuesday\n\nAbout the Venue\nLaugh Out Loud Comedy Club is San Antonio’s premier stand-up comedy destination\, conveniently located in Park North Plaza at Loop 410 and Blanco — just inside the loop and only a few miles from the airport. \nThe club features a full bar lounge where guests can grab a drink before the show\, and a comfortable showroom with first-come\, first-served seating. Preferred Tables are located center stage for the best views\, while General Admission tables are positioned on the sides and wings. \nThere is a 2-item food or beverage minimum per person once seated\, and an 18% service charge applies to all checks in the showroom. Early arrival is strongly recommended to secure your preferred seating. \nWhat to Expect\nMartin Moreno’s Not Taco Tuesday is one of the most popular recurring comedy events in San Antonio. His comedy is carefree\, nonchalant\, and laid-back — the kind of humor that makes you feel like you’re hanging out with a hilarious friend who just happens to be a professional comedian. \nExpect personal stories\, sharp observations about relationships and modern life\, and the kind of self-deprecating humor that only someone who has truly lived through it can deliver. Martin’s connection with San Antonio audiences is special — this city loves him\, and he loves it right back. \nGrab your tickets now for one of the most entertaining Tuesday nights in San Antonio! \nTicket Information\n\nGeneral Admission: $20 (+ fees)\nPreferred Seating: $25 (+ fees)\nOrder Limit: 10 tickets per order\n\n\nOfficial TicketsResale Tickets\n\nThis post contains affiliate links. We earn a commission if you purchase tickets through our links at no extra cost to you. \nAll sales are final. Show times subject to change. Valid photo ID may be required for entry.
URL:https://comedycalendar.com/event/martin-moreno-not-taco-tuesday-laugh-out-loud-comedy-club/
LOCATION:Laugh Out Loud Comedy Club\, 618 Northwest Loop 410\, San Antonio\, TX\, 78216\, USA
CATEGORIES:up Comedy
ATTACH;FMTTYPE=image/png:https://comedycalendar.com/wp-content/uploads/2026/04/43_Edp-0ezzkV.png
GEO:29.5193054;-98.5060363
X-APPLE-STRUCTURED-LOCATION;VALUE=URI;X-ADDRESS=Laugh Out Loud Comedy Club 618 Northwest Loop 410 San Antonio TX 78216 USA;X-APPLE-RADIUS=500;X-TITLE=618 Northwest Loop 410:geo:-98.5060363,29.5193054
END:VEVENT
END:VCALENDAR