BEGIN:VCALENDAR
VERSION:2.0
PRODID:-//Find Upcoming Comedy Shows Near You | Comedy Calendar - ECPv6.15.20//NONSGML v1.0//EN
CALSCALE:GREGORIAN
METHOD:PUBLISH
X-WR-CALNAME:Find Upcoming Comedy Shows Near You | Comedy Calendar
X-ORIGINAL-URL:https://comedycalendar.com
X-WR-CALDESC:Events for Find Upcoming Comedy Shows Near You | Comedy Calendar
REFRESH-INTERVAL;VALUE=DURATION:PT1H
X-Robots-Tag:noindex
X-PUBLISHED-TTL:PT1H
BEGIN:VTIMEZONE
TZID:America/Chicago
BEGIN:DAYLIGHT
TZOFFSETFROM:-0600
TZOFFSETTO:-0500
TZNAME:CDT
DTSTART:20250309T080000
END:DAYLIGHT
BEGIN:STANDARD
TZOFFSETFROM:-0500
TZOFFSETTO:-0600
TZNAME:CST
DTSTART:20251102T070000
END:STANDARD
BEGIN:DAYLIGHT
TZOFFSETFROM:-0600
TZOFFSETTO:-0500
TZNAME:CDT
DTSTART:20260308T080000
END:DAYLIGHT
BEGIN:STANDARD
TZOFFSETFROM:-0500
TZOFFSETTO:-0600
TZNAME:CST
DTSTART:20261101T070000
END:STANDARD
BEGIN:DAYLIGHT
TZOFFSETFROM:-0600
TZOFFSETTO:-0500
TZNAME:CDT
DTSTART:20270314T080000
END:DAYLIGHT
BEGIN:STANDARD
TZOFFSETFROM:-0500
TZOFFSETTO:-0600
TZNAME:CST
DTSTART:20271107T070000
END:STANDARD
END:VTIMEZONE
BEGIN:VEVENT
DTSTART;TZID=America/Chicago:20260417T190000
DTEND;TZID=America/Chicago:20260417T220000
DTSTAMP:20260421T045654
CREATED:20260327T010000Z
LAST-MODIFIED:20260327T010000Z
UID:10004129-1776452400-1776463200@comedycalendar.com
SUMMARY:Marlon Wayans LIVE at Fillmore New Orleans
DESCRIPTION:Official TicketsResale Tickets \nAbout the Performer\nMarlon Wayans is a multi-talented comedian\, actor\, writer\, and producer who has been making audiences laugh for decades. Best known as a member of the legendary Wayans family comedy dynasty\, Marlon has starred in blockbuster films like Scary Movie\, White Chicks\, and Requiem for a Dream\, as well as the hit TV series The Wayans Bros. \nOn stage\, Marlon is a force of nature — raw\, energetic\, and fearlessly funny. His stand-up comedy is deeply personal\, drawing from his life experiences\, family dynamics\, relationships\, and the absurdity of everyday situations. He brings the same charisma and physicality to the stage that has made him one of Hollywood’s most beloved entertainers. \nDon’t miss your chance to see Marlon Wayans live in New Orleans for what promises to be an unforgettable night of laughter! \nEvent Details\nDate: Friday\, April 17\, 2026 \nTime: 7:00 PM \nVenue: Fillmore New Orleans\, 6 Canal St\, New Orleans\, LA 70130 \nAge Restrictions: 18+ recommended. Content may include mature themes. \nAbout the Venue\nThe Fillmore New Orleans is one of the city’s most iconic live entertainment venues\, located right on Canal Street in the heart of downtown. Part of the legendary Fillmore brand\, this venue holds approximately 2\,000 guests and offers an intimate yet electric atmosphere perfect for stand-up comedy. \nThe venue features excellent acoustics\, multiple bar areas\, a spacious dance floor\, and a balcony level for those who prefer an elevated view. The Fillmore is known for its vibrant energy and top-tier production quality\, making every show feel like a special event. \nParking is available in nearby downtown garages\, and the venue is easily accessible via rideshare. Arrive early to grab a drink and soak in the atmosphere before the show begins. \nWhat to Expect\nMarlon Wayans delivers a high-energy\, no-holds-barred stand-up performance that will have you laughing from start to finish. His shows are known for being spontaneous\, interactive\, and deeply entertaining — no two nights are exactly alike. \nExpect sharp observations about life\, love\, family\, and pop culture delivered with Marlon’s signature comedic flair. This is a must-see show for fans of bold\, boundary-pushing comedy. Bring your friends and prepare for a night you’ll be talking about for weeks. \nTicket Information\nPrice Range: $35 – $150+ (prices vary by section and availability) \nPurchase your official tickets directly through Ticketmaster\, or find resale tickets through VividSeats for flexible options and competitive pricing. \nOfficial TicketsResale Tickets \nThis post contains affiliate links. We may earn a commission at no extra cost to you.
URL:https://comedycalendar.com/event/marlon-wayans-live-at-fillmore-new-orleans/
LOCATION:Fillmore New Orleans\, 6 Canal St\, New Orleans\, LA\, 70130\, United States Of America
ATTACH;FMTTYPE=image/jpeg:https://media.ticketmaster.com/en-us/dam/a/649/fc0c18a2-de9c-4378-9212-c7fa46e7e649_CUSTOM.jpg
GEO:29.9500789;-90.0655441
X-APPLE-STRUCTURED-LOCATION;VALUE=URI;X-ADDRESS=Fillmore New Orleans 6 Canal St New Orleans LA 70130 United States Of America;X-APPLE-RADIUS=500;X-TITLE=6 Canal St:geo:-90.0655441,29.9500789
END:VEVENT
END:VCALENDAR