BEGIN:VCALENDAR
VERSION:2.0
PRODID:-//Find Upcoming Comedy Shows Near You | Comedy Calendar - ECPv6.15.20//NONSGML v1.0//EN
CALSCALE:GREGORIAN
METHOD:PUBLISH
X-WR-CALNAME:Find Upcoming Comedy Shows Near You | Comedy Calendar
X-ORIGINAL-URL:https://comedycalendar.com
X-WR-CALDESC:Events for Find Upcoming Comedy Shows Near You | Comedy Calendar
REFRESH-INTERVAL;VALUE=DURATION:PT1H
X-Robots-Tag:noindex
X-PUBLISHED-TTL:PT1H
BEGIN:VTIMEZONE
TZID:America/Chicago
BEGIN:DAYLIGHT
TZOFFSETFROM:-0600
TZOFFSETTO:-0500
TZNAME:CDT
DTSTART:20250309T080000
END:DAYLIGHT
BEGIN:STANDARD
TZOFFSETFROM:-0500
TZOFFSETTO:-0600
TZNAME:CST
DTSTART:20251102T070000
END:STANDARD
BEGIN:DAYLIGHT
TZOFFSETFROM:-0600
TZOFFSETTO:-0500
TZNAME:CDT
DTSTART:20260308T080000
END:DAYLIGHT
BEGIN:STANDARD
TZOFFSETFROM:-0500
TZOFFSETTO:-0600
TZNAME:CST
DTSTART:20261101T070000
END:STANDARD
BEGIN:DAYLIGHT
TZOFFSETFROM:-0600
TZOFFSETTO:-0500
TZNAME:CDT
DTSTART:20270314T080000
END:DAYLIGHT
BEGIN:STANDARD
TZOFFSETFROM:-0500
TZOFFSETTO:-0600
TZNAME:CST
DTSTART:20271107T070000
END:STANDARD
END:VTIMEZONE
BEGIN:VEVENT
DTSTART;TZID=America/Chicago:20260918T193000
DTEND;TZID=America/Chicago:20260918T213000
DTSTAMP:20260424T024035
CREATED:20260318T220000Z
LAST-MODIFIED:20260318T234707Z
UID:10003334-1789759800-1789767000@comedycalendar.com
SUMMARY:Maddy Smith: Bad Genes Tour LIVE at Houston Improv
DESCRIPTION:Official TicketsResale Tickets \nAbout Maddy Smith\nMaddy Smith is a rising stand-up comedian making a major splash on the national comedy circuit with her sharp\, self-aware humor and fearless stage presence. Known for her relatable takes on family dysfunction\, personal quirks\, and the absurdity of everyday life\, Maddy has built a passionate fanbase through her online content and live performances at top comedy clubs across the country. \nHer Bad Genes Tour is her biggest headline run to date — a hilarious\, deeply personal hour of stand-up that digs into the comedy gold of inherited traits\, family chaos\, and the things we can’t escape no matter how hard we try. Catch her live in Houston before the rooms get much bigger. \nEvent Details\nDate: Friday\, September 18\, 2026\nShow Time: 7:30 PM (Late show at 9:45 PM also available)\nVenue: Houston Improv\nAddress: 7620 Katy Freeway #455\, Houston\, TX 77024\nAge Restriction: 18+\nTicket Price: From $35 \nAbout Houston Improv\nHouston Improv is one of Houston’s most beloved comedy clubs\, located at 7620 Katy Freeway inside City Centre. Part of the legendary Improv Comedy Club chain\, it has hosted some of the biggest names in stand-up comedy for decades. The club features a full-service bar\, dinner menu\, and an intimate stage setup that puts every seat close to the action. \nThe venue has a lively\, welcoming atmosphere with table seating\, great sightlines\, and a two-drink minimum. Parking is available in the City Centre complex. \nWhat to Expect\nMaddy Smith’s Bad Genes Tour is a fast-paced\, laugh-packed set that blends sharp observational comedy with deeply personal storytelling. Expect a comedian who is fully in command of the room\, delivering punchlines with precision and connecting with the audience in a way that feels both intimate and electric. \nMaddy performs a full weekend run at Houston Improv — Friday Sep 18 at 7:30 PM and 9:45 PM\, and Saturday Sep 19 at 7:00 PM and 9:30 PM. This is an 18+ event. \nTicket Information\nPrice: From $35\nTickets available via Ticketmaster/TicketWeb (official) or VividSeats (resale). \nOfficial TicketsResale Tickets \nThis post contains affiliate links. We may earn a commission at no extra cost to you.
URL:https://comedycalendar.com/event/maddy-smith-bad-genes-tour-live-at-houston-improv/
LOCATION:Houston Improv\, 7620 Katy Freeway\, Houston\, TX\, 77024\, United States
CATEGORIES:Stand Up Comedy
ATTACH;FMTTYPE=image/jpeg:https://i.ticketweb.com/i/00/13/27/97/83_Edp.jpg?v=11
GEO:29.785526;-95.4640201
X-APPLE-STRUCTURED-LOCATION;VALUE=URI;X-ADDRESS=Houston Improv 7620 Katy Freeway Houston TX 77024 United States;X-APPLE-RADIUS=500;X-TITLE=7620 Katy Freeway:geo:-95.4640201,29.785526
END:VEVENT
END:VCALENDAR