BEGIN:VCALENDAR
VERSION:2.0
PRODID:-//Find Upcoming Comedy Shows Near You | Comedy Calendar - ECPv6.15.20//NONSGML v1.0//EN
CALSCALE:GREGORIAN
METHOD:PUBLISH
X-ORIGINAL-URL:https://comedycalendar.com
X-WR-CALDESC:Events for Find Upcoming Comedy Shows Near You | Comedy Calendar
REFRESH-INTERVAL;VALUE=DURATION:PT1H
X-Robots-Tag:noindex
X-PUBLISHED-TTL:PT1H
BEGIN:VTIMEZONE
TZID:America/Los_Angeles
BEGIN:DAYLIGHT
TZOFFSETFROM:-0800
TZOFFSETTO:-0700
TZNAME:PDT
DTSTART:20250309T100000
END:DAYLIGHT
BEGIN:STANDARD
TZOFFSETFROM:-0700
TZOFFSETTO:-0800
TZNAME:PST
DTSTART:20251102T090000
END:STANDARD
BEGIN:DAYLIGHT
TZOFFSETFROM:-0800
TZOFFSETTO:-0700
TZNAME:PDT
DTSTART:20260308T100000
END:DAYLIGHT
BEGIN:STANDARD
TZOFFSETFROM:-0700
TZOFFSETTO:-0800
TZNAME:PST
DTSTART:20261101T090000
END:STANDARD
BEGIN:DAYLIGHT
TZOFFSETFROM:-0800
TZOFFSETTO:-0700
TZNAME:PDT
DTSTART:20270314T100000
END:DAYLIGHT
BEGIN:STANDARD
TZOFFSETFROM:-0700
TZOFFSETTO:-0800
TZNAME:PST
DTSTART:20271107T090000
END:STANDARD
END:VTIMEZONE
BEGIN:VTIMEZONE
TZID:America/New_York
BEGIN:DAYLIGHT
TZOFFSETFROM:-0500
TZOFFSETTO:-0400
TZNAME:EDT
DTSTART:20250309T070000
END:DAYLIGHT
BEGIN:STANDARD
TZOFFSETFROM:-0400
TZOFFSETTO:-0500
TZNAME:EST
DTSTART:20251102T060000
END:STANDARD
BEGIN:DAYLIGHT
TZOFFSETFROM:-0500
TZOFFSETTO:-0400
TZNAME:EDT
DTSTART:20260308T070000
END:DAYLIGHT
BEGIN:STANDARD
TZOFFSETFROM:-0400
TZOFFSETTO:-0500
TZNAME:EST
DTSTART:20261101T060000
END:STANDARD
BEGIN:DAYLIGHT
TZOFFSETFROM:-0500
TZOFFSETTO:-0400
TZNAME:EDT
DTSTART:20270314T070000
END:DAYLIGHT
BEGIN:STANDARD
TZOFFSETFROM:-0400
TZOFFSETTO:-0500
TZNAME:EST
DTSTART:20271107T060000
END:STANDARD
END:VTIMEZONE
BEGIN:VEVENT
DTSTART;TZID=America/Los_Angeles:20260430T190000
DTEND;TZID=America/Los_Angeles:20260430T210000
DTSTAMP:20260422T213552
CREATED:20260320T040000Z
LAST-MODIFIED:20260320T040000Z
UID:10003439-1777575600-1777582800@comedycalendar.com
SUMMARY:Liz Miele LIVE at The Crocodile
DESCRIPTION:This post contains affiliate links. We earn a commission if you purchase tickets through our links at no extra cost to you. \nOfficial Tickets\nResale Tickets \nLiz Miele LIVE at The Crocodile\nLiz Miele\, one of comedy’s most fearless and fiercely funny voices\, brings her acclaimed stand-up to The Crocodile in Seattle for one unforgettable night on April 30\, 2026. Known for her razor-sharp wit and brutally honest storytelling\, Miele delivers a show that’s equal parts hilarious and deeply relatable. \nEvent Details\nDate: Thursday\, April 30\, 2026\nTime: 7:00 PM (Doors open 6:00 PM)\nVenue: The Crocodile\nAddress: 2505 1st Ave\, Seattle\, WA 98121\nAge Requirement: 21+ (valid photo ID required)\nTicket Limit: 8 tickets per person \nAbout Liz Miele\nLiz Miele is a New York-based stand-up comedian\, writer\, and podcaster who has been performing since she was 16 years old. She has released multiple comedy albums and specials\, including Emotionally Exhausting and Grown Up\, and has appeared on Comedy Central\, AXS TV\, and numerous podcasts. Her comedy tackles anxiety\, relationships\, and the absurdity of everyday life with a refreshing candor that has earned her a devoted following. \nWhat to Expect\n\nSharp\, confessional stand-up comedy from one of the genre’s most authentic voices\nHilarious takes on anxiety\, adulthood\, and modern relationships\nAn intimate venue experience at one of Seattle’s most beloved music and comedy clubs\nOpening acts Zahnae Aquino and Phil Burton warming up the crowd\nA 21+ evening with full bar service available\nLimited seating — first come\, first served\n\nVenue Information\nThe Crocodile is one of Seattle’s most iconic live entertainment venues\, located at 2505 1st Ave in the Belltown neighborhood. With a capacity of around 500\, it offers an intimate atmosphere perfect for comedy and live music. Full bar service is available for guests 21 and over. \nTicket Information\nTickets range from $47.86 – $60.35. This is a 21+ event — valid photo ID required at the door. All sales are final; no refunds or exchanges. Tickets are limited\, so secure yours early. \nOfficial Tickets\nResale Tickets \nThis post contains affiliate links. We earn a commission if you purchase tickets through our links at no extra cost to you.\nAll sales are final. Show times subject to change. Valid photo ID may be required for entry.
URL:https://comedycalendar.com/event/liz-miele-live-at-the-crocodile/
LOCATION:The Crocodile\, 2505 1st Ave\, Seattle\, Washington\, 98121\, United States
ATTACH;FMTTYPE=image/jpeg:https://s1.ticketm.net/dam/a/bfc/0b32ee06-afbc-4926-bdc0-5430e7cb2bfc_RETINA_LANDSCAPE_16_9.jpg
GEO:47.6145774;-122.3492402
X-APPLE-STRUCTURED-LOCATION;VALUE=URI;X-ADDRESS=The Crocodile 2505 1st Ave Seattle Washington 98121 United States;X-APPLE-RADIUS=500;X-TITLE=2505 1st Ave:geo:-122.3492402,47.6145774
END:VEVENT
BEGIN:VEVENT
DTSTART;TZID=America/New_York:20260626T190000
DTEND;TZID=America/New_York:20260626T210000
DTSTAMP:20260422T213552
CREATED:20260321T050000Z
LAST-MODIFIED:20260321T050000Z
UID:10003544-1782500400-1782507600@comedycalendar.com
SUMMARY:Liz Miele LIVE at Punch Line Philly
DESCRIPTION:Official TicketsResale Tickets \nAbout the Performer\nLiz Miele is a New York-based stand-up comedian known for her razor-sharp wit\, fearless honesty\, and deeply personal storytelling. She has been performing stand-up comedy for over two decades\, building a devoted following through her relatable observations on anxiety\, relationships\, family\, and the absurdities of everyday life. \nMiele has released multiple stand-up specials\, including Emotionally Exhausting and Grown Up\, both of which showcase her ability to turn vulnerability into comedy gold. Her style blends self-deprecating humor with incisive social commentary\, making her a standout voice in the modern comedy landscape. \nFans can expect a high-energy\, intimate performance filled with clever wordplay\, honest confessions\, and laugh-out-loud moments that feel both personal and universally relatable. \nEvent Details\n\nDate: Friday\, June 26\, 2026\nTime: 7:00 PM\nVenue: Punch Line Philly\, 33 E. Laurel Street\, Philadelphia\, PA 19123\nAge Requirement: 21+ (valid photo ID required)\nDrink Minimum: 2 drinks per person\n\nAbout the Venue\nPunch Line Philly is Philadelphia’s premier stand-up comedy club\, located in the heart of the Northern Liberties neighborhood at 33 E. Laurel Street. The intimate venue seats approximately 300 guests and offers an up-close\, personal comedy experience unlike any large arena show. \nThe club features a full bar and food menu\, with a two-drink minimum per person. Reserved parking is available in nearby lots at 49 Richmond Street and 1025 N. Front Street. The box office opens one hour before doors on show nights\, and the venue accepts Visa\, Mastercard\, American Express\, Discover\, Cash\, Google Pay\, and Apple Pay. \nPunch Line Philly is known for its warm\, energetic atmosphere and consistently books top national touring comedians alongside rising stars. It’s the kind of room where every seat feels like a front-row seat. \nWhat to Expect\nThis is a solo stand-up comedy performance by Liz Miele. Expect approximately 60–75 minutes of original material covering her signature topics: anxiety\, relationships\, growing up\, and the chaos of modern life — all delivered with her trademark wit and warmth. \nThe show is best suited for adult audiences who appreciate smart\, honest comedy. Arrive early to grab a drink\, settle in\, and enjoy the full experience. Liz Miele’s shows are known for selling out quickly\, so securing your tickets in advance is strongly recommended. \nTicket Information\nPrice Range: $20 – $35 (plus fees) \nPurchase official tickets directly through Ticketmaster\, or find resale tickets through VividSeats if the show sells out. \nOfficial TicketsResale Tickets \nThis post contains affiliate links. We may earn a commission at no extra cost to you.
URL:https://comedycalendar.com/event/liz-miele-live-at-punch-line-philly/
LOCATION:Punch Line Philly\, 33 E. Laurel Street\, Philadelphia\, PA\, 19123\, United States
ATTACH;FMTTYPE=image/jpeg:https://media.ticketmaster.com/en-us/dam/a/bfc/0b32ee06-afbc-4926-bdc0-5430e7cb2bfc_CUSTOM.jpg
GEO:39.9652742;-75.1351879
X-APPLE-STRUCTURED-LOCATION;VALUE=URI;X-ADDRESS=Punch Line Philly 33 E. Laurel Street Philadelphia PA 19123 United States;X-APPLE-RADIUS=500;X-TITLE=33 E. Laurel Street:geo:-75.1351879,39.9652742
END:VEVENT
BEGIN:VEVENT
DTSTART;TZID=America/New_York:20260627T190000
DTEND;TZID=America/New_York:20260627T210000
DTSTAMP:20260422T213552
CREATED:20260321T050000Z
LAST-MODIFIED:20260321T050000Z
UID:10003545-1782586800-1782594000@comedycalendar.com
SUMMARY:Liz Miele LIVE at Punch Line Philly (Saturday Show)
DESCRIPTION:Official TicketsResale Tickets \nAbout the Performer\nLiz Miele is a New York-based stand-up comedian celebrated for her fearless honesty\, sharp wit\, and deeply personal storytelling. With over two decades of stand-up experience\, she has built a loyal fanbase through her relatable takes on anxiety\, relationships\, family dynamics\, and the everyday absurdities of modern life. \nHer stand-up specials\, including Emotionally Exhausting and Grown Up\, have earned her widespread acclaim for turning vulnerability into comedy gold. Miele’s style is a seamless blend of self-deprecating humor and incisive social commentary — smart\, honest\, and laugh-out-loud funny. \nWhether you’re a longtime fan or discovering her for the first time\, this Saturday night show promises an unforgettable evening of stand-up comedy. \nEvent Details\n\nDate: Saturday\, June 27\, 2026\nTime: 7:00 PM\nVenue: Punch Line Philly\, 33 E. Laurel Street\, Philadelphia\, PA 19123\nAge Requirement: 21+ (valid photo ID required)\nDrink Minimum: 2 drinks per person\n\nAbout the Venue\nPunch Line Philly is Philadelphia’s top stand-up comedy destination\, nestled in the vibrant Northern Liberties neighborhood at 33 E. Laurel Street. The intimate club seats around 300 guests\, creating a close-up\, personal comedy experience that larger venues simply can’t match. \nThe venue offers a full bar and food menu\, with a two-drink minimum per person. Parking is available at nearby lots on Richmond Street and N. Front Street. The box office opens one hour before doors\, and the club accepts all major credit cards\, cash\, Google Pay\, and Apple Pay. \nPunch Line Philly consistently delivers top-tier comedy nights in a warm\, welcoming atmosphere. Every seat in the house feels like a great seat — making it one of the best comedy club experiences in the Philadelphia area. \nWhat to Expect\nThis is a solo stand-up performance by Liz Miele on a Saturday night — one of the most coveted comedy club slots of the week. Expect 60–75 minutes of original\, polished material covering her signature themes: anxiety\, relationships\, growing up\, and the beautiful chaos of everyday life. \nThe show is ideal for adult audiences who love smart\, honest comedy. Saturday shows at Punch Line Philly tend to sell out fast\, so booking your tickets early is highly recommended. Arrive early to get settled\, order a drink\, and enjoy the full experience. \nTicket Information\nPrice Range: $20 – $35 (plus fees) \nPurchase official tickets through Ticketmaster\, or find resale tickets via VividSeats if the show is sold out. \nOfficial TicketsResale Tickets \nThis post contains affiliate links. We may earn a commission at no extra cost to you.
URL:https://comedycalendar.com/event/liz-miele-live-at-punch-line-philly-saturday/
LOCATION:Punch Line Philly\, 33 E. Laurel Street\, Philadelphia\, PA\, 19123\, United States
ATTACH;FMTTYPE=image/jpeg:https://media.ticketmaster.com/en-us/dam/a/bfc/0b32ee06-afbc-4926-bdc0-5430e7cb2bfc_CUSTOM.jpg
GEO:39.9652742;-75.1351879
X-APPLE-STRUCTURED-LOCATION;VALUE=URI;X-ADDRESS=Punch Line Philly 33 E. Laurel Street Philadelphia PA 19123 United States;X-APPLE-RADIUS=500;X-TITLE=33 E. Laurel Street:geo:-75.1351879,39.9652742
END:VEVENT
BEGIN:VEVENT
DTSTART;TZID=America/Los_Angeles:20260708T200000
DTEND;TZID=America/Los_Angeles:20260708T220000
DTSTAMP:20260422T213552
CREATED:20260323T220000Z
LAST-MODIFIED:20260323T220000Z
UID:10003889-1783540800-1783548000@comedycalendar.com
SUMMARY:Liz Miele LIVE at Punch Line Comedy Club
DESCRIPTION:This post contains affiliate links. We earn a commission if you purchase tickets through our links at no extra cost to you. \nOfficial Tickets\nResale Tickets \nLiz Miele LIVE at Punch Line Comedy Club\nGet ready for a night of sharp\, witty\, and deeply relatable comedy as Liz Miele takes the stage at the legendary Punch Line Comedy Club in San Francisco. Known for her fearless storytelling and razor-sharp observations\, Liz delivers a stand-up experience that will have you laughing from start to finish. \nEvent Details\nDate: Wednesday\, July 8\, 2026\nTime: 8:00 PM (Doors open at 7:00 PM)\nVenue: Punch Line Comedy Club – San Francisco\nAddress: 444 Battery Street\, San Francisco\, CA 94111\nAge Requirement: 18+ with valid government-issued photo ID\nBeverage Minimum: 2-item minimum per person \nAbout Liz Miele\nLiz Miele is a New York-based stand-up comedian known for her honest\, self-deprecating humor and energetic stage presence. She has appeared on Comedy Central\, AXS TV\, and released multiple acclaimed comedy specials. Her material covers everything from anxiety and relationships to the absurdities of everyday life\, earning her a devoted fanbase across the country. \nWhat to Expect\n\nHigh-energy stand-up comedy from one of the sharpest voices in the game\nHilarious takes on modern life\, relationships\, and personal quirks\nAn intimate club setting perfect for a great night out\nFull bar and food service available throughout the show\nGeneral admission seating — arrive early for the best spots\nA memorable evening of laughs in one of SF’s most iconic comedy venues\n\nVenue Information\nPunch Line Comedy Club – San Francisco is one of the most storied comedy clubs in the country\, located in the heart of the Financial District at 444 Battery Street. The intimate setting ensures every seat is a great seat\, with a full bar and food service to enhance your experience. \nTicket Information\nTickets start at approximately $42 and go up to $132 depending on availability. Tickets are available through Ticketmaster (official) or VividSeats (resale). All sales are final — no refunds or exchanges unless the event is cancelled. \nOfficial Tickets\nResale Tickets \nThis post contains affiliate links. We earn a commission if you purchase tickets through our links at no extra cost to you. \nAll sales are final. Show times subject to change. Valid photo ID may be required for entry.
URL:https://comedycalendar.com/event/liz-miele-live-at-punch-line-comedy-club/
LOCATION:Punch Line Comedy Club – San Francisco\, 444 Battery Street\, San Francisco\, California\, 94111\, United States Of America
ATTACH;FMTTYPE=image/jpeg:https://s1.ticketm.net/dam/a/bfc/0b32ee06-afbc-4926-bdc0-5430e7cb2bfc_TABLET_LANDSCAPE_LARGE_16_9.jpg
GEO:37.795486;-122.4001359
X-APPLE-STRUCTURED-LOCATION;VALUE=URI;X-ADDRESS=Punch Line Comedy Club – San Francisco 444 Battery Street San Francisco California 94111 United States Of America;X-APPLE-RADIUS=500;X-TITLE=444 Battery Street:geo:-122.4001359,37.795486
END:VEVENT
BEGIN:VEVENT
DTSTART;TZID=America/Los_Angeles:20260710T193000
DTEND;TZID=America/Los_Angeles:20260710T213000
DTSTAMP:20260422T213552
CREATED:20260323T230000Z
LAST-MODIFIED:20260323T230000Z
UID:10003898-1783711800-1783719000@comedycalendar.com
SUMMARY:Liz Miele LIVE at Punch Line Comedy Club San Francisco
DESCRIPTION:Official TicketsResale Tickets \nAbout the Performer\nLiz Miele is a New York-based stand-up comedian\, writer\, and podcaster known for her sharp wit\, self-deprecating humor\, and fearlessly honest storytelling. \nWith multiple comedy specials under her belt and years of touring experience\, Miele has built a devoted following for her relatable\, intelligent\, and laugh-out-loud funny material. Her comedy covers everything from relationships and anxiety to pop culture and everyday absurdities. \nShe is also the host of the popular podcast Hysterical\, where she explores comedy and mental health. Liz Miele is a rising force in stand-up and this San Francisco run is not to be missed. \nEvent Details\n\nDate: Friday\, July 10\, 2026\nShow Time: 7:30 PM (Doors open approximately 1 hour prior)\nVenue: Punch Line Comedy Club — 444 Battery Street\, San Francisco\, CA 94111\nAge Requirement: 18+ with valid photo ID\nBeverage Minimum: 2 drinks per person required\n\nAbout the Venue\nThe Punch Line Comedy Club in San Francisco is one of the most iconic comedy clubs on the West Coast\, located at 444 Battery Street in the Financial District. \nFounded in 1978\, the Punch Line has launched the careers of countless comedy legends and continues to be a premier destination for stand-up comedy in the Bay Area. The intimate room seats approximately 300 guests and offers an up-close\, personal experience with the performers. \nThe venue features a full bar\, table seating\, and a two-drink minimum per person. Parking is available in nearby lots and on the street. The Punch Line is easily accessible by BART and Muni\, making it a convenient night out in the heart of San Francisco. \nWhat to Expect\nExpect an evening of sharp\, witty\, and deeply relatable stand-up comedy from one of the most talented voices in the game today. \nLiz Miele’s live shows are known for their warmth\, intelligence\, and genuine connection with the audience. She brings a conversational style that makes every show feel personal and spontaneous. \nThe show runs approximately 75 minutes. Arrive early to grab a drink and get a great seat in this intimate venue. Multiple shows are available throughout the weekend\, so check the schedule for the time that works best for you. \nTicket Information\nTickets are priced from approximately $25 – $48 (before fees). \nSecure your seats now before they sell out: \nOfficial TicketsResale Tickets \nThis post contains affiliate links. We may earn a commission at no extra cost to you.
URL:https://comedycalendar.com/event/liz-miele-live-at-punch-line-comedy-club-san-francisco/
LOCATION:Punch Line Comedy Club – San Francisco\, 444 Battery Street\, San Francisco\, California\, 94111\, United States Of America
ATTACH;FMTTYPE=image/jpeg:https://media.ticketmaster.com/en-us/dam/a/bfc/0b32ee06-afbc-4926-bdc0-5430e7cb2bfc_CUSTOM.jpg
GEO:37.795486;-122.4001359
X-APPLE-STRUCTURED-LOCATION;VALUE=URI;X-ADDRESS=Punch Line Comedy Club – San Francisco 444 Battery Street San Francisco California 94111 United States Of America;X-APPLE-RADIUS=500;X-TITLE=444 Battery Street:geo:-122.4001359,37.795486
END:VEVENT
END:VCALENDAR