BEGIN:VCALENDAR
VERSION:2.0
PRODID:-//Find Upcoming Comedy Shows Near You | Comedy Calendar - ECPv6.15.20//NONSGML v1.0//EN
CALSCALE:GREGORIAN
METHOD:PUBLISH
X-WR-CALNAME:Find Upcoming Comedy Shows Near You | Comedy Calendar
X-ORIGINAL-URL:https://comedycalendar.com
X-WR-CALDESC:Events for Find Upcoming Comedy Shows Near You | Comedy Calendar
REFRESH-INTERVAL;VALUE=DURATION:PT1H
X-Robots-Tag:noindex
X-PUBLISHED-TTL:PT1H
BEGIN:VTIMEZONE
TZID:America/New_York
BEGIN:DAYLIGHT
TZOFFSETFROM:-0500
TZOFFSETTO:-0400
TZNAME:EDT
DTSTART:20250309T070000
END:DAYLIGHT
BEGIN:STANDARD
TZOFFSETFROM:-0400
TZOFFSETTO:-0500
TZNAME:EST
DTSTART:20251102T060000
END:STANDARD
BEGIN:DAYLIGHT
TZOFFSETFROM:-0500
TZOFFSETTO:-0400
TZNAME:EDT
DTSTART:20260308T070000
END:DAYLIGHT
BEGIN:STANDARD
TZOFFSETFROM:-0400
TZOFFSETTO:-0500
TZNAME:EST
DTSTART:20261101T060000
END:STANDARD
BEGIN:DAYLIGHT
TZOFFSETFROM:-0500
TZOFFSETTO:-0400
TZNAME:EDT
DTSTART:20270314T070000
END:DAYLIGHT
BEGIN:STANDARD
TZOFFSETFROM:-0400
TZOFFSETTO:-0500
TZNAME:EST
DTSTART:20271107T060000
END:STANDARD
END:VTIMEZONE
BEGIN:VEVENT
DTSTART;TZID=America/New_York:20260625T193000
DTEND;TZID=America/New_York:20260625T213000
DTSTAMP:20260422T220325
CREATED:20260319T181351Z
LAST-MODIFIED:20260319T181351Z
UID:10003372-1782415800-1782423000@comedycalendar.com
SUMMARY:Craig Robinson LIVE at Houston Improv
DESCRIPTION:This post contains affiliate links. We earn a commission if you purchase tickets through our links at no extra cost to you. \nOfficial Tickets\nResale Tickets \nCraig Robinson LIVE at Houston Improv\nComedy and music legend Craig Robinson is coming to Houston Improv on June 25\, 2026 for a night of hilarious stand-up comedy. Best known for his iconic role as Darryl Philbin on NBC’s The Office\, Craig Robinson brings his signature blend of comedy\, music\, and storytelling to the stage for an unforgettable evening in Houston. \nEvent Details\nDate: Thursday\, June 25\, 2026\nTime: 7:30 PM CDT\nVenue: Houston Improv\nAddress: 7620 Katy Freeway\, Ste. 455\, Houston\, TX 77024\nAge Requirement: 18+ with valid government-issued photo ID\nParking: Available at the venue \nAbout Craig Robinson\nCraig Robinson is a comedian\, actor\, and musician best known for his beloved role as Darryl Philbin on NBC’s The Office. With a career spanning stand-up comedy\, film\, and television\, Robinson is celebrated for his warm\, hilarious stage presence and his unique ability to blend comedy with live musical performance. He has appeared in Hot Tub Time Machine\, Pineapple Express\, Brooklyn Nine-Nine\, and many more. \nWhat to Expect\n\nHilarious stand-up from Craig Robinson of The Office\nA unique blend of comedy and live musical performance\nStories from his legendary Hollywood career\nA lively\, 18+ atmosphere at Houston Improv\nFull bar service and two-drink minimum\nAn incredible Thursday night out in Houston\n\nVenue Information\nHouston Improv is one of Houston’s premier comedy clubs\, located at 7620 Katy Freeway in the Memorial City area. The venue offers an intimate setting with full bar service\, making it the perfect spot for a night of live comedy. \nTicket Information\nTickets start from $111. This is an 18+ event — valid government-issued photo ID required. Two-drink minimum per person. No refunds or exchanges unless the event is cancelled or postponed. \nOfficial Tickets\nResale Tickets \nThis post contains affiliate links. We earn a commission if you purchase tickets through our links at no extra cost to you. \nAll sales are final. Show times subject to change. Valid photo ID may be required for entry.
URL:https://comedycalendar.com/event/craig-robinson-live-at-houston-improv/
LOCATION:Houston Improv\, 7620 Katy Freeway\, Houston\, TX\, 77024\, United States
CATEGORIES:Improv
ATTACH;FMTTYPE=image/jpeg:https://s1.ticketm.net/dam/a/d06/4ef6fd28-88f8-4851-82d2-ef1156a35d06_1766101_TABLET_LANDSCAPE_LARGE_16_9.jpg
GEO:29.785526;-95.4640201
X-APPLE-STRUCTURED-LOCATION;VALUE=URI;X-ADDRESS=Houston Improv 7620 Katy Freeway Houston TX 77024 United States;X-APPLE-RADIUS=500;X-TITLE=7620 Katy Freeway:geo:-95.4640201,29.785526
END:VEVENT
END:VCALENDAR