BEGIN:VCALENDAR
VERSION:2.0
PRODID:-//Find Upcoming Comedy Shows Near You | Comedy Calendar - ECPv6.15.20//NONSGML v1.0//EN
CALSCALE:GREGORIAN
METHOD:PUBLISH
X-WR-CALNAME:Find Upcoming Comedy Shows Near You | Comedy Calendar
X-ORIGINAL-URL:https://comedycalendar.com
X-WR-CALDESC:Events for Find Upcoming Comedy Shows Near You | Comedy Calendar
REFRESH-INTERVAL;VALUE=DURATION:PT1H
X-Robots-Tag:noindex
X-PUBLISHED-TTL:PT1H
BEGIN:VTIMEZONE
TZID:America/Phoenix
BEGIN:STANDARD
TZOFFSETFROM:-0700
TZOFFSETTO:-0700
TZNAME:MST
DTSTART:20250101T000000
END:STANDARD
END:VTIMEZONE
BEGIN:VEVENT
DTSTART;TZID=America/Phoenix:20260625T200000
DTEND;TZID=America/Phoenix:20260625T220000
DTSTAMP:20260420T222502
CREATED:20260319T200000Z
LAST-MODIFIED:20260319T200000Z
UID:10003390-1782417600-1782424800@comedycalendar.com
SUMMARY:Gabriel Iglesias LIVE at Gila River Resorts and Casinos Wild Horse Pass June 25
DESCRIPTION:Official TicketsResale Tickets \nAbout the Performer\nGabriel “Fluffy” Iglesias is one of the most beloved stand-up comedians in the world\, known for his high-energy performances\, hilarious storytelling\, and his signature catchphrase: “I’m not fat\, I’m fluffy!” \nWith a career spanning over two decades\, Fluffy has built a massive global fanbase through his Netflix specials\, sold-out arena tours\, and his warm\, relatable humor that touches on family\, culture\, food\, and everyday life. \nHis comedy style blends impressions\, sound effects\, and personal anecdotes that keep audiences laughing from start to finish. Whether you are a longtime fan or seeing him for the first time\, a Fluffy show is an unforgettable experience. \nEvent Details\nDate: Thursday\, June 25\, 2026 \nTime: 8:00 PM (Doors open earlier) \nVenue: Gila River Resorts and Casinos – Wild Horse Pass (The Showroom)\, 5040 Wild Horse Pass Blvd\, Chandler\, AZ 85226 \nAge Restriction: Must be 18+ to attend. No refunds. \nTicket Prices: Starting from approximately $150 \nAbout the Venue\nGila River Resorts and Casinos – Wild Horse Pass is a premier entertainment destination located in Chandler\, Arizona\, just south of Phoenix. The Showroom at Wild Horse Pass is an intimate yet impressive venue that hosts world-class comedy\, concerts\, and live entertainment. \nThe venue offers excellent sightlines from virtually every seat\, a full-service bar\, and a lively casino atmosphere before and after the show. With ample free parking on-site and easy access from the I-10 freeway\, it is a convenient and exciting night out for the entire Phoenix metro area. \nThe resort also features multiple dining options\, a spa\, and a full casino floor\, making it easy to turn your comedy night into a full evening of entertainment. \nWhat to Expect\nExpect a high-energy\, laugh-out-loud evening with Gabriel Iglesias delivering his signature blend of storytelling\, impressions\, and crowd interaction. Fluffy is known for his ability to connect with audiences of all backgrounds\, making everyone feel like part of the show. \nThis is a solo headline performance. Shows typically run approximately 90 minutes to 2 hours of non-stop comedy. \nArrive early to enjoy the casino floor\, grab a drink at the bar\, and settle into your seats before showtime. This is an 18+ event. \nTicket Information\nPrice Range: Starting from approximately $150 (prices vary by seat and availability) \nSecure your seats through the official Ticketmaster link or find resale tickets through VividSeats for flexible options. \nOfficial TicketsResale Tickets \nThis post contains affiliate links. We may earn a commission at no extra cost to you.
URL:https://comedycalendar.com/event/gabriel-iglesias-live-at-gila-river-resorts-casinos-wild-horse-pass-june/
LOCATION:Gila River Resorts & Casinos – Wild Horse Pass\, 5040 Wild Horse Pass Blvd\, Chandler\, AZ\, 85226\, United States
ATTACH;FMTTYPE=image/jpeg:https://media.ticketmaster.com/en-us/dam/a/f02/33a32096-d2fb-45cf-9d95-b71260f94f02_CUSTOM.jpg
GEO:33.281546;-111.9735734
X-APPLE-STRUCTURED-LOCATION;VALUE=URI;X-ADDRESS=Gila River Resorts & Casinos – Wild Horse Pass 5040 Wild Horse Pass Blvd Chandler AZ 85226 United States;X-APPLE-RADIUS=500;X-TITLE=5040 Wild Horse Pass Blvd:geo:-111.9735734,33.281546
END:VEVENT
END:VCALENDAR