BEGIN:VCALENDAR
VERSION:2.0
PRODID:-//Find Upcoming Comedy Shows Near You | Comedy Calendar - ECPv6.15.20//NONSGML v1.0//EN
CALSCALE:GREGORIAN
METHOD:PUBLISH
X-ORIGINAL-URL:https://comedycalendar.com
X-WR-CALDESC:Events for Find Upcoming Comedy Shows Near You | Comedy Calendar
REFRESH-INTERVAL;VALUE=DURATION:PT1H
X-Robots-Tag:noindex
X-PUBLISHED-TTL:PT1H
BEGIN:VTIMEZONE
TZID:America/Chicago
BEGIN:DAYLIGHT
TZOFFSETFROM:-0600
TZOFFSETTO:-0500
TZNAME:CDT
DTSTART:20250309T080000
END:DAYLIGHT
BEGIN:STANDARD
TZOFFSETFROM:-0500
TZOFFSETTO:-0600
TZNAME:CST
DTSTART:20251102T070000
END:STANDARD
BEGIN:DAYLIGHT
TZOFFSETFROM:-0600
TZOFFSETTO:-0500
TZNAME:CDT
DTSTART:20260308T080000
END:DAYLIGHT
BEGIN:STANDARD
TZOFFSETFROM:-0500
TZOFFSETTO:-0600
TZNAME:CST
DTSTART:20261101T070000
END:STANDARD
BEGIN:DAYLIGHT
TZOFFSETFROM:-0600
TZOFFSETTO:-0500
TZNAME:CDT
DTSTART:20270314T080000
END:DAYLIGHT
BEGIN:STANDARD
TZOFFSETFROM:-0500
TZOFFSETTO:-0600
TZNAME:CST
DTSTART:20271107T070000
END:STANDARD
END:VTIMEZONE
BEGIN:VEVENT
DTSTART;TZID=America/Chicago:20260403T190000
DTEND;TZID=America/Chicago:20260403T210000
DTSTAMP:20260423T190128
CREATED:20260323T010000Z
LAST-MODIFIED:20260327T015958Z
UID:10004124-1775242800-1775250000@comedycalendar.com
SUMMARY:Amir K LIVE at Milwaukee Improv
DESCRIPTION:This post contains affiliate links. We earn a commission if you purchase tickets through our links at no extra cost to you. \nOfficial Tickets\nResale Tickets \nAmir K LIVE at Milwaukee Improv\nIranian-American stand-up comedian Amir K brings his high-energy\, hilarious comedy to the Milwaukee Improv in Brookfield\, WI. Known for his infectious energy and relatable storytelling\, Amir K delivers a comedy experience that keeps audiences laughing from start to finish. \nEvent Details\nDate: Friday\, April 3\, 2026\nTime: 7:00 PM CT\nVenue: Milwaukee Improv (Main Room)\nAddress: 20110 Lower Union Street\, Brookfield\, WI 53045\nAge Requirement: 21+ Event\nPhone: (414) 928-5400 \nAbout Amir K\nAmir K is an Iranian-American stand-up comedian who has performed on Comedy Central\, appeared on numerous TV shows\, and built a massive following through his energetic live performances. His comedy blends personal stories\, cultural observations\, and sharp wit that resonates with diverse audiences everywhere he performs. \nWhat to Expect\n\nHigh-energy stand-up comedy from start to finish\nHilarious personal stories and cultural observations\nIntimate club atmosphere at Milwaukee Improv Main Room\nA night of non-stop laughs for comedy fans of all backgrounds\nOne of the most entertaining live comedy acts on tour today\n\nVenue Information\nThe Milwaukee Improv (Main Room) is located at 20110 Lower Union Street in Brookfield\, WI. The venue offers a classic comedy club atmosphere with great sightlines\, full bar service\, and a menu of food and drinks to enjoy during the show. \nTicket Information\nTickets start at approximately $45. Secure your seats early as this show is expected to sell out. Official tickets are available through Ticketmaster\, and resale tickets are available through VividSeats. \nOfficial Tickets\nResale Tickets \nThis post contains affiliate links. We earn a commission if you purchase tickets through our links at no extra cost to you. \nAll sales are final. Show times subject to change. Valid photo ID may be required for entry.
URL:https://comedycalendar.com/event/amir-k-live-at-milwaukee-improv/
LOCATION:Milwaukee Improv (Main Room)\, 20110 Lower Union Street\, Brookfield\, WI\, 53045\, USA
CATEGORIES:Stand Up Comedy
ATTACH;FMTTYPE=image/jpeg:https://comedycalendar.com/wp-content/uploads/2026/03/afc9d927-edfa-499d-9bf2-02257f9b4ec6_890431_RETINA_PORTRAIT_16_9-XrzAPo.jpg
GEO:43.0353362;-88.1627026
X-APPLE-STRUCTURED-LOCATION;VALUE=URI;X-ADDRESS=Milwaukee Improv (Main Room) 20110 Lower Union Street Brookfield WI 53045 USA;X-APPLE-RADIUS=500;X-TITLE=20110 Lower Union Street:geo:-88.1627026,43.0353362
END:VEVENT
END:VCALENDAR