BEGIN:VCALENDAR
VERSION:2.0
PRODID:-//Find Upcoming Comedy Shows Near You | Comedy Calendar - ECPv6.15.20//NONSGML v1.0//EN
CALSCALE:GREGORIAN
METHOD:PUBLISH
X-WR-CALNAME:Find Upcoming Comedy Shows Near You | Comedy Calendar
X-ORIGINAL-URL:https://comedycalendar.com
X-WR-CALDESC:Events for Find Upcoming Comedy Shows Near You | Comedy Calendar
REFRESH-INTERVAL;VALUE=DURATION:PT1H
X-Robots-Tag:noindex
X-PUBLISHED-TTL:PT1H
BEGIN:VTIMEZONE
TZID:America/New_York
BEGIN:DAYLIGHT
TZOFFSETFROM:-0500
TZOFFSETTO:-0400
TZNAME:EDT
DTSTART:20250309T070000
END:DAYLIGHT
BEGIN:STANDARD
TZOFFSETFROM:-0400
TZOFFSETTO:-0500
TZNAME:EST
DTSTART:20251102T060000
END:STANDARD
BEGIN:DAYLIGHT
TZOFFSETFROM:-0500
TZOFFSETTO:-0400
TZNAME:EDT
DTSTART:20260308T070000
END:DAYLIGHT
BEGIN:STANDARD
TZOFFSETFROM:-0400
TZOFFSETTO:-0500
TZNAME:EST
DTSTART:20261101T060000
END:STANDARD
BEGIN:DAYLIGHT
TZOFFSETFROM:-0500
TZOFFSETTO:-0400
TZNAME:EDT
DTSTART:20270314T070000
END:DAYLIGHT
BEGIN:STANDARD
TZOFFSETFROM:-0400
TZOFFSETTO:-0500
TZNAME:EST
DTSTART:20271107T060000
END:STANDARD
END:VTIMEZONE
BEGIN:VTIMEZONE
TZID:America/Chicago
BEGIN:DAYLIGHT
TZOFFSETFROM:-0600
TZOFFSETTO:-0500
TZNAME:CDT
DTSTART:20250309T080000
END:DAYLIGHT
BEGIN:STANDARD
TZOFFSETFROM:-0500
TZOFFSETTO:-0600
TZNAME:CST
DTSTART:20251102T070000
END:STANDARD
BEGIN:DAYLIGHT
TZOFFSETFROM:-0600
TZOFFSETTO:-0500
TZNAME:CDT
DTSTART:20260308T080000
END:DAYLIGHT
BEGIN:STANDARD
TZOFFSETFROM:-0500
TZOFFSETTO:-0600
TZNAME:CST
DTSTART:20261101T070000
END:STANDARD
BEGIN:DAYLIGHT
TZOFFSETFROM:-0600
TZOFFSETTO:-0500
TZNAME:CDT
DTSTART:20270314T080000
END:DAYLIGHT
BEGIN:STANDARD
TZOFFSETFROM:-0500
TZOFFSETTO:-0600
TZNAME:CST
DTSTART:20271107T070000
END:STANDARD
END:VTIMEZONE
BEGIN:VTIMEZONE
TZID:America/Los_Angeles
BEGIN:DAYLIGHT
TZOFFSETFROM:-0800
TZOFFSETTO:-0700
TZNAME:PDT
DTSTART:20250309T100000
END:DAYLIGHT
BEGIN:STANDARD
TZOFFSETFROM:-0700
TZOFFSETTO:-0800
TZNAME:PST
DTSTART:20251102T090000
END:STANDARD
BEGIN:DAYLIGHT
TZOFFSETFROM:-0800
TZOFFSETTO:-0700
TZNAME:PDT
DTSTART:20260308T100000
END:DAYLIGHT
BEGIN:STANDARD
TZOFFSETFROM:-0700
TZOFFSETTO:-0800
TZNAME:PST
DTSTART:20261101T090000
END:STANDARD
BEGIN:DAYLIGHT
TZOFFSETFROM:-0800
TZOFFSETTO:-0700
TZNAME:PDT
DTSTART:20270314T100000
END:DAYLIGHT
BEGIN:STANDARD
TZOFFSETFROM:-0700
TZOFFSETTO:-0800
TZNAME:PST
DTSTART:20271107T090000
END:STANDARD
END:VTIMEZONE
BEGIN:VEVENT
DTSTART;TZID=America/New_York:20260424T200000
DTEND;TZID=America/New_York:20260424T223000
DTSTAMP:20260424T012555
CREATED:20260320T210000Z
LAST-MODIFIED:20260320T211954Z
UID:10003503-1777060800-1777069800@comedycalendar.com
SUMMARY:Katt Williams: The Golden Age Tour LIVE at The Liacouras Center
DESCRIPTION:Official TicketsResale Tickets \nAbout the Performer\nKatt Williams is one of the most electrifying and celebrated stand-up comedians in the world. Known for his razor-sharp wit\, explosive energy\, and fearless delivery\, Williams has built a legendary career spanning over two decades in comedy. \nHis HBO specials\, including Pimp Chronicles\, It’s Pimpin’ Pimpin’\, and Kattpacalypse\, have cemented his status as a comedy icon. Williams is known for his high-octane performances\, rapid-fire punchlines\, and deeply personal storytelling that resonates with audiences across all backgrounds. \nNow\, Katt Williams returns with all-new material for The Golden Age Tour — a massive North American arena tour bringing his signature style to more than 25 cities. This is Williams at his most refined and fearless\, delivering a show that fans and critics alike are calling one of the best of his career. \nEvent Details\n\nDate: Friday\, April 24\, 2026\nTime: 8:00 PM\nVenue: The Liacouras Center\, 1776 N Broad St\, Philadelphia\, PA 19121\nAge Restrictions: All ages welcome (some content may be intended for mature audiences)\nDoors Open: Typically 1 hour before showtime\n\nAbout the Venue\nThe Liacouras Center is a premier multi-purpose arena located on the campus of Temple University in North Philadelphia. With a seating capacity of approximately 10\,200\, it is one of the largest indoor venues in the Philadelphia area and regularly hosts major concerts\, sporting events\, and comedy shows. \nThe arena features excellent sightlines from virtually every seat\, a modern sound system\, and a vibrant atmosphere that makes large-scale live events truly memorable. Parking is available in nearby Temple University lots and garages\, and the venue is easily accessible via SEPTA’s Broad Street Line (Cecil B. Moore station). \nThe Liacouras Center has hosted some of the biggest names in entertainment\, making it the perfect stage for Katt Williams’ arena-level comedy spectacle. \nWhat to Expect\nThe Golden Age Tour features all-new material from Katt Williams — no recycled bits\, no filler. Expect a high-energy\, non-stop performance filled with sharp social commentary\, hilarious personal anecdotes\, and the kind of crowd interaction that only Katt Williams can deliver. \nThis is a solo headlining show in an arena setting\, meaning the production values are top-tier. Expect professional lighting\, sound\, and staging that elevates the comedy experience to a full-scale event. Fans who have seen Williams live consistently describe his shows as life-changing experiences filled with uncontrollable laughter. \nArrive early to get settled and enjoy the full atmosphere. This is a show you will be talking about for years. \nTicket Information\nPrice Range: $119 – $500+ \nTickets are available through Ticketmaster (official) and VividSeats (resale). Prices vary by seat location and availability. Resale tickets may be available even if official tickets are sold out. \nOfficial TicketsResale Tickets \nThis post contains affiliate links. We may earn a commission at no extra cost to you.
URL:https://comedycalendar.com/event/katt-williams-the-golden-age-tour-live-at-the-liacouras-center/
LOCATION:The Liacouras Center\, 1776 N Broad St\, Philadelphia\, 19121\, United States
CATEGORIES:Stand Up Comedy
ATTACH;FMTTYPE=image/jpeg:https://media.ticketmaster.com/en-us/dam/a/ecc/1f63601f-dd30-4e5d-a768-23b083249ecc_CUSTOM.jpg
GEO:39.9798791;-75.1585544
X-APPLE-STRUCTURED-LOCATION;VALUE=URI;X-ADDRESS=The Liacouras Center 1776 N Broad St Philadelphia 19121 United States;X-APPLE-RADIUS=500;X-TITLE=1776 N Broad St:geo:-75.1585544,39.9798791
END:VEVENT
BEGIN:VEVENT
DTSTART;TZID=America/New_York:20260425T200000
DTEND;TZID=America/New_York:20260425T220000
DTSTAMP:20260424T012555
CREATED:20260329T050000Z
LAST-MODIFIED:20260329T050000Z
UID:10004393-1777147200-1777154400@comedycalendar.com
SUMMARY:Katt Williams: The Golden Age Tour LIVE at Scope Arena
DESCRIPTION:Official TicketsResale Tickets \nAbout the Performer\nKatt Williams is one of the most electrifying and controversial stand-up comedians of his generation. Known for his rapid-fire delivery\, outrageous storytelling\, and fearless social commentary\, Katt has been a dominant force in comedy for over two decades. \nHis specials — including Pimp Chronicles\, It’s Pimpin’ Pimpin’\, and American Hustle — have become cultural touchstones. His 2024 Netflix special Woke Foke reignited his career and reminded the world why he is considered one of the greatest stand-up comedians alive. \nThe Golden Age Tour represents Katt at the peak of his powers — sharper\, funnier\, and more fearless than ever. This is a must-see event for any comedy fan. \nEvent Details\n\nDate: Saturday\, April 25\, 2026\nShow Time: 8:00 PM\nVenue: Scope Arena\, 201 E. Brambleton Ave\, Norfolk\, VA 23510\nPhone: (757) 664-6464\nAge Restrictions: 18+ recommended; strong language and adult themes\n\nAbout the Venue\nScope Arena is Norfolk’s premier large-capacity entertainment venue\, located at 201 E. Brambleton Ave in downtown Norfolk\, Virginia. With a seating capacity of approximately 12\,000\, Scope Arena is the largest indoor arena in the Hampton Roads region. \nThe arena features a wide floor area\, tiered seating with excellent sightlines\, and a state-of-the-art sound system that ensures every seat in the house delivers a great experience. The venue is operated by SevenVenues and hosts major concerts\, sporting events\, and comedy shows throughout the year. \nParking is available in multiple garages and surface lots surrounding the arena. The venue is conveniently located near downtown Norfolk restaurants and hotels\, making it easy to make a full night of it. \nWhat to Expect\nKatt Williams’ Golden Age Tour is a full-length solo stand-up comedy show. Expect Katt to deliver his signature high-energy performance filled with rapid-fire jokes\, wild storytelling\, and sharp cultural observations. \nThe show is expected to run approximately 90–120 minutes. Katt is known for his unpredictable\, spontaneous style — no two shows are exactly alike. Audiences should be prepared for adult language and mature themes throughout the performance. \nThis is a rare arena-scale comedy event. Arrive early to get settled\, grab your drinks\, and prepare for one of the most talked-about comedy tours of 2026. \nTicket Information\nPrice Range: $115 – $250 \nTickets are available through Ticketmaster (official) and VividSeats (resale). Demand is extremely high — secure your seats before they’re gone. \nOfficial TicketsResale Tickets \nThis post contains affiliate links. We may earn a commission at no extra cost to you.
URL:https://comedycalendar.com/event/katt-williams-the-golden-age-tour-live-at-scope-arena-2/
LOCATION:Scope Arena\, 201 E. Brambleton Ave\, Norfolk\, VA\, 23510\, US
ATTACH;FMTTYPE=image/jpeg:https://comedycalendar.com/wp-content/uploads/2026/03/1f63601f-dd30-4e5d-a768-23b083249ecc_CUSTOM-XyJIWF.jpg
GEO:36.8532571;-76.2869039
X-APPLE-STRUCTURED-LOCATION;VALUE=URI;X-ADDRESS=Scope Arena 201 E. Brambleton Ave Norfolk VA 23510 US;X-APPLE-RADIUS=500;X-TITLE=201 E. Brambleton Ave:geo:-76.2869039,36.8532571
END:VEVENT
BEGIN:VEVENT
DTSTART;TZID=America/New_York:20260425T200000
DTEND;TZID=America/New_York:20260425T223000
DTSTAMP:20260424T012555
CREATED:20260322T230000Z
LAST-MODIFIED:20260329T183403Z
UID:10004386-1777147200-1777156200@comedycalendar.com
SUMMARY:Katt Williams: The Golden Age Tour LIVE at Scope Arena
DESCRIPTION:Official TicketsResale Tickets \nAbout the Performer\nKatt Williams is one of the most electrifying and celebrated stand-up comedians of his generation. Known for his rapid-fire delivery\, sharp social commentary\, and fearless willingness to tackle any topic\, Williams has built a legendary career that spans stand-up specials\, films\, and television. \nHis Netflix special Katt Williams: Woke Foke broke records and reminded the world why he is considered one of the greatest to ever do it. With a style that blends street wisdom\, conspiracy theories\, and razor-sharp observations about race\, politics\, and human nature\, Williams delivers comedy that is as thought-provoking as it is hilarious. \nThe Golden Age Tour features all-new material and promises to be one of the most talked-about comedy events of 2026. This is Katt Williams at the height of his powers — don’t miss it. \nEvent Details\nDate: Saturday\, April 25\, 2026 \nTime: 8:00 PM (Doors open approximately 7:00 PM) \nVenue: Scope Arena\, 201 E. Brambleton Ave\, Norfolk\, VA 23510 \nTicket Price Range: $75 – $200 (before fees) \nContent Warning: This show contains adult language and mature themes. Recommended for ages 18+. \nAbout the Venue\nScope Arena is Norfolk’s largest indoor entertainment venue\, located at 201 E. Brambleton Ave in the heart of downtown Norfolk. With a capacity of approximately 12\,000\, Scope Arena is the go-to destination for major concerts\, sporting events\, and large-scale comedy shows. \nThe arena features multiple seating levels including floor\, lower bowl\, and upper deck sections. Concessions\, merchandise stands\, and full bar service are available throughout the venue. Parking is available in the adjacent Scope Plaza garage and surrounding downtown lots. \nThe arena’s size means this will be a true event-level comedy experience — the kind of show that fills the room with energy and leaves the audience buzzing for days. \nWhat to Expect\nKatt Williams’ Golden Age Tour is a full-scale arena comedy experience. Expect a high-energy\, no-holds-barred performance that covers everything from current events to personal stories\, all delivered with Williams’ signature intensity and comedic genius. \nThis is not a small club show — it’s a major production with the kind of presence that only a true comedy legend can command. Williams is known for long sets that keep audiences engaged from start to finish. \nArrive early to secure your parking and grab concessions before the show. The arena fills up quickly for Katt Williams events\, so plan accordingly. \nTicket Information\nPrice Range: $75 – $200 (fees may apply) \nTickets are available through Ticketmaster (official) and VividSeats (resale). Both options are listed below. \nOfficial TicketsResale Tickets \nThis post contains affiliate links. We may earn a commission at no extra cost to you.
URL:https://comedycalendar.com/event/katt-williams-the-golden-age-tour-live-at-scope-arena/
LOCATION:Scope Arena\, 201 E. Brambleton Ave\, Norfolk\, VA\, 23510\, US
CATEGORIES:Stand Up Comedy
ATTACH;FMTTYPE=image/jpeg:https://media.ticketmaster.com/en-us/dam/a/ecc/1f63601f-dd30-4e5d-a768-23b083249ecc_CUSTOM.jpg
GEO:36.8532571;-76.2869039
X-APPLE-STRUCTURED-LOCATION;VALUE=URI;X-ADDRESS=Scope Arena 201 E. Brambleton Ave Norfolk VA 23510 US;X-APPLE-RADIUS=500;X-TITLE=201 E. Brambleton Ave:geo:-76.2869039,36.8532571
END:VEVENT
BEGIN:VEVENT
DTSTART;TZID=America/Chicago:20260501T200000
DTEND;TZID=America/Chicago:20260501T223000
DTSTAMP:20260424T012555
CREATED:20260322T170000Z
LAST-MODIFIED:20260327T185040Z
UID:10004224-1777665600-1777674600@comedycalendar.com
SUMMARY:Katt Williams: The Golden Age Tour LIVE at Baxter Arena
DESCRIPTION:Official TicketsResale Tickets \nAbout the Performer\nKatt Williams is one of the most electrifying and controversial stand-up comedians of his generation. Known for his rapid-fire delivery\, outrageous storytelling\, and fearless social commentary\, Katt has built a legendary career spanning over two decades. \nHe has released numerous acclaimed stand-up specials including Pimp Chronicles Pt. 1\, It’s Pimpin’ Pimpin’\, and the viral Netflix special Katt Williams: World War III\, which broke streaming records upon its release. His 2024 interview on Club Shay Shay became one of the most-watched podcast moments in history\, reigniting massive public interest in his career. \nThe Golden Age Tour features all-new material from Katt at the peak of his powers — expect bold\, unfiltered comedy that pushes boundaries and leaves audiences in stitches. \nEvent Details\n\nDate: Friday\, May 1\, 2026\nTime: 8:00 PM\nVenue: Baxter Arena\, 2425 S. 67th St\, Omaha\, NE 68106\nAge Restrictions: 18+ recommended (adult content and language)\n\nAbout the Venue\nBaxter Arena is the premier multi-purpose arena on the University of Nebraska Omaha campus\, with a seating capacity of approximately 8\,000. It serves as the home of UNO Mavericks athletics and hosts major concerts\, comedy shows\, and special events throughout the year. \nThe arena offers excellent sightlines from all seating areas\, modern concession stands\, full bar service\, and convenient parking in the surrounding campus lots. Located at 67th and Center Streets\, it is easily accessible from I-80 and I-680. \nBaxter Arena provides an energetic\, mid-size arena atmosphere that is perfect for a high-energy comedy performance like Katt Williams — close enough to feel the energy\, large enough to create an electric crowd experience. \nWhat to Expect\nKatt Williams delivers a full-length solo stand-up performance as part of The Golden Age Tour. This show features brand-new material and is not suitable for children due to adult language and themes. \nExpect an explosive\, high-energy evening of comedy that only Katt Williams can deliver. His performances are known for their intensity\, unpredictability\, and moments of genuine comedic brilliance that leave audiences talking for weeks. \nTicket Information\nPrice Range: From $101 (resale) — check Ticketmaster for official pricing \nReserved parking is also available through Ticketmaster. Purchase official tickets or find resale options via VividSeats. \nOfficial TicketsResale Tickets \nThis post contains affiliate links. We may earn a commission at no extra cost to you.
URL:https://comedycalendar.com/event/katt-williams-the-golden-age-tour-live-at-baxter-arena/
LOCATION:Baxter Arena\, 2425 S. 67th St\, Omaha\, Nebraska\, 68106\, USA
CATEGORIES:Stand Up Comedy
ATTACH;FMTTYPE=image/jpeg:https://comedycalendar.com/wp-content/uploads/2026/03/1f63601f-dd30-4e5d-a768-23b083249ecc_CUSTOM-XyJIWF.jpg
GEO:41.2361494;-96.0129617
X-APPLE-STRUCTURED-LOCATION;VALUE=URI;X-ADDRESS=Baxter Arena 2425 S. 67th St Omaha Nebraska 68106 USA;X-APPLE-RADIUS=500;X-TITLE=2425 S. 67th St:geo:-96.0129617,41.2361494
END:VEVENT
BEGIN:VEVENT
DTSTART;TZID=America/Chicago:20260501T200000
DTEND;TZID=America/Chicago:20260501T223000
DTSTAMP:20260424T012555
CREATED:20260322T180000Z
LAST-MODIFIED:20260327T185031Z
UID:10004231-1777665600-1777674600@comedycalendar.com
SUMMARY:Katt Williams: The Golden Age Tour LIVE at Baxter Arena
DESCRIPTION:This post contains affiliate links. We earn a commission if you purchase tickets through our links at no extra cost to you. \nOfficial Tickets\nResale Tickets \nKatt Williams: The Golden Age Tour LIVE at Baxter Arena\nComedy legend Katt Williams brings his electrifying Golden Age Tour to Baxter Arena in Omaha\, Nebraska on Friday\, May 1\, 2026. One of the most celebrated stand-up comedians of his generation\, Katt delivers a high-energy\, unforgettable performance you won’t want to miss. \nEvent Details\nDate: Friday\, May 1\, 2026\nTime: 8:00 PM CT\nVenue: Baxter Arena\nAddress: 2425 S. 67th St\, Omaha\, NE 68106\nParking: Free parking available in multiple lots surrounding the arena\nAge Requirement: All ages welcome \nAbout Katt Williams\nKatt Williams is one of the most iconic and celebrated comedians in the world\, known for his explosive energy\, sharp social commentary\, and unmatched stage presence. With multiple acclaimed specials and sold-out arena tours\, Katt continues to dominate the comedy world. His Golden Age Tour features all-new material showcasing why he remains at the top of his game. \nWhat to Expect\n\nA legendary stand-up performance from one of comedy’s all-time greats\nHigh-energy\, explosive humor and razor-sharp social commentary\nBrand new material from The Golden Age Tour\nA massive arena show at Baxter Arena in Omaha\nAn unforgettable night of world-class comedy\n\nVenue Information\nBaxter Arena is a premier multi-purpose arena located at 2425 S. 67th St in Omaha\, Nebraska\, home to the University of Nebraska Omaha athletics and major entertainment events. Free parking is available in multiple lots surrounding the arena. \nTicket Information\nTickets start from $101. Purchase official tickets through Ticketmaster or find resale tickets through VividSeats. \nOfficial Tickets\nResale Tickets \nThis post contains affiliate links. We earn a commission if you purchase tickets through our links at no extra cost to you. \nAll sales are final. Show times subject to change. Valid photo ID may be required for entry.
URL:https://comedycalendar.com/event/katt-williams-the-golden-age-tour-live-at-baxter-arena-2/
LOCATION:Baxter Arena\, 2425 S. 67th St\, Omaha\, Nebraska\, 68106\, USA
CATEGORIES:Stand Up Comedy
ATTACH;FMTTYPE=image/jpeg:https://comedycalendar.com/wp-content/uploads/2026/03/1f63601f-dd30-4e5d-a768-23b083249ecc_RETINA_LANDSCAPE_16_9-qKDKHz.jpg
GEO:41.2361494;-96.0129617
X-APPLE-STRUCTURED-LOCATION;VALUE=URI;X-ADDRESS=Baxter Arena 2425 S. 67th St Omaha Nebraska 68106 USA;X-APPLE-RADIUS=500;X-TITLE=2425 S. 67th St:geo:-96.0129617,41.2361494
END:VEVENT
BEGIN:VEVENT
DTSTART;TZID=America/New_York:20260502T200000
DTEND;TZID=America/New_York:20260502T220000
DTSTAMP:20260424T012555
CREATED:20260310T030000Z
LAST-MODIFIED:20260310T030000Z
UID:10002661-1777752000-1777759200@comedycalendar.com
SUMMARY:Katt Williams LIVE at United Center
DESCRIPTION:Official TicketsResale Tickets\n \nAbout Katt Williams\nKatt Williams is widely regarded as one of the greatest stand-up comedians of all time. With a career spanning over two decades\, he has delivered some of the most iconic and celebrated comedy specials in history\, including Pimp Chronicles Pt. 1\, It’s Pimpin’ Pimpin’\, Kattpacalypse\, and his landmark Netflix special Katt Williams: World War III\, which broke streaming records upon its release. \nKnown for his lightning-fast delivery\, unmatched energy\, and fearless willingness to speak truth to power\, Katt Williams has built a legacy as one of comedy’s most electrifying performers. His ability to blend sharp social commentary with gut-busting humor has earned him a devoted fanbase that spans generations and demographics. \nThe Golden Age Tour promises all-new material from Katt Williams at the peak of his powers. After the massive success of his recent Netflix special\, anticipation for this tour is at an all-time high — and Chicago’s United Center is one of the most coveted stops on the entire run. \nEvent Details\n\nEvent: Katt Williams: The Golden Age Tour\nDate: Saturday\, May 2\, 2026\nShow Time: 8:00 PM CT (Gates open at 6:30 PM)\nVenue: United Center\nAddress: 1901 W Madison St\, Chicago\, IL 60612\n\nAbout United Center\nUnited Center is Chicago’s premier sports and entertainment arena\, home to the NBA’s Chicago Bulls and the NHL’s Chicago Blackhawks. With a capacity of over 20\,000\, it is one of the largest and most celebrated arenas in the United States\, having hosted some of the biggest names in entertainment\, sports\, and live performance. \nThe arena features state-of-the-art sound and lighting systems\, multiple concession levels\, premium club areas\, and excellent sightlines from virtually every seat in the house. Whether you’re on the floor or in the upper bowl\, the United Center delivers an electric\, high-energy atmosphere that makes every show feel like a major event. \nLocated in the Near West Side neighborhood\, United Center is accessible via the CTA Pink and Green Lines. Ample parking is available in the surrounding lots and garages. Gates open at 6:30 PM\, giving you plenty of time to arrive\, find your seats\, and grab food and drinks from the arena’s many concession options before the show begins. \nWhat to Expect\nKatt Williams’ Golden Age Tour is a full arena-scale stand-up comedy experience featuring all-new material. Expect an evening of non-stop laughter as Katt takes the stage and delivers the kind of high-octane\, deeply insightful comedy that has made him a legend in the industry. \nThis is a solo headline show — a full evening of Katt Williams at his absolute best. His performances are known for their intensity\, spontaneity\, and the feeling that anything can happen at any moment. No two Katt Williams shows are ever exactly alike\, making this a truly unique live experience. \nWith the Golden Age Tour generating massive buzz nationwide\, this Chicago show at the United Center is expected to be one of the hottest tickets of 2026. Don’t miss your chance to see one of comedy’s all-time greats perform live in the Windy City. \nTicket Information\nTickets for Katt Williams: The Golden Age Tour at United Center start from $91. Purchase official tickets through Ticketmaster or find resale tickets through VividSeats. \n\nOfficial TicketsResale Tickets\n \nThis post contains affiliate links. We may earn a commission at no extra cost to you.
URL:https://comedycalendar.com/event/katt-williams-live-at-united-center/
LOCATION:United Center\, 1901 W Madison St\, Chicago\, IL\, 60612\, USA
ATTACH;FMTTYPE=image/jpeg:https://media.ticketmaster.com/en-us/dam/a/ecc/1f63601f-dd30-4e5d-a768-23b083249ecc_CUSTOM.jpg
GEO:41.8807322;-87.6741764
X-APPLE-STRUCTURED-LOCATION;VALUE=URI;X-ADDRESS=United Center 1901 W Madison St Chicago IL 60612 USA;X-APPLE-RADIUS=500;X-TITLE=1901 W Madison St:geo:-87.6741764,41.8807322
END:VEVENT
BEGIN:VEVENT
DTSTART;TZID=America/Los_Angeles:20260505T193000
DTEND;TZID=America/Los_Angeles:20260505T213000
DTSTAMP:20260424T012555
CREATED:20260306T170000Z
LAST-MODIFIED:20260319T170024Z
UID:10002570-1778009400-1778016600@comedycalendar.com
SUMMARY:Katt Williams LIVE at Intuit Dome
DESCRIPTION:Official TicketsResale Tickets \nAbout the Show\nKatt Williams brings his electrifying stand-up to the massive Intuit Dome in Inglewood on Tuesday\, May 5\, 2026 as part of the Netflix Is A Joke Fest. \nOne of the most dynamic and unpredictable comedians alive\, Katt Williams delivers a high-energy performance that only he can pull off. \nEvent Details\n\nDate: Tuesday\, May 5\, 2026\nTime: 7:30 PM\nVenue: Intuit Dome\nAddress: 3930 W Century Blvd\, Inglewood\, CA 90305\nFestival: Netflix Is A Joke Fest 2026\n\nOfficial TicketsResale Tickets \nThis post contains affiliate links. We may earn a commission at no extra cost to you.
URL:https://comedycalendar.com/event/katt-williams-live-at-intuit-dome/
LOCATION:Intuit Dome\, 3930 W Century Blvd\, Inglewood\, CA\, 90303\, United States
CATEGORIES:Stand Up Comedy
ATTACH;FMTTYPE=image/jpeg:https://s1.ticketm.net/dam/a/ecc/1f63601f-dd30-4e5d-a768-23b083249ecc_RETINA_PORTRAIT_3_2.jpg
GEO:33.9449493;-118.3429184
X-APPLE-STRUCTURED-LOCATION;VALUE=URI;X-ADDRESS=Intuit Dome 3930 W Century Blvd Inglewood CA 90303 United States;X-APPLE-RADIUS=500;X-TITLE=3930 W Century Blvd:geo:-118.3429184,33.9449493
END:VEVENT
END:VCALENDAR