BEGIN:VCALENDAR
VERSION:2.0
PRODID:-//Find Upcoming Comedy Shows Near You | Comedy Calendar - ECPv6.15.20//NONSGML v1.0//EN
CALSCALE:GREGORIAN
METHOD:PUBLISH
X-WR-CALNAME:Find Upcoming Comedy Shows Near You | Comedy Calendar
X-ORIGINAL-URL:https://comedycalendar.com
X-WR-CALDESC:Events for Find Upcoming Comedy Shows Near You | Comedy Calendar
REFRESH-INTERVAL;VALUE=DURATION:PT1H
X-Robots-Tag:noindex
X-PUBLISHED-TTL:PT1H
BEGIN:VTIMEZONE
TZID:America/New_York
BEGIN:DAYLIGHT
TZOFFSETFROM:-0500
TZOFFSETTO:-0400
TZNAME:EDT
DTSTART:20250309T070000
END:DAYLIGHT
BEGIN:STANDARD
TZOFFSETFROM:-0400
TZOFFSETTO:-0500
TZNAME:EST
DTSTART:20251102T060000
END:STANDARD
BEGIN:DAYLIGHT
TZOFFSETFROM:-0500
TZOFFSETTO:-0400
TZNAME:EDT
DTSTART:20260308T070000
END:DAYLIGHT
BEGIN:STANDARD
TZOFFSETFROM:-0400
TZOFFSETTO:-0500
TZNAME:EST
DTSTART:20261101T060000
END:STANDARD
BEGIN:DAYLIGHT
TZOFFSETFROM:-0500
TZOFFSETTO:-0400
TZNAME:EDT
DTSTART:20270314T070000
END:DAYLIGHT
BEGIN:STANDARD
TZOFFSETFROM:-0400
TZOFFSETTO:-0500
TZNAME:EST
DTSTART:20271107T060000
END:STANDARD
END:VTIMEZONE
BEGIN:VTIMEZONE
TZID:America/Detroit
BEGIN:DAYLIGHT
TZOFFSETFROM:-0500
TZOFFSETTO:-0400
TZNAME:EDT
DTSTART:20250309T070000
END:DAYLIGHT
BEGIN:STANDARD
TZOFFSETFROM:-0400
TZOFFSETTO:-0500
TZNAME:EST
DTSTART:20251102T060000
END:STANDARD
BEGIN:DAYLIGHT
TZOFFSETFROM:-0500
TZOFFSETTO:-0400
TZNAME:EDT
DTSTART:20260308T070000
END:DAYLIGHT
BEGIN:STANDARD
TZOFFSETFROM:-0400
TZOFFSETTO:-0500
TZNAME:EST
DTSTART:20261101T060000
END:STANDARD
BEGIN:DAYLIGHT
TZOFFSETFROM:-0500
TZOFFSETTO:-0400
TZNAME:EDT
DTSTART:20270314T070000
END:DAYLIGHT
BEGIN:STANDARD
TZOFFSETFROM:-0400
TZOFFSETTO:-0500
TZNAME:EST
DTSTART:20271107T060000
END:STANDARD
END:VTIMEZONE
BEGIN:VEVENT
DTSTART;TZID=America/New_York:20260327T200000
DTEND;TZID=America/New_York:20260327T230000
DTSTAMP:20260424T040346
CREATED:20260321T190000Z
LAST-MODIFIED:20260322T191509Z
UID:10003692-1774641600-1774652400@comedycalendar.com
SUMMARY:Katt Williams: The Golden Age Tour LIVE at Benchmark International Arena
DESCRIPTION:Official TicketsResale Tickets \nThis post contains affiliate links. We may earn a commission at no extra cost to you. \nAbout Katt Williams\nKatt Williams is one of the most electrifying and boundary-pushing stand-up comedians in the game today. Known for his razor-sharp wit\, high-energy delivery\, and fearless commentary on life\, culture\, and society\, Williams has built a legendary career spanning over two decades. \nHis comedy specials — including Pimp Chronicles\, It’s Pimpin’ Pimpin’\, and the viral Netflix special Katt Williams: World War III — have cemented his status as one of the greatest live performers of his generation. Fans can expect an unforgettable night of raw\, unfiltered\, and brilliantly crafted comedy. \nEvent Details\nDate: Friday\, March 27\, 2026 \nShow Time: 8:00 PM (Doors open 60–90 minutes prior) \nVenue: Benchmark International Arena\, 401 Channelside Dr\, Tampa\, FL 33602 \nAge Restrictions: Please check venue for any age restrictions or content advisories. \nAbout Benchmark International Arena\nBenchmark International Arena (formerly Amalie Arena) is Tampa’s premier large-scale entertainment venue\, located in the heart of downtown Tampa along the scenic Channelside waterfront. With a capacity of over 19\,000\, it is one of the most iconic arenas in the Southeast. \nThe arena features state-of-the-art sound and lighting systems\, multiple concession levels\, premium club seating\, and easy access to downtown Tampa’s restaurants and nightlife. Parking is available in nearby Channelside garages and surface lots. The venue is also accessible via the TECO Line Streetcar and is within walking distance of the Tampa Riverwalk. \nWhether you’re in the lower bowl or the upper deck\, the sightlines at Benchmark International Arena are excellent\, making it a fantastic venue for a large-scale comedy show. \nWhat to Expect\nKatt Williams: The Golden Age Tour promises to be a landmark event in Tampa’s comedy scene. This is a solo stand-up performance featuring Katt Williams at the top of his game — delivering the kind of long-form\, deeply personal\, and culturally resonant comedy that has made him a household name. \nExpect a high-energy show with no opener — just Katt Williams commanding the stage for an extended set. His performances are known for their spontaneity\, crowd interaction\, and moments of genuine comedic brilliance. This is not a show to miss. \nTicket Information\nPrice Range: From $99 (prices subject to change) \nSecure your seats through official Ticketmaster channels or find resale tickets via VividSeats. \nOfficial TicketsResale Tickets \nThis post contains affiliate links. We may earn a commission at no extra cost to you.
URL:https://comedycalendar.com/event/katt-williams-the-golden-age-tour-live-at-benchmark-international-arena/
LOCATION:Benchmark International Arena\, 401 Channelside Dr\, Tampa\, Florida\, 33602\, United States
CATEGORIES:Comedy Special,Headliner,Stand Up Comedy
ATTACH;FMTTYPE=image/jpeg:https://media.ticketmaster.com/en-us/dam/a/ecc/1f63601f-dd30-4e5d-a768-23b083249ecc_CUSTOM.jpg
GEO:27.9423286;-82.4525958
X-APPLE-STRUCTURED-LOCATION;VALUE=URI;X-ADDRESS=Benchmark International Arena 401 Channelside Dr Tampa Florida 33602 United States;X-APPLE-RADIUS=500;X-TITLE=401 Channelside Dr:geo:-82.4525958,27.9423286
END:VEVENT
BEGIN:VEVENT
DTSTART;TZID=America/Detroit:20260404T200000
DTEND;TZID=America/Detroit:20260404T220000
DTSTAMP:20260424T040346
CREATED:20260321T200000Z
LAST-MODIFIED:20260326T230353Z
UID:10003610-1775332800-1775340000@comedycalendar.com
SUMMARY:Katt Williams: The Golden Age Tour LIVE at Little Caesars Arena
DESCRIPTION:Official TicketsResale Tickets \nAbout the Performer\nKatt Williams is one of the most electrifying and controversial stand-up comedians of his generation. Known for his rapid-fire delivery\, sharp social commentary\, and fearless willingness to tackle any topic\, Katt has built a legendary career spanning decades of sold-out tours and acclaimed specials. \nHis comedy is a high-octane blend of storytelling\, impressions\, and raw truth-telling that leaves audiences breathless. From his breakout HBO specials to his viral moments and recent cultural resurgence\, Katt Williams remains one of the most talked-about names in comedy. \nThe Golden Age Tour marks a triumphant return to the stage\, and Detroit is one of the marquee stops on this massive North American run. \nEvent Details\n\nDate: Saturday\, April 4\, 2026\nTime: 8:00 PM\nVenue: Little Caesars Arena\, 2645 Woodward Ave\, Detroit\, MI 48201\n\nAbout the Venue\nLittle Caesars Arena is Detroit’s premier multi-purpose arena and home to the Detroit Pistons and Detroit Red Wings. With a seating capacity of over 20\,000\, it is one of the largest and most modern arenas in the Midwest. \nThe arena features state-of-the-art acoustics\, multiple concession levels\, premium club spaces\, and easy access via the QLine streetcar and multiple parking structures in the District Detroit. The venue’s design ensures excellent sightlines from virtually every seat in the house. \nAttending a show at Little Caesars Arena is a world-class entertainment experience in the heart of Detroit’s vibrant District Detroit neighborhood. \nWhat to Expect\nThis is a full arena stand-up comedy event — expect a massive production with Katt Williams at the top of his game. The Golden Age Tour promises to be one of the biggest comedy events of 2026\, with Katt delivering a headline set packed with his signature energy\, storytelling\, and unfiltered commentary. \nArrive early to find your seats and soak in the atmosphere of one of Detroit’s most iconic venues. This show is expected to sell out\, so secure your tickets early. \nTicket Information\nTickets range from approximately $86 to $250+. Purchase official tickets through Ticketmaster or find resale tickets through VividSeats. \nOfficial TicketsResale Tickets \nThis post contains affiliate links. We may earn a commission at no extra cost to you.
URL:https://comedycalendar.com/event/katt-williams-the-golden-age-tour-live-at-little-caesars-arena-detroit/
LOCATION:Little Caesars Arena\, 2645 Woodward Ave\, Detroit\, MI\, 48201\, USA
CATEGORIES:Stand Up Comedy
ATTACH;FMTTYPE=image/jpeg:https://s1.ticketm.net/dam/a/ecc/1f63601f-dd30-4e5d-a768-23b083249ecc_EVENT_DETAIL_PAGE_16_9.jpg
GEO:42.3415519;-83.0543162
X-APPLE-STRUCTURED-LOCATION;VALUE=URI;X-ADDRESS=Little Caesars Arena 2645 Woodward Ave Detroit MI 48201 USA;X-APPLE-RADIUS=500;X-TITLE=2645 Woodward Ave:geo:-83.0543162,42.3415519
END:VEVENT
BEGIN:VEVENT
DTSTART;TZID=America/New_York:20260411T200000
DTEND;TZID=America/New_York:20260411T223000
DTSTAMP:20260424T040346
CREATED:20260322T210000Z
LAST-MODIFIED:20260322T210000Z
UID:10003727-1775937600-1775946600@comedycalendar.com
SUMMARY:Katt Williams: The Golden Age Tour LIVE at Spectrum Center
DESCRIPTION:Official TicketsResale Tickets \nThis post contains affiliate links. We may earn a commission at no extra cost to you. \nAbout the Performer\nKatt Williams is one of the most electrifying and celebrated stand-up comedians of his generation. Known for his rapid-fire delivery\, sharp social commentary\, and fearless approach to comedy\, Katt has built a legendary career that spans decades and includes some of the most talked-about specials in comedy history. \nHis HBO and Netflix specials have been viewed by tens of millions of fans worldwide. Katt’s comedy is bold\, unapologetic\, and brilliantly crafted — blending personal storytelling with incisive observations about culture\, politics\, and the human condition. He is widely regarded as one of the greatest stand-up comedians of all time. \nThe Golden Age Tour marks a triumphant return to the stage\, with Katt bringing his most powerful and polished material yet to arenas across the country. \nEvent Details\n\nDate: Saturday\, April 11\, 2026\nShow Time: 8:00 PM (Doors open at 7:00 PM)\nVenue: Spectrum Center\, 333 East Trade Street\, Charlotte\, NC 28202\nTicket Prices: From $112 (resale prices may vary)\nAge Restriction: All ages (content may be mature)\n\nAbout the Venue\nSpectrum Center is Charlotte’s flagship entertainment arena\, situated in the heart of uptown Charlotte at 333 East Trade Street. With a capacity of approximately 19\,000\, it is the largest and most prestigious venue in the region for major live events. \nThe arena offers world-class amenities including premium club seating\, multiple concession levels\, state-of-the-art sound and lighting\, and excellent sightlines from every section. Spectrum Center is home to the Charlotte Hornets and is a regular destination for the biggest names in entertainment. \nMultiple parking decks and surface lots are available nearby. The venue is centrally located in uptown Charlotte\, close to hotels\, restaurants\, and public transit options. \nWhat to Expect\nKatt Williams’ Golden Age Tour is a full arena comedy experience. Expect a high-energy\, no-holds-barred performance packed with sharp wit\, powerful storytelling\, and the kind of fearless comedy that only Katt can deliver. \nThis is a solo headlining show. Katt’s performances are known for their intensity\, passion\, and ability to keep audiences on the edge of their seats from start to finish. Shows typically run 90 minutes to two hours. This is a must-see event for any comedy fan. \nTicket Information\nTickets start from approximately $112 and are available through Ticketmaster (official) and VividSeats (resale). Prices vary by seat location and demand. Purchase early — Katt Williams’ arena shows sell out fast. \nOfficial TicketsResale Tickets
URL:https://comedycalendar.com/event/katt-williams-the-golden-age-tour-live-at-spectrum-center/
LOCATION:Spectrum Center\, 333 East Trade Street\, Charlotte\, NC\, 28202\, United States
ATTACH;FMTTYPE=image/jpeg:https://comedycalendar.com/wp-content/uploads/2026/03/1f63601f-dd30-4e5d-a768-23b083249ecc_CUSTOM-XyJIWF.jpg
GEO:35.225193;-80.8393455
X-APPLE-STRUCTURED-LOCATION;VALUE=URI;X-ADDRESS=Spectrum Center 333 East Trade Street Charlotte NC 28202 United States;X-APPLE-RADIUS=500;X-TITLE=333 East Trade Street:geo:-80.8393455,35.225193
END:VEVENT
END:VCALENDAR