BEGIN:VCALENDAR
VERSION:2.0
PRODID:-//Find Upcoming Comedy Shows Near You | Comedy Calendar - ECPv6.15.20//NONSGML v1.0//EN
CALSCALE:GREGORIAN
METHOD:PUBLISH
X-WR-CALNAME:Find Upcoming Comedy Shows Near You | Comedy Calendar
X-ORIGINAL-URL:https://comedycalendar.com
X-WR-CALDESC:Events for Find Upcoming Comedy Shows Near You | Comedy Calendar
REFRESH-INTERVAL;VALUE=DURATION:PT1H
X-Robots-Tag:noindex
X-PUBLISHED-TTL:PT1H
BEGIN:VTIMEZONE
TZID:America/Detroit
BEGIN:DAYLIGHT
TZOFFSETFROM:-0500
TZOFFSETTO:-0400
TZNAME:EDT
DTSTART:20250309T070000
END:DAYLIGHT
BEGIN:STANDARD
TZOFFSETFROM:-0400
TZOFFSETTO:-0500
TZNAME:EST
DTSTART:20251102T060000
END:STANDARD
BEGIN:DAYLIGHT
TZOFFSETFROM:-0500
TZOFFSETTO:-0400
TZNAME:EDT
DTSTART:20260308T070000
END:DAYLIGHT
BEGIN:STANDARD
TZOFFSETFROM:-0400
TZOFFSETTO:-0500
TZNAME:EST
DTSTART:20261101T060000
END:STANDARD
BEGIN:DAYLIGHT
TZOFFSETFROM:-0500
TZOFFSETTO:-0400
TZNAME:EDT
DTSTART:20270314T070000
END:DAYLIGHT
BEGIN:STANDARD
TZOFFSETFROM:-0400
TZOFFSETTO:-0500
TZNAME:EST
DTSTART:20271107T060000
END:STANDARD
END:VTIMEZONE
BEGIN:VTIMEZONE
TZID:America/New_York
BEGIN:DAYLIGHT
TZOFFSETFROM:-0500
TZOFFSETTO:-0400
TZNAME:EDT
DTSTART:20250309T070000
END:DAYLIGHT
BEGIN:STANDARD
TZOFFSETFROM:-0400
TZOFFSETTO:-0500
TZNAME:EST
DTSTART:20251102T060000
END:STANDARD
BEGIN:DAYLIGHT
TZOFFSETFROM:-0500
TZOFFSETTO:-0400
TZNAME:EDT
DTSTART:20260308T070000
END:DAYLIGHT
BEGIN:STANDARD
TZOFFSETFROM:-0400
TZOFFSETTO:-0500
TZNAME:EST
DTSTART:20261101T060000
END:STANDARD
BEGIN:DAYLIGHT
TZOFFSETFROM:-0500
TZOFFSETTO:-0400
TZNAME:EDT
DTSTART:20270314T070000
END:DAYLIGHT
BEGIN:STANDARD
TZOFFSETFROM:-0400
TZOFFSETTO:-0500
TZNAME:EST
DTSTART:20271107T060000
END:STANDARD
END:VTIMEZONE
BEGIN:VTIMEZONE
TZID:America/Chicago
BEGIN:DAYLIGHT
TZOFFSETFROM:-0600
TZOFFSETTO:-0500
TZNAME:CDT
DTSTART:20250309T080000
END:DAYLIGHT
BEGIN:STANDARD
TZOFFSETFROM:-0500
TZOFFSETTO:-0600
TZNAME:CST
DTSTART:20251102T070000
END:STANDARD
BEGIN:DAYLIGHT
TZOFFSETFROM:-0600
TZOFFSETTO:-0500
TZNAME:CDT
DTSTART:20260308T080000
END:DAYLIGHT
BEGIN:STANDARD
TZOFFSETFROM:-0500
TZOFFSETTO:-0600
TZNAME:CST
DTSTART:20261101T070000
END:STANDARD
BEGIN:DAYLIGHT
TZOFFSETFROM:-0600
TZOFFSETTO:-0500
TZNAME:CDT
DTSTART:20270314T080000
END:DAYLIGHT
BEGIN:STANDARD
TZOFFSETFROM:-0500
TZOFFSETTO:-0600
TZNAME:CST
DTSTART:20271107T070000
END:STANDARD
END:VTIMEZONE
BEGIN:VEVENT
DTSTART;TZID=America/Detroit:20260417T193000
DTEND;TZID=America/Detroit:20260417T220000
DTSTAMP:20260422T175052
CREATED:20260327T220000Z
LAST-MODIFIED:20260327T220000Z
UID:10004272-1776454200-1776463200@comedycalendar.com
SUMMARY:Kathleen Madigan: The Day Drinking Tour LIVE at GLC Live at 20 Monroe
DESCRIPTION:Official TicketsResale Tickets \nAbout the Performer\nKathleen Madigan is one of America’s most beloved stand-up comedians\, with a career spanning over three decades. Known for her razor-sharp wit\, relatable storytelling\, and effortless delivery\, she has become a staple of the comedy world with multiple Comedy Central specials and Netflix appearances. \nHer comedy draws from real life — family dynamics\, travel mishaps\, politics\, and the absurdity of everyday existence. Kathleen’s style is conversational and warm\, yet packed with clever observations that leave audiences in stitches. She’s been called one of the best stand-ups working today by critics and peers alike. \nThe Day Drinking Tour is her latest run of shows\, and Grand Rapids fans are in for a treat. This is a rare opportunity to see a true comedy legend up close at an intimate venue. \nEvent Details\n\nDate: Friday\, April 17\, 2026\nTime: 7:30 PM\nVenue: GLC Live at 20 Monroe\, 11 Ottawa Avenue Northwest\, Grand Rapids\, MI 49503\nAge Restriction: 18+ (check venue for details)\nTicket Price Range: Starting at $45+\n\nAbout the Venue\nGLC Live at 20 Monroe is Grand Rapids’ go-to mid-size entertainment venue\, nestled in the vibrant downtown core. With a capacity of around 2\,000\, it strikes the perfect balance between an intimate club feel and a full-scale concert experience. \nThe venue offers multiple seating tiers — floor\, lower mezzanine\, mid mezzanine\, and upper mezzanine — so every seat has a great view of the stage. The acoustics are excellent\, and the bar service is fast and friendly. Parking is available in nearby downtown garages\, and the venue is surrounded by great dining options for a pre-show dinner. \nGLC Live at 20 Monroe is operated by Live Nation and consistently ranks among the best mid-size venues in Michigan. It’s a comfortable\, well-run space that comedy fans will love. \nWhat to Expect\nKathleen Madigan delivers a masterclass in stand-up comedy every time she takes the stage. Expect a full headline set packed with her signature storytelling\, sharp political commentary\, and hilarious personal anecdotes. \nHer shows are known for being polished yet spontaneous\, with Kathleen often riffing on current events and crowd reactions. The show typically runs 75–90 minutes and is appropriate for adult audiences. Doors open approximately one hour before showtime. \nThis is a Friday night show\, making it a perfect start to the weekend. Grab your tickets early — Kathleen Madigan shows sell out fast. \nTicket Information\nTickets start at $45+ and are available through Ticketmaster (official) and VividSeats (resale). Prices vary by seat location and availability. \nOfficial TicketsResale Tickets \nThis post contains affiliate links. We may earn a commission at no extra cost to you.
URL:https://comedycalendar.com/event/kathleen-madigan-the-day-drinking-tour-live-at-glc-live-at-monroe-2/
LOCATION:GLC Live at 20 Monroe\, 11 Ottawa Avenue Northwest\, Grand Rapids\, Michigan\, 49503\, United States
ATTACH;FMTTYPE=image/jpeg:https://media.ticketmaster.com/en-us/dam/a/7d5/3153ae11-a8a1-401b-8548-a181700b57d5_CUSTOM.jpg
GEO:42.9636503;-85.6721818
X-APPLE-STRUCTURED-LOCATION;VALUE=URI;X-ADDRESS=GLC Live at 20 Monroe 11 Ottawa Avenue Northwest Grand Rapids Michigan 49503 United States;X-APPLE-RADIUS=500;X-TITLE=11 Ottawa Avenue Northwest:geo:-85.6721818,42.9636503
END:VEVENT
BEGIN:VEVENT
DTSTART;TZID=America/Detroit:20260417T193000
DTEND;TZID=America/Detroit:20260417T213000
DTSTAMP:20260422T175052
CREATED:20260327T200000Z
LAST-MODIFIED:20260327T200000Z
UID:10004265-1776454200-1776461400@comedycalendar.com
SUMMARY:Kathleen Madigan: The Day Drinking Tour LIVE at GLC Live at 20 Monroe
DESCRIPTION:Official TicketsResale Tickets \nThis post contains affiliate links. We may earn a commission at no extra cost to you. \nAbout Kathleen Madigan\nKathleen Madigan is one of the most beloved stand-up comedians in America\, with a career spanning over three decades. Known for her sharp\, observational humor and her ability to find comedy in everyday life\, Madigan has become a household name through her numerous Comedy Central specials\, Netflix appearances\, and her long-running friendship and touring partnership with Lewis Black. \nHer comedy style is warm\, relatable\, and razor-sharp — she tackles topics ranging from her large Irish-Catholic family to politics\, travel\, and the absurdities of modern life. Madigan has a gift for making audiences feel like they’re hanging out with a hilarious friend rather than watching a performance. \nThe Day Drinking Tour is her latest nationwide run\, and Grand Rapids is one of the lucky stops. This is a must-see show for fans of smart\, accessible stand-up comedy. \nEvent Details\nDate: Friday\, April 17\, 2026 \nTime: 7:30 PM \nVenue: GLC Live at 20 Monroe\, 11 Ottawa Avenue Northwest\, Grand Rapids\, MI 49503 \nAge Restriction: All ages (content may be mature) \nTicket Prices: Starting from $45 \nAbout GLC Live at 20 Monroe\nGLC Live at 20 Monroe is Grand Rapids’ premier mid-size entertainment venue\, located in the heart of downtown at 11 Ottawa Avenue NW. With a capacity of approximately 2\,000\, it provides an intimate setting where every audience member feels connected to the performer on stage. \nThe venue features a general admission floor\, reserved seating tiers\, multiple full-service bars\, and top-tier sound and lighting. The Vanguard Lounge provides an exclusive VIP experience for those looking to upgrade their evening. Parking is available in nearby downtown structures\, and the venue is easily walkable from downtown hotels and restaurants. \nGLC Live at 20 Monroe is consistently recognized as one of Michigan’s best live entertainment venues\, making it the ideal backdrop for a night of world-class comedy. \nWhat to Expect\nThis is a solo headline stand-up show featuring Kathleen Madigan performing her full set. Expect approximately 75–90 minutes of sharp\, hilarious comedy that blends personal anecdotes\, political observations\, and Madigan’s signature storytelling style. \nVIP add-ons including Vanguard Lounge Access and Fast Lane Entry are available through Ticketmaster. Arrive early to grab a drink and settle in before the show begins. This is a Friday night show\, so plan for a fun evening out in downtown Grand Rapids. \nTicket Information\nPrice Range: Starting from $45 (fees may apply) \nSecure your seats through the official Ticketmaster link or find resale tickets through VividSeats for flexible options. \nOfficial TicketsResale Tickets
URL:https://comedycalendar.com/event/kathleen-madigan-the-day-drinking-tour-live-at-glc-live-at-monroe/
LOCATION:GLC Live at 20 Monroe\, 11 Ottawa Avenue Northwest\, Grand Rapids\, Michigan\, 49503\, United States
ATTACH;FMTTYPE=image/jpeg:https://comedycalendar.com/wp-content/uploads/2026/03/3153ae11-a8a1-401b-8548-a181700b57d5_CUSTOM-hKqENi.jpg
GEO:42.9636503;-85.6721818
X-APPLE-STRUCTURED-LOCATION;VALUE=URI;X-ADDRESS=GLC Live at 20 Monroe 11 Ottawa Avenue Northwest Grand Rapids Michigan 49503 United States;X-APPLE-RADIUS=500;X-TITLE=11 Ottawa Avenue Northwest:geo:-85.6721818,42.9636503
END:VEVENT
BEGIN:VEVENT
DTSTART;TZID=America/New_York:20260327T200000
DTEND;TZID=America/New_York:20260327T220000
DTSTAMP:20260422T175052
CREATED:20260223T200000Z
LAST-MODIFIED:20260310T160550Z
UID:10002490-1774641600-1774648800@comedycalendar.com
SUMMARY:Kathleen Madigan LIVE at Fred Kavli Theatre
DESCRIPTION:This post contains affiliate links. We earn a commission if you purchase tickets through our links at no extra cost to you. \nOfficial Tickets (Ticketmaster) \nResale Tickets (VividSeats) \nKathleen Madigan LIVE at Fred Kavli Theatre\nKathleen Madigan brings her hilarious “Day Drinking Tour” to the Fred Kavli Theatre in Thousand Oaks. This accomplished stand-up comedian is known for her sharp wit\, observational humor\, and engaging stage presence that keeps audiences laughing throughout her performance. \nEvent Details\nDate: Friday\, March 27\, 2026 \nTime: 8:00 PM \nVenue: Fred Kavli Theatre – Bank of America Performing Arts Center \nAddress: 2100 E. Thousand Oaks Boulevard\, Thousand Oaks\, CA 91362 \nAbout Kathleen Madigan\nKathleen Madigan is an accomplished stand-up comedian known for her sharp observational humor and engaging stage presence. She has performed on numerous television shows and comedy specials\, building a loyal fanbase with her unique comedic perspective and relatable material. \nWhat to Expect\n\nHigh-energy stand-up comedy performance\nSharp\, observational humor\nEngaging stage presence\nProfessional comedy experience\nHilarious “Day Drinking Tour” material\nAudience interaction and laughter\n\nVenue Information\nThe Fred Kavli Theatre is part of the Bank of America Performing Arts Center in Thousand Oaks\, California. This premier venue hosts a variety of performances including comedy\, theater\, and music events\, offering a comfortable and professional setting for live entertainment. \nTicket Information\nTickets start at $56 plus fees through both Ticketmaster and VividSeats. This is a professional theater venue with assigned seating. Doors typically open 30 minutes before showtime. \nOfficial Tickets (Ticketmaster) \nResale Tickets (VividSeats) \nThis post contains affiliate links. We earn a commission if you purchase tickets through our links at no extra cost to you. \nAll sales are final. Show times subject to change. Valid photo ID may be required for entry.
URL:https://comedycalendar.com/event/kathleen-madigan-live-at-fred-kavli-theatre/
LOCATION:Fred Kavli Theatre- B of A Performing Arts Center\,Thousand Oaks\, 2100 E. Thousand Oaks\, Thousand Oaks\, CA\, 91362\, United States
CATEGORIES:Stand Up Comedy
ATTACH;FMTTYPE=image/jpeg:https://media.ticketmaster.com/en-us/dam/a/7d5/3153ae11-a8a1-401b-8548-a181700b57d5_CUSTOM.jpg
GEO:34.1755067;-118.8477088
X-APPLE-STRUCTURED-LOCATION;VALUE=URI;X-ADDRESS=Fred Kavli Theatre- B of A Performing Arts CenterThousand Oaks 2100 E. Thousand Oaks Thousand Oaks CA 91362 United States;X-APPLE-RADIUS=500;X-TITLE=2100 E. Thousand Oaks:geo:-118.8477088,34.1755067
END:VEVENT
BEGIN:VEVENT
DTSTART;TZID=America/Chicago:20260321T190000
DTEND;TZID=America/Chicago:20260321T213000
DTSTAMP:20260422T175052
CREATED:20260316T000000Z
LAST-MODIFIED:20260319T201751Z
UID:10003072-1774119600-1774128600@comedycalendar.com
SUMMARY:Kathleen Madigan: The Day Drinking Tour LIVE at Will Rogers Auditorium
DESCRIPTION:Official TicketsResale Tickets \nThis post contains affiliate links. We may earn a commission at no extra cost to you. \nAbout the Performer\nKathleen Madigan is one of America’s most celebrated stand-up comedians\, known for her razor-sharp wit\, hilarious storytelling\, and effortlessly relatable humor about family\, politics\, and everyday life. \nWith over 30 years on the road\, Kathleen has become a household name in comedy. She has appeared on The Tonight Show\, Late Night with Conan O’Brien\, and has released multiple acclaimed stand-up specials on Netflix and Comedy Central. \nHer “Day Drinking Tour” promises an evening of her signature no-nonsense\, laugh-out-loud comedy that has made her one of the most beloved performers in the business. \nEvent Details\nDate: Saturday\, March 21\, 2026 \nTime: 7:00 PM \nVenue: Will Rogers Auditorium\, 3401 W Lancaster Ave\, Fort Worth\, TX 76107 \nTicket Price Range: $45 – $85 \nAbout the Venue\nWill Rogers Auditorium is a historic and iconic venue located within the Will Rogers Memorial Center complex in Fort Worth\, Texas. Built in 1936\, the auditorium has hosted countless legendary performers and remains one of the most beloved entertainment venues in the DFW area. \nThe venue seats approximately 2\,800 guests and features excellent acoustics\, comfortable seating\, and a grand atmosphere that makes every show feel like a special occasion. Its Art Deco architecture adds a timeless elegance to the experience. \nLocated at 3401 W Lancaster Ave\, Fort Worth\, TX\, the venue is easily accessible from downtown Fort Worth and Dallas\, with parking available on-site and in surrounding lots. \nWhat to Expect\nKathleen Madigan’s “Day Drinking Tour” is a full evening of stand-up comedy featuring her signature blend of sharp political commentary\, family stories\, and laugh-out-loud observations about modern life. \nExpect a polished\, high-energy performance from one of comedy’s true veterans. Kathleen’s shows are known for their warmth\, intelligence\, and the kind of humor that resonates with audiences of all ages. \nDoors open prior to showtime — arrive early to find your seats and settle in for a memorable night of comedy. \nTicket Information\nTickets range from $45 to $85 depending on seating section. Purchase official tickets on Ticketmaster or find resale options on VividSeats. \nOfficial TicketsResale Tickets
URL:https://comedycalendar.com/event/kathleen-madigan-the-day-drinking-tour-live-at-will-rogers-auditorium/
LOCATION:Will Rogers Auditorium\, 3401 W Lancaster Ave\, Fort Worth\, TX\, 76107\, United States
CATEGORIES:Headliner,Stand Up Comedy
ATTACH;FMTTYPE=image/jpeg:https://media.ticketmaster.com/en-us/dam/a/7d5/3153ae11-a8a1-401b-8548-a181700b57d5_CUSTOM.jpg
GEO:32.7456671;-97.3665117
X-APPLE-STRUCTURED-LOCATION;VALUE=URI;X-ADDRESS=Will Rogers Auditorium 3401 W Lancaster Ave Fort Worth TX 76107 United States;X-APPLE-RADIUS=500;X-TITLE=3401 W Lancaster Ave:geo:-97.3665117,32.7456671
END:VEVENT
BEGIN:VEVENT
DTSTART;TZID=America/Chicago:20260320T193000
DTEND;TZID=America/Chicago:20260320T213000
DTSTAMP:20260422T175052
CREATED:20260317T210000Z
LAST-MODIFIED:20260319T201814Z
UID:10003268-1774035000-1774042200@comedycalendar.com
SUMMARY:Kathleen Madigan: The Day Drinking Tour LIVE at 713 Music Hall
DESCRIPTION:Official TicketsResale Tickets \nThis post contains affiliate links. We may earn a commission at no extra cost to you. \nAbout the Performer\nKathleen Madigan is one of the most beloved stand-up comedians in America\, with a career spanning over three decades. Known for her razor-sharp wit\, effortless storytelling\, and hilarious takes on family\, politics\, and everyday life\, Kathleen has become a perennial favorite on the comedy circuit. \nShe has appeared on The Tonight Show\, Late Night with Conan O’Brien\, and has released multiple acclaimed stand-up specials on Netflix and Comedy Central. Her “Day Drinking Tour” promises all the laughs fans have come to expect — and then some. \nEvent Details\nDate: Friday\, March 20\, 2026\nTime: 7:30 PM\nVenue: 713 Music Hall\nAddress: 401 Franklin St Suite 1600\, Houston\, TX 77201\nTicket Price Range: $45 – $85 \nAbout the Venue\n713 Music Hall is one of Houston’s premier entertainment venues\, located in the heart of downtown at 401 Franklin Street. Named after Houston’s iconic area code\, the venue is a stunning blend of modern design and Texas character\, with a capacity of approximately 4\,000 guests. \nThe venue features multiple bars\, premium lounge areas including the Kashmere Lounge\, and excellent acoustics designed for both concerts and comedy. VIP and Premier Parking packages are available\, and the venue is easily accessible from downtown Houston. Add-ons like Fast Lane Access and Pre-Show Passes are available for an enhanced experience. \nWhat to Expect\nKathleen Madigan’s “Day Drinking Tour” is a full headline stand-up show featuring her signature blend of self-deprecating humor\, sharp political observations\, and hilarious family stories. Expect a polished\, professional performance from one of the most consistent headliners in the business. \nThe show runs approximately 90 minutes. Kathleen’s comedy is clean enough for a wide audience but sharp enough to keep even the most seasoned comedy fans engaged. This is a must-see show for anyone who appreciates masterful storytelling and genuine comedic craft. \nTicket Information\nPrice Range: $45 – $85 (plus fees)\nTickets are available through Ticketmaster (official) and VividSeats (resale). \nOfficial TicketsResale Tickets
URL:https://comedycalendar.com/event/kathleen-madigan-the-day-drinking-tour-live-at-music-hall/
LOCATION:713 Music Hall\, 401 Franklin St Suite 1600\, Houston\, TX\, 77201\, United States
CATEGORIES:Headliner,Stand Up Comedy
ATTACH;FMTTYPE=image/jpeg:https://s1.ticketm.net/dam/a/7d5/3153ae11-a8a1-401b-8548-a181700b57d5_EVENT_DETAIL_PAGE_16_9.jpg?auto=format,compress
GEO:29.7662149;-95.3648839
X-APPLE-STRUCTURED-LOCATION;VALUE=URI;X-ADDRESS=713 Music Hall 401 Franklin St Suite 1600 Houston TX 77201 United States;X-APPLE-RADIUS=500;X-TITLE=401 Franklin St Suite 1600:geo:-95.3648839,29.7662149
END:VEVENT
END:VCALENDAR