BEGIN:VCALENDAR
VERSION:2.0
PRODID:-//Find Upcoming Comedy Shows Near You | Comedy Calendar - ECPv6.15.20//NONSGML v1.0//EN
CALSCALE:GREGORIAN
METHOD:PUBLISH
X-WR-CALNAME:Find Upcoming Comedy Shows Near You | Comedy Calendar
X-ORIGINAL-URL:https://comedycalendar.com
X-WR-CALDESC:Events for Find Upcoming Comedy Shows Near You | Comedy Calendar
REFRESH-INTERVAL;VALUE=DURATION:PT1H
X-Robots-Tag:noindex
X-PUBLISHED-TTL:PT1H
BEGIN:VTIMEZONE
TZID:America/New_York
BEGIN:DAYLIGHT
TZOFFSETFROM:-0500
TZOFFSETTO:-0400
TZNAME:EDT
DTSTART:20250309T070000
END:DAYLIGHT
BEGIN:STANDARD
TZOFFSETFROM:-0400
TZOFFSETTO:-0500
TZNAME:EST
DTSTART:20251102T060000
END:STANDARD
BEGIN:DAYLIGHT
TZOFFSETFROM:-0500
TZOFFSETTO:-0400
TZNAME:EDT
DTSTART:20260308T070000
END:DAYLIGHT
BEGIN:STANDARD
TZOFFSETFROM:-0400
TZOFFSETTO:-0500
TZNAME:EST
DTSTART:20261101T060000
END:STANDARD
BEGIN:DAYLIGHT
TZOFFSETFROM:-0500
TZOFFSETTO:-0400
TZNAME:EDT
DTSTART:20270314T070000
END:DAYLIGHT
BEGIN:STANDARD
TZOFFSETFROM:-0400
TZOFFSETTO:-0500
TZNAME:EST
DTSTART:20271107T060000
END:STANDARD
END:VTIMEZONE
BEGIN:VTIMEZONE
TZID:America/Los_Angeles
BEGIN:DAYLIGHT
TZOFFSETFROM:-0800
TZOFFSETTO:-0700
TZNAME:PDT
DTSTART:20250309T100000
END:DAYLIGHT
BEGIN:STANDARD
TZOFFSETFROM:-0700
TZOFFSETTO:-0800
TZNAME:PST
DTSTART:20251102T090000
END:STANDARD
BEGIN:DAYLIGHT
TZOFFSETFROM:-0800
TZOFFSETTO:-0700
TZNAME:PDT
DTSTART:20260308T100000
END:DAYLIGHT
BEGIN:STANDARD
TZOFFSETFROM:-0700
TZOFFSETTO:-0800
TZNAME:PST
DTSTART:20261101T090000
END:STANDARD
BEGIN:DAYLIGHT
TZOFFSETFROM:-0800
TZOFFSETTO:-0700
TZNAME:PDT
DTSTART:20270314T100000
END:DAYLIGHT
BEGIN:STANDARD
TZOFFSETFROM:-0700
TZOFFSETTO:-0800
TZNAME:PST
DTSTART:20271107T090000
END:STANDARD
END:VTIMEZONE
BEGIN:VEVENT
DTSTART;TZID=America/New_York:20260716T200000
DTEND;TZID=America/New_York:20260716T220000
DTSTAMP:20260423T224719
CREATED:20260314T180000Z
LAST-MODIFIED:20260314T180000Z
UID:10002881-1784232000-1784239200@comedycalendar.com
SUMMARY:Joey Avery LIVE at Punch Line Comedy Club San Francisco
DESCRIPTION:Official TicketsResale Tickets \nAbout the Performer\nJoey Avery is a standout stand-up comedian celebrated for his sharp wit\, magnetic stage presence\, and ability to connect with audiences through honest\, hilarious storytelling. His comedy draws from real-life experiences\, delivering laughs with a warmth and authenticity that keeps crowds coming back for more. \nAvery recently released his debut comedy special Live in San Francisco\, which was met with widespread acclaim and introduced him to a national audience. His material is clever\, well-crafted\, and delivered with the kind of confident ease that only comes from years of honing his craft on stages across the country. \nCatching Joey Avery live is a treat — his shows are energetic\, personal\, and packed with the kind of comedy that leaves you quoting lines on the drive home. Don’t miss your chance to see him at one of San Francisco’s premier comedy clubs. \nEvent Details\nDate: Thursday\, July 16\, 2026 (also Fri July 17 & Sat July 18)\nTime: 8:00 PM PDT (Thu) | 7:30 PM & 9:45 PM (Fri) | 7:00 PM & 9:15 PM (Sat)\nVenue: Punch Line Comedy Club – San Francisco\, 444 Battery Street\, San Francisco\, CA 94111\nAge Restriction: 18+ / 2 Beverage Minimum\nTicket Price Range: $32 – $52 \nAbout the Venue\nPunch Line Comedy Club – San Francisco is one of the most legendary comedy venues in the country\, located at 444 Battery Street in the heart of the Financial District. Since opening in 1978\, Punch Line has been the launching pad for some of the biggest names in comedy\, including Robin Williams\, Ellen DeGeneres\, and Jerry Seinfeld. \nThe club seats approximately 300 guests in a cozy\, table-and-chair setup that creates an intimate atmosphere perfect for stand-up comedy. A full bar and food menu are available throughout the show\, and the staff is known for their attentive\, friendly service. \nThe venue is conveniently located near public transit and within walking distance of several parking garages. Whether you’re a first-time visitor or a regular\, Punch Line delivers a world-class comedy experience every single night. \nWhat to Expect\nJoey Avery performs multiple shows across the weekend of July 16–18\, giving you several opportunities to catch this rising star live. Each show is a full stand-up set featuring his best material\, delivered with the energy and precision that has made him one of the most talked-about comedians on the circuit. \nThe 18+ age restriction and 2-beverage minimum are in effect for all shows. Doors open approximately 30–45 minutes before showtime — arrive early to secure a great seat and enjoy a pre-show drink. \nTicket Information\nPrice Range: $32 – $52 (before taxes and fees)\nTickets are available through Ticketmaster (official) and VividSeats (resale). \nOfficial TicketsResale Tickets \nThis post contains affiliate links. We may earn a commission at no extra cost to you.
URL:https://comedycalendar.com/event/joey-avery-live-at-punch-line-comedy-club-san-francisco/
LOCATION:Punch Line Comedy Club – San Francisco\, 444 Battery Street\, San Francisco\, California\, 94111\, United States Of America
ATTACH;FMTTYPE=image/jpeg:https://media.ticketmaster.com/en-us/dam/a/110/92fc9dde-d495-4d5f-a295-e594e797b110_CUSTOM.jpg
GEO:37.795486;-122.4001359
X-APPLE-STRUCTURED-LOCATION;VALUE=URI;X-ADDRESS=Punch Line Comedy Club – San Francisco 444 Battery Street San Francisco California 94111 United States Of America;X-APPLE-RADIUS=500;X-TITLE=444 Battery Street:geo:-122.4001359,37.795486
END:VEVENT
BEGIN:VEVENT
DTSTART;TZID=America/Los_Angeles:20260719T190000
DTEND;TZID=America/Los_Angeles:20260719T210000
DTSTAMP:20260423T224719
CREATED:20260325T040000Z
LAST-MODIFIED:20260325T040000Z
UID:10003940-1784487600-1784494800@comedycalendar.com
SUMMARY:Joey Avery LIVE at Punch Line Comedy Club Sacramento
DESCRIPTION:Official TicketsResale Tickets \nAbout Joey Avery\nJoey Avery is a stand-up comedian known for his energetic delivery\, sharp observations\, and engaging crowd work. His comedy blends personal storytelling with clever cultural commentary\, delivered with a charismatic style that keeps audiences laughing from start to finish. \nHe has performed at comedy clubs and festivals across the country\, building a dedicated fanbase through his relatable and consistently funny material. Fans can expect a high-energy\, entertaining evening of stand-up comedy. \nEvent Details\nDate: Sunday\, July 19\, 2026\nTime: 7:00 PM (Doors open at 6:00 PM)\nVenue: Punch Line Comedy Club – Sacramento\nAddress: 2100 Arden Way\, Sacramento\, CA 95825\nAge Restriction: 18+ / 2 Beverage Minimum \nAbout the Venue\nPunch Line Comedy Club Sacramento is Northern California’s most celebrated comedy destination. Located at 2100 Arden Way\, this intimate club has been a cornerstone of the Sacramento comedy scene for decades\, hosting legends and rising stars alike. \nThe venue features general admission and preferred premium seating\, a full bar\, and the classic two-drink minimum. The cozy room ensures every audience member gets an up-close\, personal experience. Parking is available in the adjacent shopping center lot. \nWhat to Expect\nThis is a solo headline stand-up performance by Joey Avery. Expect a fun\, high-energy evening of stand-up comedy with sharp observations and engaging crowd interaction. Shows run approximately 75–90 minutes. The 18+ policy and beverage minimum are in effect. \nTicket Information\nTickets range from approximately $52 – $75 (all-in pricing\, fees included before taxes). \nOfficial TicketsResale Tickets \nThis post contains affiliate links. We may earn a commission at no extra cost to you.
URL:https://comedycalendar.com/event/joey-avery-live-at-punch-line-comedy-club-sacramento/
LOCATION:Punch Line Comedy Club – Sacramento\, 2100 Arden Way\, Sacramento\, California\, 95825\, United States Of America
ATTACH;FMTTYPE=image/jpeg:https://comedycalendar.com/wp-content/uploads/2026/03/92fc9dde-d495-4d5f-a295-e594e797b110_CUSTOM-sIq7d4.jpg
GEO:38.5943776;-121.4160953
X-APPLE-STRUCTURED-LOCATION;VALUE=URI;X-ADDRESS=Punch Line Comedy Club – Sacramento 2100 Arden Way Sacramento California 95825 United States Of America;X-APPLE-RADIUS=500;X-TITLE=2100 Arden Way:geo:-121.4160953,38.5943776
END:VEVENT
END:VCALENDAR