BEGIN:VCALENDAR
VERSION:2.0
PRODID:-//Find Upcoming Comedy Shows Near You | Comedy Calendar - ECPv6.15.20//NONSGML v1.0//EN
CALSCALE:GREGORIAN
METHOD:PUBLISH
X-WR-CALNAME:Find Upcoming Comedy Shows Near You | Comedy Calendar
X-ORIGINAL-URL:https://comedycalendar.com
X-WR-CALDESC:Events for Find Upcoming Comedy Shows Near You | Comedy Calendar
REFRESH-INTERVAL;VALUE=DURATION:PT1H
X-Robots-Tag:noindex
X-PUBLISHED-TTL:PT1H
BEGIN:VTIMEZONE
TZID:America/Los_Angeles
BEGIN:DAYLIGHT
TZOFFSETFROM:-0800
TZOFFSETTO:-0700
TZNAME:PDT
DTSTART:20250309T100000
END:DAYLIGHT
BEGIN:STANDARD
TZOFFSETFROM:-0700
TZOFFSETTO:-0800
TZNAME:PST
DTSTART:20251102T090000
END:STANDARD
BEGIN:DAYLIGHT
TZOFFSETFROM:-0800
TZOFFSETTO:-0700
TZNAME:PDT
DTSTART:20260308T100000
END:DAYLIGHT
BEGIN:STANDARD
TZOFFSETFROM:-0700
TZOFFSETTO:-0800
TZNAME:PST
DTSTART:20261101T090000
END:STANDARD
BEGIN:DAYLIGHT
TZOFFSETFROM:-0800
TZOFFSETTO:-0700
TZNAME:PDT
DTSTART:20270314T100000
END:DAYLIGHT
BEGIN:STANDARD
TZOFFSETFROM:-0700
TZOFFSETTO:-0800
TZNAME:PST
DTSTART:20271107T090000
END:STANDARD
END:VTIMEZONE
BEGIN:VTIMEZONE
TZID:America/Chicago
BEGIN:DAYLIGHT
TZOFFSETFROM:-0600
TZOFFSETTO:-0500
TZNAME:CDT
DTSTART:20250309T080000
END:DAYLIGHT
BEGIN:STANDARD
TZOFFSETFROM:-0500
TZOFFSETTO:-0600
TZNAME:CST
DTSTART:20251102T070000
END:STANDARD
BEGIN:DAYLIGHT
TZOFFSETFROM:-0600
TZOFFSETTO:-0500
TZNAME:CDT
DTSTART:20260308T080000
END:DAYLIGHT
BEGIN:STANDARD
TZOFFSETFROM:-0500
TZOFFSETTO:-0600
TZNAME:CST
DTSTART:20261101T070000
END:STANDARD
BEGIN:DAYLIGHT
TZOFFSETFROM:-0600
TZOFFSETTO:-0500
TZNAME:CDT
DTSTART:20270314T080000
END:DAYLIGHT
BEGIN:STANDARD
TZOFFSETFROM:-0500
TZOFFSETTO:-0600
TZNAME:CST
DTSTART:20271107T070000
END:STANDARD
END:VTIMEZONE
BEGIN:VEVENT
DTSTART;TZID=America/Los_Angeles:20260411T190000
DTEND;TZID=America/Los_Angeles:20260411T210000
DTSTAMP:20260420T154425
CREATED:20260319T230000Z
LAST-MODIFIED:20260319T230000Z
UID:10003414-1775934000-1775941200@comedycalendar.com
SUMMARY:Jim Jefferies: Son Of A Carpenter LIVE at Moore Theatre
DESCRIPTION:Official TicketsResale Tickets \nAbout the Performer\nJim Jefferies is one of the most fearless and celebrated stand-up comedians working today. The Australian-born comedian has built a massive global following through his raw\, unfiltered humor\, brilliant storytelling\, and willingness to tackle subjects that other comedians won’t touch. His stand-up specials — including Bare\, Alcoholocaust\, and BARE — have become cult classics among comedy fans worldwide. \nKnown for his sharp wit\, dark humor\, and deeply personal storytelling\, Jefferies has also found success on television with his Comedy Central series The Jim Jefferies Show\, where he brought his signature satirical approach to current events and politics. His comedy is bold\, honest\, and consistently hilarious — the kind of stand-up that makes you laugh and think in equal measure. \nSon Of A Carpenter is Jefferies’ latest tour\, featuring a brand-new hour of comedy. With a name like that\, you already know it’s going to be something special — personal\, provocative\, and packed with the kind of laughs only Jim Jefferies can deliver. \nEvent Details\n\nDate: Saturday\, April 11\, 2026\nShow Time: 7:00 PM\nDoors Open: 6:00 PM\nVenue: Moore Theatre\, 1932 2nd Ave\, Seattle\, WA 98101\nSeating: Reserved Floor & 1st Balcony\, General Admission 2nd Balcony\nAge Policy: All Ages\nParking: Moore Theatre Parking available\n\nAbout the Venue\nThe Moore Theatre is Seattle’s oldest operating theater\, a stunning National Historic Landmark located in the heart of Belltown at 1932 2nd Ave. Built in 1907\, the Moore has hosted legends of entertainment for over a century and remains one of the Pacific Northwest’s most beloved performance venues. \nThe theater seats approximately 1\,800 guests across its main floor\, first balcony (reserved seating)\, and second balcony (general admission). The ornate interior features gorgeous historic architecture\, excellent acoustics\, and a warm\, intimate atmosphere that makes every show feel special. \nThe Moore is conveniently located in Belltown\, steps from downtown Seattle. Street parking and paid parking garages are available throughout the neighborhood\, including the Moore Theatre Parking garage. The venue is also accessible via Seattle Metro bus routes and is a short walk from the Westlake light rail station. \nWhat to Expect\nSon Of A Carpenter is Jim Jefferies at his most personal and provocative — a brand-new hour of stand-up comedy that showcases why he remains one of the most compelling voices in comedy today. Expect raw\, unfiltered humor\, brilliant storytelling\, and the kind of fearless comedy that has made Jefferies a legend. \nJefferies’ live shows are known for their electric atmosphere and the sense that anything could happen. His ability to connect with audiences through honest\, sometimes uncomfortable humor creates a shared experience that is unlike any other comedy show. \nThis is a reserved and general admission show at one of Seattle’s most historic venues. Arrive early to find your seats and enjoy the beautiful Moore Theatre atmosphere before the show begins. Note: Jim Jefferies’ material is intended for mature audiences. \nTicket Information\nTickets for Jim Jefferies: Son Of A Carpenter at Moore Theatre are available now. Prices range from $45 to $95 depending on seat selection. \n\nOfficial Tickets: Purchase directly through Ticketmaster for guaranteed authentic tickets.\nResale Tickets: Find deals on resale tickets through VividSeats.\n\nOfficial TicketsResale Tickets \nThis post contains affiliate links. We may earn a commission at no extra cost to you.
URL:https://comedycalendar.com/event/jim-jefferies-son-of-a-carpenter-live-at-moore-theatre/
LOCATION:Moore Theatre\, 1932 2nd Ave\, Seattle\, Washington\, 98101\, United States
CATEGORIES:Showcase
ATTACH;FMTTYPE=image/jpeg:https://comedycalendar.com/wp-content/uploads/2026/03/fa9caa1f-73a1-411e-b507-ec56fa59650a_106061_EVENT_DETAIL_PAGE_16_9-79hkRX.jpg
GEO:47.6116719;-122.3413742
X-APPLE-STRUCTURED-LOCATION;VALUE=URI;X-ADDRESS=Moore Theatre 1932 2nd Ave Seattle Washington 98101 United States;X-APPLE-RADIUS=500;X-TITLE=1932 2nd Ave:geo:-122.3413742,47.6116719
END:VEVENT
BEGIN:VEVENT
DTSTART;TZID=America/Chicago:20260327T190000
DTEND;TZID=America/Chicago:20260327T210000
DTSTAMP:20260420T154425
CREATED:20260315T040000Z
LAST-MODIFIED:20260317T001354Z
UID:10003171-1774638000-1774645200@comedycalendar.com
SUMMARY:Jim Jefferies: Son Of A Carpenter LIVE at Majestic Theatre Dallas
DESCRIPTION:Official TicketsResale Tickets \nThis post contains affiliate links. We may earn a commission at no extra cost to you. \nAbout the Performer\nJim Jefferies is one of the most acclaimed stand-up comedians working today. Born in Australia and now based in the US\, he has built a massive global following with his fearless\, no-holds-barred comedy style that tackles controversial topics with sharp wit and unflinching honesty. \nHe is best known for his Netflix specials including Bare\, Freedumb\, This Is Me Now\, and High & Dry\, as well as his hit FX series Legit and Comedy Central’s The Jim Jefferies Show. His Son Of A Carpenter tour features a brand new hour of material that showcases his evolution as a comedian and storyteller. \nJefferies is known for his raw\, personal\, and often provocative humor that draws from his own life experiences. Fans can expect a masterclass in stand-up comedy from one of the genre’s true heavyweights. \nEvent Details\nDate: Friday\, March 27\, 2026 \nTime: 7:00 PM \nVenue: Majestic Theatre Dallas\, 1925 Elm Street\, Dallas\, TX 75201 \nPrice Range: $39 – $99 \nAbout the Venue\nThe Majestic Theatre Dallas is one of the most iconic and historic performance venues in Texas. Built in 1921\, this stunning theater seats approximately 1\,700 guests and features ornate architecture\, excellent sightlines\, and world-class acoustics that make every show feel special. \nLocated in the heart of downtown Dallas at 1925 Elm Street\, the Majestic is easily accessible and surrounded by great dining and entertainment options. The venue offers reserved seating\, a full bar\, and a truly memorable atmosphere that elevates any live performance. \nParking is available in nearby garages and surface lots throughout downtown Dallas. \nWhat to Expect\nJim Jefferies delivers a full headline stand-up set featuring his brand new Son Of A Carpenter material. This is a solo show — no opener announced — with Jefferies performing a complete hour-plus of new comedy in one of Dallas’s most beautiful historic theaters. \nExpect bold\, personal storytelling\, sharp social commentary\, and the kind of fearless humor that has made Jefferies one of the most talked-about comedians of his generation. This is a must-see show for fans of intelligent\, boundary-pushing stand-up. \nTicket Information\nTickets range from $39 to $99. Purchase official tickets via Ticketmaster or find resale tickets on VividSeats. \nOfficial TicketsResale Tickets
URL:https://comedycalendar.com/event/jim-jefferies-son-of-a-carpenter-live-at-majestic-theatre-dallas/
LOCATION:Majestic Theatre Dallas\, 1925 Elm Street\, Dallas\, TX\, 75201\, United States Of America
CATEGORIES:Headliner,Showcase,Stand Up Comedy
ATTACH;FMTTYPE=image/jpeg:https://media.ticketmaster.com/en-us/dam/a/f37/dbbb9048-32c3-4c40-a5e8-7ab1548f7f37_CUSTOM.jpg
GEO:32.7828019;-96.7950009
X-APPLE-STRUCTURED-LOCATION;VALUE=URI;X-ADDRESS=Majestic Theatre Dallas 1925 Elm Street Dallas TX 75201 United States Of America;X-APPLE-RADIUS=500;X-TITLE=1925 Elm Street:geo:-96.7950009,32.7828019
END:VEVENT
END:VCALENDAR