BEGIN:VCALENDAR
VERSION:2.0
PRODID:-//Find Upcoming Comedy Shows Near You | Comedy Calendar - ECPv6.15.20//NONSGML v1.0//EN
CALSCALE:GREGORIAN
METHOD:PUBLISH
X-WR-CALNAME:Find Upcoming Comedy Shows Near You | Comedy Calendar
X-ORIGINAL-URL:https://comedycalendar.com
X-WR-CALDESC:Events for Find Upcoming Comedy Shows Near You | Comedy Calendar
REFRESH-INTERVAL;VALUE=DURATION:PT1H
X-Robots-Tag:noindex
X-PUBLISHED-TTL:PT1H
BEGIN:VTIMEZONE
TZID:America/New_York
BEGIN:DAYLIGHT
TZOFFSETFROM:-0500
TZOFFSETTO:-0400
TZNAME:EDT
DTSTART:20250309T070000
END:DAYLIGHT
BEGIN:STANDARD
TZOFFSETFROM:-0400
TZOFFSETTO:-0500
TZNAME:EST
DTSTART:20251102T060000
END:STANDARD
BEGIN:DAYLIGHT
TZOFFSETFROM:-0500
TZOFFSETTO:-0400
TZNAME:EDT
DTSTART:20260308T070000
END:DAYLIGHT
BEGIN:STANDARD
TZOFFSETFROM:-0400
TZOFFSETTO:-0500
TZNAME:EST
DTSTART:20261101T060000
END:STANDARD
BEGIN:DAYLIGHT
TZOFFSETFROM:-0500
TZOFFSETTO:-0400
TZNAME:EDT
DTSTART:20270314T070000
END:DAYLIGHT
BEGIN:STANDARD
TZOFFSETFROM:-0400
TZOFFSETTO:-0500
TZNAME:EST
DTSTART:20271107T060000
END:STANDARD
END:VTIMEZONE
BEGIN:VTIMEZONE
TZID:America/Los_Angeles
BEGIN:DAYLIGHT
TZOFFSETFROM:-0800
TZOFFSETTO:-0700
TZNAME:PDT
DTSTART:20250309T100000
END:DAYLIGHT
BEGIN:STANDARD
TZOFFSETFROM:-0700
TZOFFSETTO:-0800
TZNAME:PST
DTSTART:20251102T090000
END:STANDARD
BEGIN:DAYLIGHT
TZOFFSETFROM:-0800
TZOFFSETTO:-0700
TZNAME:PDT
DTSTART:20260308T100000
END:DAYLIGHT
BEGIN:STANDARD
TZOFFSETFROM:-0700
TZOFFSETTO:-0800
TZNAME:PST
DTSTART:20261101T090000
END:STANDARD
BEGIN:DAYLIGHT
TZOFFSETFROM:-0800
TZOFFSETTO:-0700
TZNAME:PDT
DTSTART:20270314T100000
END:DAYLIGHT
BEGIN:STANDARD
TZOFFSETFROM:-0700
TZOFFSETTO:-0800
TZNAME:PST
DTSTART:20271107T090000
END:STANDARD
END:VTIMEZONE
BEGIN:VEVENT
DTSTART;TZID=America/New_York:20260612T190000
DTEND;TZID=America/New_York:20260612T210000
DTSTAMP:20260424T134023
CREATED:20260320T230000Z
LAST-MODIFIED:20260320T230000Z
UID:10003519-1781290800-1781298000@comedycalendar.com
SUMMARY:Jason Cheny LIVE at Punch Line Philly
DESCRIPTION:Official TicketsResale Tickets \nThis post contains affiliate links. We may earn a commission at no extra cost to you. \nAbout Jason Cheny\nJason Cheny is a rising comedian making a name for himself on the national stand-up circuit with his clever\, observational humor and engaging stage presence. Known for his sharp wit and ability to find comedy in the everyday moments of life\, Cheny has been building a loyal fanbase through his touring schedule and online presence. \nCheny’s comedy style is accessible yet intelligent — he has a gift for taking relatable situations and spinning them into hilarious\, unexpected directions. His performances are energetic and polished\, reflecting the work of a comedian who has honed his craft through countless shows across the country. Philadelphia audiences are in for a treat with this Punch Line Philly engagement. \nEvent Details\nDate: Friday\, June 12\, 2026 \nTime: 7:00 PM (Doors open approximately 30 minutes before showtime) \nVenue: Punch Line Philly — 33 E. Laurel Street\, Philadelphia\, PA 19123 \nAge Restriction: 21+ event with a 2-drink minimum \nTicket Prices: Starting from $32 (plus fees) \nAbout Punch Line Philly\nPunch Line Philly is Philadelphia’s most celebrated comedy club\, situated at 33 E. Laurel Street in the Northern Liberties neighborhood. The intimate venue seats around 300 guests and is purpose-built for the best possible stand-up comedy experience. \nThe club offers a full bar and food service\, with a 2-drink minimum per guest. The layout ensures excellent sightlines from every seat\, and the lively atmosphere makes every show feel like a special event. Punch Line Philly has earned its reputation as one of the premier comedy venues on the East Coast\, consistently booking top-tier talent. \nParking is available in nearby lots and on surrounding streets. The venue is accessible via SEPTA public transportation. Arrive early to get settled in and enjoy a drink before the show. \nWhat to Expect\nJason Cheny’s Friday night show at Punch Line Philly is the perfect way to kick off the weekend. Expect a full evening of sharp\, clever stand-up comedy that will keep you laughing from start to finish. Cheny’s engaging stage presence and well-crafted material make for a show that feels both polished and spontaneous. \nThe intimate Punch Line Philly setting creates a wonderful connection between performer and audience\, making this a comedy experience you won’t soon forget. Grab your tickets early — Friday night shows at Punch Line Philly fill up fast. \nTicket Information\nPrice Range: $32 – $50 (plus applicable fees) \nTickets are available through Ticketmaster (official) and VividSeats (resale). Don’t miss Jason Cheny live at Punch Line Philly! \nOfficial TicketsResale Tickets
URL:https://comedycalendar.com/event/jason-cheny-live-at-punch-line-philly/
LOCATION:Punch Line Philly\, 33 E. Laurel Street\, Philadelphia\, PA\, 19123\, United States
ATTACH;FMTTYPE=image/jpeg:https://media.ticketmaster.com/en-us/dam/a/597/a6675b28-8ab7-4b56-956e-e83dbfd4c597_CUSTOM.jpg
GEO:39.9652742;-75.1351879
X-APPLE-STRUCTURED-LOCATION;VALUE=URI;X-ADDRESS=Punch Line Philly 33 E. Laurel Street Philadelphia PA 19123 United States;X-APPLE-RADIUS=500;X-TITLE=33 E. Laurel Street:geo:-75.1351879,39.9652742
END:VEVENT
BEGIN:VEVENT
DTSTART;TZID=America/New_York:20261002T190000
DTEND;TZID=America/New_York:20261002T213000
DTSTAMP:20260424T134023
CREATED:20260424T020000Z
LAST-MODIFIED:20260424T020000Z
UID:10004753-1790967600-1790976600@comedycalendar.com
SUMMARY:Jason Cheny LIVE at Laugh Out Loud Comedy Club
DESCRIPTION:Official TicketsResale Tickets\n\nAbout the Performer\nJason Cheny is a Taiwanese American stand-up comedian based in Los Angeles who has toured all over Asia — including Singapore\, Hong Kong\, and Taiwan — as well as comedy clubs all across the United States. His comedy draws from his unique cultural background and experiences navigating life as a first-generation Asian American. \nJason can be seen on LAUGHS for Fox/Hulu\, and you can stream his comedy album Growing Pains on Spotify and iTunes. His comedy is sharp\, relatable\, and delivered with the kind of self-aware humor that resonates with audiences of all backgrounds. \nWith a growing national profile and a devoted fanbase\, Jason Cheny is one of the most exciting voices in comedy today. Don’t miss your chance to see him live in San Antonio! \nEvent Details\n\nDate: Friday\, October 2\, 2026\nShow Time: 7:00 PM CDT\nDoors Open: 6:00 PM CDT\nVenue: Laugh Out Loud Comedy Club\nAddress: 618 NW Loop 410\, San Antonio\, TX 78216\nAge Restriction: 18+ Event — Valid photo ID required\n\nAbout the Venue\nLaugh Out Loud Comedy Club is San Antonio’s premier stand-up comedy destination\, conveniently located in Park North Plaza at Loop 410 and Blanco — just inside the loop and only a few miles from the airport. \nThe club features a full bar lounge where guests can grab a drink before the show\, and a comfortable showroom with first-come\, first-served seating. Preferred Tables are located center stage for the best views\, while General Admission tables are positioned on the sides and wings. \nThere is a 2-item food or beverage minimum per person once seated\, and an 18% service charge applies to all checks in the showroom. Early arrival is strongly recommended to secure your preferred seating. \nWhat to Expect\nJason Cheny delivers a stand-up show that is equal parts hilarious and heartfelt. His comedy explores the universal experiences of growing up\, navigating cultural identity\, and finding humor in the everyday moments that connect us all. \nThis is a Friday night show at Laugh Out Loud Comedy Club — the perfect way to kick off your weekend with fresh\, exciting comedy from one of the industry’s most promising voices. Jason’s shows are consistently entertaining and leave audiences wanting more. \nGrab your tickets now before they sell out! \nTicket Information\n\nGeneral Admission: $29 (+ fees)\nPreferred Seating: $39 (+ fees)\nOrder Limit: 10 tickets per order\n\n\nOfficial TicketsResale Tickets\n\nThis post contains affiliate links. We earn a commission if you purchase tickets through our links at no extra cost to you. \nAll sales are final. Show times subject to change. Valid photo ID may be required for entry.
URL:https://comedycalendar.com/event/jason-cheny-live-at-laugh-out-loud-comedy-club/
LOCATION:Laugh Out Loud Comedy Club\, 618 Northwest Loop 410\, San Antonio\, TX\, 78216\, USA
CATEGORIES:up Comedy
ATTACH;FMTTYPE=image/jpeg:https://i.ticketweb.com/i/00/13/43/10/63_Edp.jpg?v=8
GEO:29.5193054;-98.5060363
X-APPLE-STRUCTURED-LOCATION;VALUE=URI;X-ADDRESS=Laugh Out Loud Comedy Club 618 Northwest Loop 410 San Antonio TX 78216 USA;X-APPLE-RADIUS=500;X-TITLE=618 Northwest Loop 410:geo:-98.5060363,29.5193054
END:VEVENT
BEGIN:VEVENT
DTSTART;TZID=America/Los_Angeles:20261218T193000
DTEND;TZID=America/Los_Angeles:20261218T213000
DTSTAMP:20260424T134023
CREATED:20260423T040000Z
LAST-MODIFIED:20260423T040000Z
UID:10004722-1797622200-1797629400@comedycalendar.com
SUMMARY:Jason Cheny LIVE at San Jose Improv
DESCRIPTION:Official Tickets\nResale Tickets\n\nAbout Jason Cheny\nJason Cheny is a rising stand-up comedian making a name for himself on the national comedy circuit with his sharp\, observational humor and engaging stage presence. Known for his clever writing and relatable perspective on everyday life\, Cheny has been building a loyal following through his live performances and online content. \nHis comedy blends personal storytelling with sharp wit\, delivering laughs that feel both fresh and genuine. Fans can expect a polished\, entertaining set that showcases why Jason Cheny is one of the most exciting up-and-coming voices in stand-up comedy today. \nEvent Details\n\nDate: Friday\, December 18\, 2026 (also Saturday\, December 19)\nTime: 7:30 PM (doors open at 6:30 PM)\nVenue: San Jose Improv\, 62 S Second St\, San Jose\, CA 95113\nAge Restriction: 21+ (valid photo ID required)\n\nAbout the Venue\nThe San Jose Improv is the Bay Area’s premier comedy club\, located in the heart of downtown San Jose. This intimate venue seats approximately 250 guests and is part of the legendary Improv comedy club chain. The club features a full bar and dining menu\, ensuring a complete night-out experience. \nThe San Jose Improv is the perfect place to celebrate the holiday season with great comedy. The warm\, festive atmosphere of the club combined with a night of laughs makes for an unforgettable December outing. Parking is available in nearby downtown garages. \nWhat to Expect\nJason Cheny delivers a full stand-up set in an intimate club setting. Expect sharp material\, great crowd energy\, and the kind of polished performance that comes from a comedian who has put in the work on stages across the country. \nMultiple shows are available across the weekend (Fri Dec 18 and Sat Dec 19). Each show runs approximately 75–90 minutes. This is a fantastic way to close out 2026 with a night of great comedy. \nTicket Information\nTickets are priced from approximately $30 – $65 depending on seating and availability. \n\nOfficial Tickets\nResale Tickets\n\nThis post contains affiliate links. We earn a commission if you purchase tickets through our links at no extra cost to you. \nAll sales are final. Show times subject to change. Valid photo ID may be required for entry.
URL:https://comedycalendar.com/event/jason-cheny-live-at-san-jose-improv/
LOCATION:San Jose Improv\, 62 S Second St\, San Jose\, California\, 95113\, United States
CATEGORIES:Improv,Improv Comedy,Showcase,up Comedy
ATTACH;FMTTYPE=image/jpeg:https://media.ticketmaster.com/en-us/dam/a/3af/969958b2-3e23-41ae-a1e8-8be73f5463af_CUSTOM.jpg
GEO:37.3356413;-121.8883224
X-APPLE-STRUCTURED-LOCATION;VALUE=URI;X-ADDRESS=San Jose Improv 62 S Second St San Jose California 95113 United States;X-APPLE-RADIUS=500;X-TITLE=62 S Second St:geo:-121.8883224,37.3356413
END:VEVENT
END:VCALENDAR