BEGIN:VCALENDAR
VERSION:2.0
PRODID:-//Find Upcoming Comedy Shows Near You | Comedy Calendar - ECPv6.15.20//NONSGML v1.0//EN
CALSCALE:GREGORIAN
METHOD:PUBLISH
X-ORIGINAL-URL:https://comedycalendar.com
X-WR-CALDESC:Events for Find Upcoming Comedy Shows Near You | Comedy Calendar
REFRESH-INTERVAL;VALUE=DURATION:PT1H
X-Robots-Tag:noindex
X-PUBLISHED-TTL:PT1H
BEGIN:VTIMEZONE
TZID:America/Los_Angeles
BEGIN:DAYLIGHT
TZOFFSETFROM:-0800
TZOFFSETTO:-0700
TZNAME:PDT
DTSTART:20250309T100000
END:DAYLIGHT
BEGIN:STANDARD
TZOFFSETFROM:-0700
TZOFFSETTO:-0800
TZNAME:PST
DTSTART:20251102T090000
END:STANDARD
BEGIN:DAYLIGHT
TZOFFSETFROM:-0800
TZOFFSETTO:-0700
TZNAME:PDT
DTSTART:20260308T100000
END:DAYLIGHT
BEGIN:STANDARD
TZOFFSETFROM:-0700
TZOFFSETTO:-0800
TZNAME:PST
DTSTART:20261101T090000
END:STANDARD
BEGIN:DAYLIGHT
TZOFFSETFROM:-0800
TZOFFSETTO:-0700
TZNAME:PDT
DTSTART:20270314T100000
END:DAYLIGHT
BEGIN:STANDARD
TZOFFSETFROM:-0700
TZOFFSETTO:-0800
TZNAME:PST
DTSTART:20271107T090000
END:STANDARD
END:VTIMEZONE
BEGIN:VTIMEZONE
TZID:America/Detroit
BEGIN:DAYLIGHT
TZOFFSETFROM:-0500
TZOFFSETTO:-0400
TZNAME:EDT
DTSTART:20250309T070000
END:DAYLIGHT
BEGIN:STANDARD
TZOFFSETFROM:-0400
TZOFFSETTO:-0500
TZNAME:EST
DTSTART:20251102T060000
END:STANDARD
BEGIN:DAYLIGHT
TZOFFSETFROM:-0500
TZOFFSETTO:-0400
TZNAME:EDT
DTSTART:20260308T070000
END:DAYLIGHT
BEGIN:STANDARD
TZOFFSETFROM:-0400
TZOFFSETTO:-0500
TZNAME:EST
DTSTART:20261101T060000
END:STANDARD
BEGIN:DAYLIGHT
TZOFFSETFROM:-0500
TZOFFSETTO:-0400
TZNAME:EDT
DTSTART:20270314T070000
END:DAYLIGHT
BEGIN:STANDARD
TZOFFSETFROM:-0400
TZOFFSETTO:-0500
TZNAME:EST
DTSTART:20271107T060000
END:STANDARD
END:VTIMEZONE
BEGIN:VEVENT
DTSTART;TZID=America/Los_Angeles:20260424T193000
DTEND;TZID=America/Los_Angeles:20260424T220000
DTSTAMP:20260424T095621
CREATED:20260314T230000Z
LAST-MODIFIED:20260319T163830Z
UID:10002920-1777059000-1777068000@comedycalendar.com
SUMMARY:ISMO: Perseverance Tour LIVE at San Jose Improv
DESCRIPTION:This post contains affiliate links. We earn a commission if you purchase tickets through our links at no extra cost to you. \nOfficial Tickets\nResale Tickets \nISMO: Perseverance Tour LIVE at San Jose Improv\nFinnish comedian ISMO brings his acclaimed Perseverance Tour to the San Jose Improv. Known for his brilliant observations on the English language and American culture\, ISMO has become one of the most beloved international comedians performing today\, with viral clips that have amassed hundreds of millions of views worldwide. \nEvent Details\nDate: Friday\, April 24\, 2026Time: 7:30 PMVenue: San Jose ImprovAddress: 62 S Second St\, San Jose\, CA 95113 \nAbout ISMO\nISMO (Ismo Leikola) is a Finnish stand-up comedian who won the title of World’s Funniest Person at the Nairobi Just For Laughs festival. His viral bits about the English language have been viewed hundreds of millions of times\, and he has appeared on Conan\, The Tonight Show\, and numerous comedy specials. \nWhat to Expect\n\nBrilliant observations on the English language and American culture\nInternationally acclaimed comedy from a world-record holder\nHilarious material from his Perseverance Tour\nAn intimate evening at the San Jose Improv\nA show perfect for fans of clever\, intelligent comedy\n\nVenue Information\nSan Jose Improv is located at 62 S Second Street in downtown San Jose\, one of the Bay Area’s premier comedy clubs offering an intimate setting for world-class stand-up. \nTicket Information\nTickets start from $38. Grab your seats before they sell out! \nOfficial Tickets\nResale Tickets \nThis post contains affiliate links. We earn a commission if you purchase tickets through our links at no extra cost to you.\nAll sales are final. Show times subject to change. Valid photo ID may be required for entry.
URL:https://comedycalendar.com/event/ismo-perseverance-tour-live-at-san-jose-improv/
LOCATION:San Jose Improv\, 62 S Second St\, San Jose\, California\, 95113\, United States
CATEGORIES:Comedy Special,Improv,Stand Up Comedy
ATTACH;FMTTYPE=image/jpeg:https://i.ticketweb.com/i/00/13/25/35/03_Edp.jpg?v=4
GEO:37.3356413;-121.8883224
X-APPLE-STRUCTURED-LOCATION;VALUE=URI;X-ADDRESS=San Jose Improv 62 S Second St San Jose California 95113 United States;X-APPLE-RADIUS=500;X-TITLE=62 S Second St:geo:-121.8883224,37.3356413
END:VEVENT
BEGIN:VEVENT
DTSTART;TZID=America/Detroit:20260424T200000
DTEND;TZID=America/Detroit:20260424T220000
DTSTAMP:20260424T095621
CREATED:20260320T200000Z
LAST-MODIFIED:20260321T235248Z
UID:10003614-1777060800-1777068000@comedycalendar.com
SUMMARY:Pete Correale LIVE at Andiamo Celebrity Showroom
DESCRIPTION:Official TicketsResale Tickets \nAbout the Performer\nPete Correale is a New York-based stand-up comedian known for his sharp wit\, relatable storytelling\, and laid-back delivery. A regular on the New York comedy circuit\, Pete has built a loyal following through his podcast work\, television appearances\, and countless club and theater performances across the country. \nHis comedy draws from everyday life — marriage\, family\, friendships\, and the absurdities of modern living — delivered with the kind of natural\, conversational style that makes audiences feel like they’re hanging out with a funny friend. \nPete Correale is a comedian’s comedian\, beloved by fans and peers alike for his consistent\, high-quality stand-up. \nEvent Details\n\nDate: Friday\, April 24\, 2026\nTime: 8:00 PM\nVenue: Andiamo Celebrity Showroom\, 7096 E 14 Mile Rd\, Warren\, MI 48092\n\nAbout the Venue\nAndiamo Celebrity Showroom is one of Metro Detroit’s premier dinner theater and comedy venues\, located in Warren\, Michigan. The showroom combines world-class Italian dining with top-tier live entertainment\, offering guests a complete night out in one elegant setting. \nWith a capacity of approximately 500 guests\, Andiamo Celebrity Showroom provides an intimate atmosphere where every seat has a great view of the stage. The venue is known for its excellent service\, upscale ambiance\, and the quality of performers it attracts. \nLocated just off I-696 in Warren\, the venue is easily accessible from throughout Metro Detroit and offers ample parking. \nWhat to Expect\nPete Correale delivers a full headline stand-up set in the intimate setting of Andiamo Celebrity Showroom. Expect a night of sharp\, relatable comedy that covers everything from relationships and family life to the quirks of everyday existence. \nThe dinner theater format means you can enjoy a meal before the show\, making this a perfect date night or evening out with friends. Pete’s conversational style is perfectly suited to the intimate showroom setting. \nTicket Information\nTickets range from approximately $35 to $85. Purchase official tickets through Ticketmaster or find resale tickets through VividSeats. \nOfficial TicketsResale Tickets \nThis post contains affiliate links. We may earn a commission at no extra cost to you.
URL:https://comedycalendar.com/event/pete-correale-live-at-andiamo-celebrity-showroom-warren/
LOCATION:Andiamo Celebrity Showroom\, 7096 E 14 Mile Rd\, Warren\, MI\, 48092\, USA
CATEGORIES:Stand Up Comedy
ATTACH;FMTTYPE=image/jpeg:https://s1.ticketm.net/dam/a/076/d2ef0c63-9c05-47ba-b829-0deeea4ae076_EVENT_DETAIL_PAGE_16_9.jpg
GEO:42.5359814;-83.0332986
X-APPLE-STRUCTURED-LOCATION;VALUE=URI;X-ADDRESS=Andiamo Celebrity Showroom 7096 E 14 Mile Rd Warren MI 48092 USA;X-APPLE-RADIUS=500;X-TITLE=7096 E 14 Mile Rd:geo:-83.0332986,42.5359814
END:VEVENT
END:VCALENDAR